BEGIN:VCALENDAR
VERSION:2.0
PRODID:-//Bordeaux Neurocampus - ECPv4.9.10//NONSGML v1.0//EN
CALSCALE:GREGORIAN
METHOD:PUBLISH
X-WR-CALNAME:Bordeaux Neurocampus
X-ORIGINAL-URL:https://www.bordeaux-neurocampus.fr
X-WR-CALDESC:Évènements pour Bordeaux Neurocampus
BEGIN:VTIMEZONE
TZID:Europe/Paris
BEGIN:DAYLIGHT
TZOFFSETFROM:+0100
TZOFFSETTO:+0200
TZNAME:CEST
DTSTART:20210328T010000
END:DAYLIGHT
BEGIN:STANDARD
TZOFFSETFROM:+0200
TZOFFSETTO:+0100
TZNAME:CET
DTSTART:20211031T010000
END:STANDARD
END:VTIMEZONE
BEGIN:VEVENT
DTSTART;TZID=Europe/Paris:20210705T120000
DTEND;TZID=Europe/Paris:20210705T130000
DTSTAMP:20260422T143111
CREATED:20210602T133618Z
LAST-MODIFIED:20210702T102851Z
UID:135620-1625486400-1625490000@www.bordeaux-neurocampus.fr
SUMMARY:Réunion du collectif ACE
DESCRIPTION:(Action Climat Environnement) \nVia zoom. \nhttps://u-bordeaux-fr.zoom.us/j/88640850884?pwd=WS9xUHAyVDdBSmtyRi96UEtLMm42dz09 \nID de réunion : 886 4085 0884\nCode secret : 716179 \nContact à Bordeaux Neurocampus : Arnaud Rodriguez \n  \n
URL:https://www.bordeaux-neurocampus.fr/event/reunion-du-collectif-ace-2/
CATEGORIES:A la une,Hors Bordeaux Neurocampus,Société,Transitions et QVT
END:VEVENT
END:VCALENDAR