BEGIN:VCALENDAR
VERSION:2.0
PRODID:-//Bordeaux Neurocampus - ECPv4.9.10//NONSGML v1.0//EN
CALSCALE:GREGORIAN
METHOD:PUBLISH
X-WR-CALNAME:Bordeaux Neurocampus
X-ORIGINAL-URL:https://www.bordeaux-neurocampus.fr
X-WR-CALDESC:Évènements pour Bordeaux Neurocampus
BEGIN:VTIMEZONE
TZID:Europe/Paris
BEGIN:DAYLIGHT
TZOFFSETFROM:+0100
TZOFFSETTO:+0200
TZNAME:CEST
DTSTART:20240331T010000
END:DAYLIGHT
BEGIN:STANDARD
TZOFFSETFROM:+0200
TZOFFSETTO:+0100
TZNAME:CET
DTSTART:20241027T010000
END:STANDARD
END:VTIMEZONE
BEGIN:VEVENT
DTSTART;TZID=Europe/Paris:20240919T140000
DTEND;TZID=Europe/Paris:20240919T140000
DTSTAMP:20260421T135843
CREATED:20240903T132331Z
LAST-MODIFIED:20240909T133312Z
UID:174879-1726754400-1726754400@www.bordeaux-neurocampus.fr
SUMMARY:Soutenance de thèse - Floriane Uyttersprot
DESCRIPTION:Lieu : centre Broca \nSoutenance en anglais \n\n Floriane Uyttersprot\nIINS\nDirecteur de thèse : Julien Dupuis \nTitre\nExploring the molecular determinants of behavioral changes induced by ketamine at the nanoscale\n\n\n(Caractérisation des déterminants moléculaires des changements comportementaux induits par la kétamine à l’échelle nanométrique)\nRésumé\nLes récepteurs du glutamate de type NMDA (RNMDA) sont des acteurs majeurs de la neurotransmission excitatrice et de la plasticité cérébrale. Leur organisation aux synapses joue un rôle clé dans ces processus\, et est l’objet d’une régulation fine et dynamique dont l’altération cause des troubles neuropsychiatriques sévères. Elle pourrait donc représenter une cible d’intérêt thérapeutique. Dans ce travail\, nous montrons que la kétamine\, un inhibiteur non compétitif des RNMDA\, favorise l’ancrage synaptique des récepteurs et atténue ainsi les symptômes anxieux et dépressifs causés par des auto-anticorps de patients atteints d’encéphalite auto-immune. Nos résultats suggèrent aussi que l’action antidépresseur de la kétamine implique un recâblage des réseaux cérébraux qui pourrait impliquer une réorganisation synaptique sous-type-dépendante des RNMDA. Ces travaux ouvrent la voie à de nouvelles perspectives pour le traitement de maladie mentales impliquant une dysfonction des RNMDA. \n  \nMots-clés : récepteurs NMDA\, kétamine\, nano-organisation\, dépression \nPublications\n Villéga\, F. et al. Ketamine alleviates NMDA receptor hypofunction through synaptic trapping. Neuron S0896627324004902 (2024) doi: 10.1016/j.neuron.2024.06.028. \nJury\nJulien Dupuis (directeur de thèse) \nAna Luisa Carvalho (rapportrice) \nJulie Perroy (rapportrice) \nThomas Freret (examinateur) \nStéphane Oliet (président) \n
URL:https://www.bordeaux-neurocampus.fr/event/soutenance-de-these-floriane-uyttersprot/
CATEGORIES:Thèses
END:VEVENT
END:VCALENDAR