BEGIN:VCALENDAR
VERSION:2.0
PRODID:-//Bordeaux Neurocampus - ECPv4.9.10//NONSGML v1.0//EN
CALSCALE:GREGORIAN
METHOD:PUBLISH
X-WR-CALNAME:Bordeaux Neurocampus
X-ORIGINAL-URL:https://www.bordeaux-neurocampus.fr
X-WR-CALDESC:Évènements pour Bordeaux Neurocampus
BEGIN:VTIMEZONE
TZID:Europe/Paris
BEGIN:DAYLIGHT
TZOFFSETFROM:+0100
TZOFFSETTO:+0200
TZNAME:CEST
DTSTART:20240331T010000
END:DAYLIGHT
BEGIN:STANDARD
TZOFFSETFROM:+0200
TZOFFSETTO:+0100
TZNAME:CET
DTSTART:20241027T010000
END:STANDARD
END:VTIMEZONE
BEGIN:VEVENT
DTSTART;TZID=Europe/Paris:20240701T143000
DTEND;TZID=Europe/Paris:20240701T143000
DTSTAMP:20260421T172032
CREATED:20240611T170611Z
LAST-MODIFIED:20240624T093102Z
UID:172361-1719844200-1719844200@www.bordeaux-neurocampus.fr
SUMMARY:Soutenance de thèse -  Aurore Jouvencel
DESCRIPTION:Lieu : BBS \nEgalement via Zoom:  https://u-bordeaux-fr.zoom.us/j/87806586537\nID de réunion: 878 0658 6537 \nSoutenance en français \n\nAurore Jouvencel\nEquipe : SWAN\nThèse dirigée par Gwénaëlle Catheline \nTitre\nCycle veille-sommeil et vulnérabilité cérébrale de la personne âgée : étude d’imagerie et d’actimétrie \nRésumé\nAvec le nombre croissant de personnes âgées dans nos sociétés\, nous devons mieux comprendre les facteurs de risque de morbidité et de mortalité. Nous nous sommes intéressés à un facteur de risque modifiable des maladies neurodégénératives\, le cycle veille-sommeil. L’objectif principal de cette thèse était de déterminer comment les perturbations du sommeil et du cycle veille-sommeil peuvent constituer des facteurs de vulnérabilité cérébrale. Nous avons utilisé une combinaison de mesures écologiques du cycle veille-sommeil et d’imagerie multimodale collectées auprès de cohortes de volontaires français et néerlandais afin de comprendre de manière exhaustive la relation entre le cycle veille-sommeil et la santé cérébrale. Nous avons d’abord montré la complémentarité des méthodes objectives et subjectives (actimétrie et PSQI) pour évaluer la qualité et la durée du sommeil. Mais dans une cohorte de personnes âgées françaises vivant à la campagne\, la mesure subjective des problèmes de sommeil était particulière\, elle était positivement corrélée aux capacités cognitives\, allant à l’encontre la littérature. Cela souligne la nécessité d’utiliser une mesure objective du sommeil dans ce type de population. En étudiant les liens entre la qualité du sommeil et la fréquence auto-déclarée des vertiges\, nous avons pu observer que la mauvaise qualité subjective du sommeil était significativement liée à la prévalence des vertiges\, tandis qu’aucun lien n’était observé avec les mesures objectives du sommeil. \nEnsuite\, nous avons démontré que la variabilité jour à jour de la qualité objective du sommeil en début de nuit était liée à une plus grande accumulation de protéines bêta-amyloïdes dans le cerveau de sujets âgés sans troubles cognitifs. Ces résultats pourraient résulter d’une efficacité de clairance moindre du système glymphatique chez les sujets ayant un sommeil variable. \nEnfin\, en évaluant l’évolution des paramètres actimétriques sept ans plus tard\, nous avons observé que la qualité du sommeil des personnes de plus de 70 ans reste stable tandis que leur cycle veille-sommeil se détériore. De plus\, nous avons observé que cette dégradation était liée à des volumes plus petits de l’hippocampe antérieur\, une structure particulièrement vulnérable au vieillissement. Nous n’avons pas observé de lien entre la dégradation du cycle veille-sommeil et la connectivité fonctionnelle de cette structure. \nL’ensemble de nos résultats suggère que la variabilité jour à jour du sommeil et celle du cycle veille-sommeil\, semblent être de bons prédicteurs des marqueurs d’un vieillissement cérébral plus marqué\, au travers de leur lien avec deux des marqueurs prodromaux de la maladie d’Alzheimer\, la charge amyloïde cérébrale et l’atrophie hippocampique. \nMOTS-CLÉS : Sommeil\, Cycle veille-sommeil\, IRM\, Actimétrie \nPublications\nSleep and dizziness in middle-aged and elderly persons: A cross-sectional population-based study\nSanne J.W. Hoepel\, Aurore Jouvencel\, Anne van Linge\, André Goedegebure\, Ellemarije Altena\, Annemarie I. Luik.\n Sleep Epidemiology. 2023-12-01.\n10.1016/j.sleepe.2023.100066 \nNight-to-night variability in sleep and amyloid beta burden in normal aging\nAurore Jouvencel\, Marion Baillet\, Marie Meyer\, Bixente Dilharreguy\, Frederic Lamare\, Karine Pérès\, Catherine Helmer\, Jean-François Dartigues\, Hélène Amieva\, Willy Mayo\, Gwenaëlle Catheline\nAlzheimer’s & Dementia – 11 September 2023\ndoi.org/10.1002/dad2.12460 \nJury\n\nYsbrand VAN DER WERF\nProfesseur\, UMC Amsterdam Rapporteur \nChristina SCHMIDT\nProfesseure\, Université de Liège Rapporteure \nMickaël LAISNEY\nMaitre de Conférence\, EPHE Examinateur \nJean-Arthur MICOULAUD FRANCHI\nProfesseur\, CHU Bordeaux Examinateur \nSéverine SABIA\nProfesseure\, INSERM Examinatrice \nGwenaëlle CATHELINE\nDE\, EPHE Directrice de thèse \n\n\n
URL:https://www.bordeaux-neurocampus.fr/event/soutenance-de-these-aurore-jouvencel/
CATEGORIES:Thèses
END:VEVENT
END:VCALENDAR