BEGIN:VCALENDAR
VERSION:2.0
PRODID:-//Bordeaux Neurocampus - ECPv4.9.10//NONSGML v1.0//EN
CALSCALE:GREGORIAN
METHOD:PUBLISH
X-WR-CALNAME:Bordeaux Neurocampus
X-ORIGINAL-URL:https://www.bordeaux-neurocampus.fr
X-WR-CALDESC:Évènements pour Bordeaux Neurocampus
BEGIN:VTIMEZONE
TZID:Europe/Paris
BEGIN:DAYLIGHT
TZOFFSETFROM:+0100
TZOFFSETTO:+0200
TZNAME:CEST
DTSTART:20240331T010000
END:DAYLIGHT
BEGIN:STANDARD
TZOFFSETFROM:+0200
TZOFFSETTO:+0100
TZNAME:CET
DTSTART:20241027T010000
END:STANDARD
END:VTIMEZONE
BEGIN:VEVENT
DTSTART;TZID=Europe/Paris:20240620T140000
DTEND;TZID=Europe/Paris:20240620T140000
DTSTAMP:20260421T190605
CREATED:20240528T155341Z
LAST-MODIFIED:20240611T172752Z
UID:171882-1718892000-1718892000@www.bordeaux-neurocampus.fr
SUMMARY:Soutenance de thèse - Jeremy Lesas
DESCRIPTION:Lieu : Centre Broca Nouvelle Aquitaine \nThèse à huit clos : déclaration de confidentialité à signer en accédant à la soutenance \n\nJeremy Lesas\nEquipe Herry (Magendie) \nTitre\nContrôler la peur chez la souris à l’aide d’outils de stimulation du cortex préfrontal relevant de la clinique. \nControlling fear in mice with clinically relevant stimulation of the prefrontal cortex \nRésumé\nLes pathologies neuropsychiatriques touchent une part importante de la population. Plusieurs types de stratégies thérapeutiques existent pour la prise en charge de ces maladies\, comme les médicaments\, la thérapie fonctionnelle et la neurostimulation. Cette dernière est déjà prouvée utile pour des pathologies comme la maladie de Parkinson\, la dépression majeure ou les troubles obsessionnels compulsifs\, mais reste inefficace pour le traitement des troubles anxieux : ceux-ci représentent pourtant une grande partie des affections psychiatriques résistantes. Ce projet vise à développer l’optogénétique\, une technique récente qui a déjà révolutionné la recherche en neurosciences\, afin d’ouvrir des portes vers sa translation clinique\, et à la combiner avec des connaissances de pointe sur la physiologie de la peur et des troubles anxieux au moyen d’outils de stimulation en boucle fermée du cortex préfrontal. \nNeuropsychiatric disorders affect an important part of the population. Several types of therapeutic strategies exist for the care of these disorders\, such as drugs\, functional therapy and neurostimulation. This latter has already proven effective for disorders such as Parkinson’s disease\, major depression or obsessive-compulsive disorders\, but is still ineffective for anxiety disorders : yet they represent an important part of resistant psychiatric conditions. This project aims at developing optogenetics\, a recent technique which already revolutionized neuroscientific research\, to open doors for its clinical translation\, and to combine it with advanced knowledge on the physiology of fear and anxiety disorders using closed-loop stimulation of the prefrontal cortex. \nPublication\nen révision à Advanced Healthcare Materials :\nDye-based Fluorescent Organic Nanoparticles\, New Promising Tools for Optogenetics\nJeremy Lesas\, Thomas Bienvenu\, Eleonore Kurek\, Jean-Baptiste Verlhac\, Delphine Girard\, Frédéric Lanore\, Mireille Blanchard-Desce\, Cyril Herry\, Jonathan Daniel* and Cyril Dejean* \nJury\nDirecteur de thèse : Dr. DEJEAN Cyril \nMembres du jury :\nDr. HUMEAU Yann\, Directeur de recherche\, CNRS\nPr. VETERE Gisella\, Professeur\, ESPCI\nPr. BOUZIGUES Cédric\, Professeur assistant\, École Polytechnique\nPr. GUEHL Dominique\, PU-PH\, Université de Bordeaux\nDr. FERY-FORGUES Suzanne\, Directrice de recherche\, Université Toulouse III\nDr. BUI Ngoc Anh Thy\, Chargée de recherche\, Université de Bordeaux \nMembres invités :\nDr. DANIEL Jonathan\, Ingénieur de recherche\, Université de Bordeaux\nDr. BIENVENU Thomas\, Maître de conférences\, Université de Bordeaux \n
URL:https://www.bordeaux-neurocampus.fr/event/soutenance-de-these-jeremy-lesas/
CATEGORIES:Thèses
END:VEVENT
END:VCALENDAR