BEGIN:VCALENDAR
VERSION:2.0
PRODID:-//Bordeaux Neurocampus - ECPv4.9.10//NONSGML v1.0//EN
CALSCALE:GREGORIAN
METHOD:PUBLISH
X-WR-CALNAME:Bordeaux Neurocampus
X-ORIGINAL-URL:https://www.bordeaux-neurocampus.fr
X-WR-CALDESC:Évènements pour Bordeaux Neurocampus
BEGIN:VTIMEZONE
TZID:Europe/Paris
BEGIN:DAYLIGHT
TZOFFSETFROM:+0100
TZOFFSETTO:+0200
TZNAME:CEST
DTSTART:20190331T010000
END:DAYLIGHT
BEGIN:STANDARD
TZOFFSETFROM:+0200
TZOFFSETTO:+0100
TZNAME:CET
DTSTART:20191027T010000
END:STANDARD
END:VTIMEZONE
BEGIN:VEVENT
DTSTART;TZID=Europe/Paris:20191115T093000
DTEND;TZID=Europe/Paris:20191115T113000
DTSTAMP:20260425T203751
CREATED:20191022T091916Z
LAST-MODIFIED:20191030T141907Z
UID:112296-1573810200-1573817400@www.bordeaux-neurocampus.fr
SUMMARY:Soutenance de thèse - Ani Augustine Jose
DESCRIPTION:RESOLFT Nanoscopy To Study Cellular Adhesions\n \nAni Augustine Jose \nThesis supervisor: Brahim Lounis\,\nCo-supervisor : Gregory Giannone \nAbstract\nLes cellules peuvent ajuster leur adhésion au substrat et leur cytosquelette en fonction des variations de nature biochimique et physique de leur environnement. En retour\, les cellules peuvent également contrôler leur microenvironnement en adhérant et en générant des forces sur les cellules voisines et la matrice extracellulaire. Les adhérences focales (AF) dépendantes des intégrines sont ainsi les zones de convergences de ces interactions\, intégrant les signaux biochimiques et biomécaniques entre les composants intracellulaires et extracellulaires. Diverses fonctions cellulaires liées aux AF sont associées à la formation et à la cohésion des tissus. Les cellules cancéreuses qui se propagent dans le système circulatoire utilisent des mécanismes associés à l’adhésion cellulaire pour établir de nouvelles tumeurs dans le corps.\nLes techniques nanoscopiques ont révolutionné l’étude des structures biologiques en permettant à la microscopie optique d’imager sous la limite de diffraction. Le RESOLFT (Reversible Saturable OpticaL Fluorescent Transitions) permet de dépasser cette limite de diffraction en réduisant le volume d’émission par un procédé réversible On-Off. Après avoir étudié la photophysique de la protéine fluorescente rsEGFP2 qui a la propriété d’être réversiblement commutable\, nous avons utilisé les paramètres photophysiques obtenus dans la construction d’un nanoscope RESOLFT. L’utilisation de cette approche a permis d’acquisition d’image à une résolution 4 fois supérieure à la limite de diffraction (~55 nm). Le RESOLFT présente aussi l’avantage de ne nécessiter qu’une faible intensité laser\, ce qui réduit l’effet de photo-blanchiment et permet des acquisitions longues sur cellules vivantes.\nNous avons ensuite utilisé le RESOLFT pour étudier l’initiation\, la stabilisation et le désassemblage des AF. Nous avons pu étudier la réorganisation dynamique de diverses protéines impliquées dans la formation d’AF sur des fibroblastes embryonnaires murin et des tissus ovariens de drosophila melanogaster. Nous avons observé au sein des AF des amas de β3-integrin-rsEGFP2 dont la taille est inferieurs à la limite de diffraction\, prouvant ainsi la capacité du RESOLFT à étudier la réorganisation à l’échelle nanométrique des protéines dans les AF. Nous avons aussi observé une réorganisation rapide des amas de β3-integrin-rsEGFP2 à l’intérieur des AF\, la durée de vie des amas n’étant que de quelques dizaines de secondes. Ces données sous-tendent un modèle de remodelage constant des amas des protéines des AF. Il était également évident que seule une faible densité d’amas d’intégrines est nécessaire pour maintenir les AF. De plus\, nous avons observé un flux rétrograde d’amas de talin-rsEGFP2 dans les AF. La vitesse mesurée de ce flux s’est avérée similaire à celle obtenue par suivi de molécules uniques. Nous avons également étudié la dynamique des amas de zyxine dans les AF et observé des fluctuations du taux de zyxine au sein des AF. Nos expériences indiquent un lien entre ces fluctuations et les forces mécaniques existantes dans les AF.\nEnfin\, pour augmenter la vitesse d’acquisition\, nous avons parallélisé notre configuration RESOLFT à l’aide d’un lattice optique. Les lattice optiques sont des configurations périodiques de lumière formées par interférence. Comparé à notre première implémentation du RESOLFT\, qui permet de sonder qu’un seul point à la fois\, les lattice optiques peuvent être utilisés pour sonder simultanément plusieurs points. Nous avons également mis en place un deuxième lattice optique permettant la commutation du fluorophore\, ce qui nous a permis de réduire les effets de photo-blanchiment lors de l’imagerie. Cette configuration en double lattice nous a permis d’obtenir une série d’images (>30 images) de nanostructures avec des résolutions proches de 55 nm sur des cellules vivantes à une fréquence de 0\,3 Hz sur un champ de vision 15×15 μm2. \nKeywords: Adhesion Cellulaire\, Nanoscopie\, RESOLFT\, lattice-RESOLFT\, Cell Adhesion\, Nanoscopy\, RESOLFT\, lattice-RESOLFT \nJury\nValentin NÄGERL Professeur (Université de Bordeaux)\nStefan JAKOBS Professeur (Max Planck Institute – Göttingen)\nDominique BOURGEOIS Directeur de Recherche (IBS – Grenoble)\nRenaud POINCLOUX Ingénieur de Recherche (IPBS – Toulouse)\nSophie BRASSELET Directrice de Recherche (Institut Fresnel – Marseille)\nJean-Baptiste TREBBIA Chargé de Recherche (IOGS – Bordeaux)\nBrahim LOUNIS Professeur (Université de Bordeaux)\nGregory GIANNONE Directeur de Recherche (IINS – Bordeaux) \n
URL:https://www.bordeaux-neurocampus.fr/event/soutenance-de-these-jose-ani-augustine/
CATEGORIES:Thèses
END:VEVENT
END:VCALENDAR