BEGIN:VCALENDAR
VERSION:2.0
PRODID:-//Bordeaux Neurocampus - ECPv4.9.10//NONSGML v1.0//EN
CALSCALE:GREGORIAN
METHOD:PUBLISH
X-WR-CALNAME:Bordeaux Neurocampus
X-ORIGINAL-URL:https://www.bordeaux-neurocampus.fr
X-WR-CALDESC:Évènements pour Bordeaux Neurocampus
BEGIN:VTIMEZONE
TZID:Europe/Paris
BEGIN:DAYLIGHT
TZOFFSETFROM:+0100
TZOFFSETTO:+0200
TZNAME:CEST
DTSTART:20190331T010000
END:DAYLIGHT
BEGIN:STANDARD
TZOFFSETFROM:+0200
TZOFFSETTO:+0100
TZNAME:CET
DTSTART:20191027T010000
END:STANDARD
END:VTIMEZONE
BEGIN:VEVENT
DTSTART;TZID=Europe/Paris:20190930T140000
DTEND;TZID=Europe/Paris:20190930T140000
DTSTAMP:20260425T222617
CREATED:20190708T113929Z
LAST-MODIFIED:20190911T135047Z
UID:109376-1569852000-1569852000@www.bordeaux-neurocampus.fr
SUMMARY:Soutenance de thèse - Marie-Laure Arotcarena
DESCRIPTION:\n	\n		\n			Lieu : Centre Broca Nouvelle-Aquitaine / Salle de conférence \n\nMarie-Laure Arotcarena\nIMN – Equipe Physiopathologie des syndromes parkinsoniens \nDirecteur de thèse : Benjamin Dehay \n\n		\n	\n»Résumé\n\n	\n		\n			Mon projet de thèse a été dédié à l’étude des synucléinopathies. Ces maladies neurodégénératives sont caractérisées par la présence d’inclusions intracytoplasmiques positives pour l’a-synucléine et contenues dans les neurones pour la maladie de Parkinson (i.e. les corps de Lewy) ou dans les oligodendrocytes pour l’atrophie multisystématisée (i.e. les inclusions cytoplasmiques oligodendrogliales). L’objectif de mon travail de thèse fut de proposer une approche multifactorielle et translationnelle en développant les aspects de modélisation\, de mécanistiques et de thérapeutiques associées aux synucléinopathies. Nous nous sommes tout d’abord intéressés à disséquer les mécanismes sous-jacents à la neurodégénérescence induits par la protéine alpha-synucléine dans un modèle primate non-humain de la maladie de Parkinson. Nous avons ainsi souligné le rôle toxique de la protéine a-synucléine et mis en lumière de nouveaux processus cellulaires impliqués dans le phénomène de neurodégénérescence. Dans ce même modèle animal\, nous avons étudié l’hypothèse d’une propagation de la pathologie induite par l’alpha-synucléine entre les systèmes nerveux centraux et périphériques. Nous avons ainsi pu démontrer l’existence d’une route bidirectionnelle de propagation et de neurodégénérescence de la protéine entre les deux systèmes nerveux\, pouvant corroborer la présence de symptômes non moteurs précoces au cours de la pathologie. Enfin\, nous nous sommes concentrés sur le rétablissement de la fonction autophagique comme cible thérapeutique commune aux synucléinopathies. Nous avons ainsi pu démontrer qu’une restauration de la machinerie de dégradation de la voie autophagie était suffisante pour rétablir les taux physiologiques de la protéine alpha-synucléine et induire une neuroprotection dans un modèle rongeur de la maladie de Parkinson et d’atrophie multi-systématisée. Ces travaux corroborent le rôle clé de la protéine a-synucléine dans l’étiologie des synucléinopathies et proposent de nouvelles stratégies thérapeutiques communes à toutes les synucléinopathies afin de rétablir les niveaux physiologiques cellulaires de la protéine et une neuroprotection au sein du système nerveux central. \n\n		\n	\n»Publications\n\n	\n		\n			En révision : \nArotcarena\, M.L; Dovero\, S; Prigent\, A; Bourdenx\, M; and al.\, Bidirectional gut-to-brain and brain-to-gut propagation of α-synuclein pathology in non-human primates. 1st co-author. \nBourdenx\, M; Nioche\, A; Dovero\, S; Arotcarena M.L and al.\, Machine learning reveals different pathological signatures of patient-derived α-synuclein extracts in non-human primates. 1st co-author. \nPublié : \nArotcarena\, M.-L. Bourdenx\, M. et al. Transcription factor EB overexpression prevents neurodegeneration in experimental synucleinopathies. JCI Insight. 2019;4(16):e129719. https://doi.org/10.1172/jci.insight.129719 \nArotcarena\, M.L and B. Dehay\, Les synucléinopathies sont-elles des maladies à prions ? Pratique Neurologique FMC (2018)\, 2018. https://doi.org/10.1016/j.praneu.2018.02.006 \nArotcarena ML\, Teil M\, Dehay B (2019) Autophagy in Synucleinopathy: The Overwhelmed and Defective Machinery. Cells (2019)\, 8(6)\, 565; https://doi.org/10.3390/cells8060565 \n\n		\n	\n»Jury\n\n	\n		\n			Mme Nadine Camougrand (DR2\, CNRS) – IBGC – Bordeaux (Présidente du jury) \nMme Olga Corti (DR2\, INSERM) – Institut du cerveau et de la Moelle épinière (ICM)\, Paris (Rapporteur) \nMr. Philippe Hantraye (DR1\, CNRS) – Institut de Biologie François Jacob\, MIRCen\, CEA\, Paris-Saclay (Rapporteur) \n\n		\n	\n\n
URL:https://www.bordeaux-neurocampus.fr/event/soutenance-de-these-marie-laure-arotcarena/
CATEGORIES:Thèses
END:VEVENT
END:VCALENDAR