BEGIN:VCALENDAR
VERSION:2.0
PRODID:-//Bordeaux Neurocampus - ECPv4.9.10//NONSGML v1.0//EN
CALSCALE:GREGORIAN
METHOD:PUBLISH
X-WR-CALNAME:Bordeaux Neurocampus
X-ORIGINAL-URL:https://www.bordeaux-neurocampus.fr
X-WR-CALDESC:Évènements pour Bordeaux Neurocampus
BEGIN:VTIMEZONE
TZID:Europe/Paris
BEGIN:DAYLIGHT
TZOFFSETFROM:+0100
TZOFFSETTO:+0200
TZNAME:CEST
DTSTART:20250330T010000
END:DAYLIGHT
BEGIN:STANDARD
TZOFFSETFROM:+0200
TZOFFSETTO:+0100
TZNAME:CET
DTSTART:20251026T010000
END:STANDARD
END:VTIMEZONE
BEGIN:VEVENT
DTSTART;VALUE=DATE:20250206
DTEND;VALUE=DATE:20250208
DTSTAMP:20260424T234356
CREATED:20250123T155553Z
LAST-MODIFIED:20250206T124544Z
UID:179978-1738800000-1738972799@www.bordeaux-neurocampus.fr
SUMMARY:Colloque interdisciplinaire : « Surveiller en démocratie. Quels bilans ? Quelles perspectives ? »
DESCRIPTION:L’Observatoire de la surveillance en démocratie réunit des chercheurs de différentes disciplines (droit\, informatique\, philosophie\, santé publique et sciences politiques). Créé en 2023 par le CERCCLE\, Bordeaux Population Heath et le LaBRI\, il vous convie au colloque interdisciplinaire « Surveiller en démocratie. Quels bilans ? Quelles perspectives ? ». Cet évènement aura lieu les 6 et 7 février 2025 à l’amphithéâtre Léon Duguit – Université de Bordeaux – 35 place Pey Berland – Bordeaux. \nDans une perspective critique\, il vise à confronter les points de vue de chercheurs et experts de différentes disciplines sur les principaux enjeux des technologies de surveillance à l’aune des impératifs démocratiques et du respect des droits fondamentaux. \nParmi les organisateurs : Nicolas Rougier et Frédéric Alexandre (Inria\, IMN). Avec également la participation de Cédric Brun (Univ. Bordeaux Montaigne\, IMN) \nEn savoir plus \n
URL:https://www.bordeaux-neurocampus.fr/event/colloque-interdisciplinaire-surveiller-en-democratie-quels-bilans-quelles-perspectives/
CATEGORIES:Société
END:VEVENT
END:VCALENDAR