BEGIN:VCALENDAR
VERSION:2.0
PRODID:-//Bordeaux Neurocampus - ECPv4.9.10//NONSGML v1.0//EN
CALSCALE:GREGORIAN
METHOD:PUBLISH
X-WR-CALNAME:Bordeaux Neurocampus
X-ORIGINAL-URL:https://www.bordeaux-neurocampus.fr
X-WR-CALDESC:Évènements pour Bordeaux Neurocampus
BEGIN:VTIMEZONE
TZID:Europe/Paris
BEGIN:DAYLIGHT
TZOFFSETFROM:+0100
TZOFFSETTO:+0200
TZNAME:CEST
DTSTART:20190331T010000
END:DAYLIGHT
BEGIN:STANDARD
TZOFFSETFROM:+0200
TZOFFSETTO:+0100
TZNAME:CET
DTSTART:20191027T010000
END:STANDARD
END:VTIMEZONE
BEGIN:VEVENT
DTSTART;TZID=Europe/Paris:20190315T093000
DTEND;TZID=Europe/Paris:20190315T113000
DTSTAMP:20260424T063434
CREATED:20190305T145537Z
LAST-MODIFIED:20190306T150851Z
UID:103936-1552642200-1552649400@www.bordeaux-neurocampus.fr
SUMMARY:Présentation - société Thermo Fisher Scientific
DESCRIPTION:La société Thermo Fisher Scientific organise le vendredi 15 mars un séminaire à destination des chercheurs Bordelais sur les outils essentiels en microscopie de fluorescence et analyse haut-débit en Biologie. \nTélécharger le flyer \n9h30 – 10h30 : Séminaire de présentation des sondes et applications utilisant la microscopie de fluorescence et l’analyse haut débit (détails en fichier joint) – Mike James\, Senior Staff Scientist\, R&D Molecular Probes \n10h30 – 11h30 : Discussion et questions sur vos applications autour du nouveau microscope EVOS M5000. \n  \nLieu : Centre de Génomique Fonctionnelle de Bordeaux – Salle de réunion sud \n  \nVous souhaitez participer : Inscription gratuite et obligatoire (pour des raisons logistiques) auprès de Alexis MOUGEOLLE : alexis.mougeolle@thermofisher.com – 06 17 25 45 54 \n  \n
URL:https://www.bordeaux-neurocampus.fr/event/presentation-commerciale/
CATEGORIES:Stand ou séminaire commercial
END:VEVENT
END:VCALENDAR