BEGIN:VCALENDAR
VERSION:2.0
PRODID:-//Bordeaux Neurocampus - ECPv4.9.10//NONSGML v1.0//EN
CALSCALE:GREGORIAN
METHOD:PUBLISH
X-WR-CALNAME:Bordeaux Neurocampus
X-ORIGINAL-URL:https://www.bordeaux-neurocampus.fr
X-WR-CALDESC:Évènements pour Bordeaux Neurocampus
BEGIN:VTIMEZONE
TZID:Europe/Paris
BEGIN:DAYLIGHT
TZOFFSETFROM:+0100
TZOFFSETTO:+0200
TZNAME:CEST
DTSTART:20250330T010000
END:DAYLIGHT
BEGIN:STANDARD
TZOFFSETFROM:+0200
TZOFFSETTO:+0100
TZNAME:CET
DTSTART:20251026T010000
END:STANDARD
END:VTIMEZONE
BEGIN:VEVENT
DTSTART;TZID=Europe/Paris:20251015T170000
DTEND;TZID=Europe/Paris:20251015T190000
DTSTAMP:20260424T192138
CREATED:20250928T172201Z
LAST-MODIFIED:20250928T172201Z
UID:188305-1760547600-1760554800@www.bordeaux-neurocampus.fr
SUMMARY:Rencontre-dédicace - "Une insatiable envie de douceur"
DESCRIPTION:Lieu : Librairie Krazyt Kat\n11-15 rue St James\, Bordeaux \n\nVenez discuter avec Fiammetta Ghedini & Serge Ahmed sur l’addiction au sucre et ses ravages\, suite à la parution de la BD « Une insatiable envie de douceur »\, parue chez Dargaud le 26 septembre. \nL’autrice\, Fiammetta Ghedini\, chercheuse et experte en communication scientifique se lance\, avec le dessin\, dans une enquête fouillée sur le sucre\, un des sujets les plus visés aujourd’hui. À partir de son expérience personnelle\, sans morale\, ni recette\, l’autrice interroge des chercheurs et des journalistes sur notre addiction au sucre dans notre quotidien. Une analyse passionnante et éclairante sur ce poison doux-amer dont on ne peut se passer. \n\n17h-17h45 : rencontre\n18h-19h : Dédicace\n\nVoir la présentation et un extrait sur www.dargaud.com \n
URL:https://www.bordeaux-neurocampus.fr/event/rencontre-dedicace-une-insatiable-envie-de-douceur/
CATEGORIES:Evénements pour tous,pour tous homepage
END:VEVENT
END:VCALENDAR