BEGIN:VCALENDAR
VERSION:2.0
PRODID:-//Bordeaux Neurocampus - ECPv4.9.10//NONSGML v1.0//EN
CALSCALE:GREGORIAN
METHOD:PUBLISH
X-WR-CALNAME:Bordeaux Neurocampus
X-ORIGINAL-URL:https://www.bordeaux-neurocampus.fr
X-WR-CALDESC:Évènements pour Bordeaux Neurocampus
BEGIN:VTIMEZONE
TZID:Europe/Paris
BEGIN:DAYLIGHT
TZOFFSETFROM:+0100
TZOFFSETTO:+0200
TZNAME:CEST
DTSTART:20250330T010000
END:DAYLIGHT
BEGIN:STANDARD
TZOFFSETFROM:+0200
TZOFFSETTO:+0100
TZNAME:CET
DTSTART:20251026T010000
END:STANDARD
END:VTIMEZONE
BEGIN:VEVENT
DTSTART;VALUE=DATE:20250324
DTEND;VALUE=DATE:20250326
DTSTAMP:20260421T160218
CREATED:20241122T153557Z
LAST-MODIFIED:20250320T080702Z
UID:177926-1742774400-1742947199@www.bordeaux-neurocampus.fr
SUMMARY:Franco-japanese meeting - Nutrition-Brain
DESCRIPTION:Venue: Centre Broca \n\nVisit of Students from Kyoto Women University \nProgram of the Monday 24 March: \n9:30 Welcome with coffee\, unformal exchanges between french (neurosciences\, nutrition) and japanese students. The students will come with posters that will be displayed in the hall about Japanese culture and food. \n11:00 – Pr Masahiro Tsuji lecture\nTopic: Impacts of food/nutrition for neurodevelopment in fetuses and infants\nFor the Bordeaux Master Neurosciences\, Nutrition and PhD students. \n12:00-14:30 Lunch \n14:30-15:00 Presentation of Bordeaux Neurocampus for japanese students \n15:00-16:00 Visit of BIC for japanese students \n
URL:https://www.bordeaux-neurocampus.fr/event/franco-japanese-meeting-nutrition-brain/
CATEGORIES:Nutrineuro,Pour les scientifiques,Symposiums
END:VEVENT
BEGIN:VEVENT
DTSTART;TZID=Europe/Paris:20250325T120000
DTEND;TZID=Europe/Paris:20250325T130000
DTSTAMP:20260421T160218
CREATED:20250318T135725Z
LAST-MODIFIED:20250318T135725Z
UID:181722-1742904000-1742907600@www.bordeaux-neurocampus.fr
SUMMARY:Webinaire "L'HEURE HEKA": "L’entrepreneuriat deeptech au féminin : où sont les plafonds de verre qu’il faut briser ?"
DESCRIPTION:Dans le cadre des Pôles Universitaires d’Innovation (Bordeaux\, Sud-Aquitaine Innovation\, Open Campus Innov)\, la SATT Aquitaine Science Transfert vous invite au cycle de webinaires l’Heure Heka\, sur le lien entre recherche\, innovation et impact. \nLa place des femmes dans nos sociétés\, et notamment la place des femmes dans l’entrepreneuriat\, ne va toujours pas de soi ! 44% des créateurs d’entreprises sont des femmes. La recherche publique reste également très masculine : moins de 30% de femmes dirigent les unités de recherche ! Et 38% des chercheurs sont des femmes !\nOù sont les plafonds de verre ? \nL’heure Heka adressera cette question lors du prochain webinaire\, le mardi 25 mars de 12h à 13h\, avec le témoignage éclairé de deux représentantes de l’entrepreneuriat au féminin\, issues de la recherche publique. \n\nChristine Guillen\, PDG d’Angany\nEntrepreneuse expérimentée\, Christine Guillen est PDG d’Angany\, entreprise pharmaceutique innovante souhaitant améliorer la vie des personnes souffrant d’allergies. Après un DEA de biotechnologie thérapeutique et un doctorat en biotechnologie\, Christine a rejoint le monde de l’entreprise\, mené à bien des projets scientifiques et depuis 11 ans dirige des entreprises. Lancée dans l’entrepreneuriat biotech elle navigue entre la France et le Canada pour sa nouvelle société\, Angany.\nMadeleine Moscatelli\, CEO et co-fondatrice de BeLiver\nSa société vient d’être créée ! Madeleine Moscatelli est une jeune entrepreneuse qui\, en est déjà à sa seconde création d’entreprise. Avec Beliver\, elle veut réinventer le choix de traitement des cancers avec une technologie tout à fait innovante. Avec deux masters en poche de l’université Pierre et Marie Curie et de l’Institut Pasteur\, un diplôme universitaire en bio-informatique\, et un doctorat en épigénétique Madeleine s’est consacrée à la recherche au sein de l’unité mixte de recherche épigénétique et destin cellulaire avant de se lancer directement dans l’entrepreneuriat.\n\n\nJe m’inscris au webinaire \nLe lien vous sera envoyé suite à l’inscription \n
URL:https://www.bordeaux-neurocampus.fr/event/webinaire-lheure-heka-lentrepreneuriat-deeptech-au-feminin-ou-sont-les-plafonds-de-verre-quil-faut-briser/
CATEGORIES:A la une,Pour les scientifiques
END:VEVENT
END:VCALENDAR