BEGIN:VCALENDAR
VERSION:2.0
PRODID:-//Bordeaux Neurocampus - ECPv4.9.10//NONSGML v1.0//EN
CALSCALE:GREGORIAN
METHOD:PUBLISH
X-WR-CALNAME:Bordeaux Neurocampus
X-ORIGINAL-URL:https://www.bordeaux-neurocampus.fr
X-WR-CALDESC:Évènements pour Bordeaux Neurocampus
BEGIN:VTIMEZONE
TZID:Europe/Paris
BEGIN:DAYLIGHT
TZOFFSETFROM:+0100
TZOFFSETTO:+0200
TZNAME:CEST
DTSTART:20240331T010000
END:DAYLIGHT
BEGIN:STANDARD
TZOFFSETFROM:+0200
TZOFFSETTO:+0100
TZNAME:CET
DTSTART:20241027T010000
END:STANDARD
END:VTIMEZONE
BEGIN:VEVENT
DTSTART;VALUE=DATE:20240612
DTEND;VALUE=DATE:20240615
DTSTAMP:20260422T073812
CREATED:20231018T133517Z
LAST-MODIFIED:20240611T151606Z
UID:163416-1718150400-1718409599@www.bordeaux-neurocampus.fr
SUMMARY:Eurogenesis
DESCRIPTION:Venue : Campus Victoire\, Bordeaux \n\nLocal organizer: Nora Abrous (Neurocentre Magendie) \nRegistrations and abstract submissions are open for the 5th edition of Eurogenesis (Adult Neurogenesis in Physiology and Disease) that will take place on June 12th to 14th\, 2024 in Bordeaux \n Early bird registrations deadline : April\, 8th. \nVenue: Campus Victoire\, Bordeaux \nAbout the conference\nThe adult brain is not as fixed and immutable as was long assumed. This century has given rise to a new concept: our stock of neurons is not built up once and for all at birth! Adult hippocampal neurogenesis\, the generation of new neurons in the hippocampus\, has been confirmed in mammals these last decades. \nThe primary region for adult neurogenesis is the dentate gyrus within the hippocampus. Neural stem cells in the dentate gyrus give rise to new neurons that are added to the preexisting ones. Whether adult neurogenesis contributes to cellular turnover in the DG is still an unresolved issue. \nAdult neurogenesis is tightly regulated by various factors\, including genetic\, environmental (stress\, physical activity\, nutrition etc..) and physiological cues. Astrocytes\, microglia and vasculature play essential roles in the regulation of neurogenesis. Astrocytes contribute to the microenvironment supporting neurogenesis\, while microglia are involved in immune responses and maintenance of neural tissue. Blood vessels play a multifaceted role by providing essential nutrients\, removing metabolic waste products and coupling neural activity and blood flow. Many molecular pathways are involved in the control of neural stem cell fate and differentiation and in the different stages of neurogenesis. \nNewborn neurons integrate into existing neural circuits\, forming functional connections. GABAergic and glutamatergic transmissions play a crucial role in regulating the activity of these newly integrated neurons. Adult hippocampal neurogenesis is implicated in learning and memory processes. It may also contribute to cognitive flexibility\, pattern separation\, and spatial memory. It is also involved in emotion and there is ongoing research exploring the potential role of adult neurogenesis in psychiatric disorders: depression\, anxiety\, addiction are areas of particular interest. Manipulating adult neurogenesis is considered a potential avenue for therapeutic interventions in brain disorders. Strategies to enhance neurogenesis\, such as exercise or pharmacological interventions\, are being explored. \nOverall\, the field of adult hippocampal neurogenesis is dynamic\, with ongoing research expanding our understanding of the cellular and molecular mechanisms\, functional implications\, and potential therapeutic applications in the mammalian brain. \nThe aim of this 5th conference is to bring together the best specialists of the field\, european students and young researchers in Bordeaux to share new discoveries in this field. \nScientific programme\nWednesday\, June 12th \nRegulation of Stem cells / Chair: Sebastian Jessberger \n09:00-10:00 – Opening session by R Hen (USA)\n10:00-10:30 – M. Knobloch (Switzerland)\n10:30-11:00 – Break around the posters\n11:00-11:30 – V. Taylor (Switzerland)\n11:30 – 12:00 – D.C. Lie (Germany)\n12:00-12:30 – S. Jessberger(Switzerland) \nIntegration into network / Chair: Chichung Lie \n14:30-15:00 – H.J. Cheng (Taiwan)\n15:00-15:30 – R. Beckervorderandforth (Germany)\n15:30-16:00 – Break around the posters\n16:30-17:00 – J. Bischofberger (Switzerland)\n17:00-18:30 – Selected presentations \nThursday\, June 13rd \nNeurogenesis and hippocampal network (electrophy) / Chair: Alejandro Schinder \n09:00-09:30 – H. Song (USA)\n09:30-10:00 – A. Schinder (Argentina)\n10:00-10:30 – H. Amin (Germany)\n10:30-11 :00 – Break around the posters\n11:00-11:30 – S. Mc Hugh (UK)\n11:30-12:00 – T. Hisatsune (Japan)\n12:00-12:30 E. Kroff (Argentina) \nRole of adult-born neurons in memory processing / Chair: Gerd Kempermann \n14:30-15:00 – J. Snyder (Canada)\n15:00-15:30 – P. Frankland (Canada)\n15:30-16:00 – Break around the posters\n16:30-17:00 – D.N. Abrous (France)\n17:00-17:30 – G. KempermanN (Germany)\n17:30-18:30 – Selected presentations \nFriday\, June 14th \nRole of adult born neurons in Human / Chair: Paul Lucassen \n09:00-09:30 – M. Llorens-Martin (Spain)\n09:30-10:00 – S. Thuret (UK)\n10:00-10:30 – Break around the posters\n10:30-11:30 – Selected presentations\n11:30-12:00 – M. Maletic-Savatic(USA)\n12:00-12:30 – E. Salta (Netherlands) \nRole of adult born neurons in diseases / Chair: Nicolas Toni \n14:30-15:00 – C. Belzung (France)\n15:00-15:30 – L. Pinto (Portugal)\n15 :30-16:00 – J. Hsieh (USA)\n16:00-16:30 – Break around the posters\n16:30-17:00 – C. Fitzsimons(Netherlands)\n17:00-17:30 – N. Toni (Switzerland)\n17:30-18:30 – Concluding session by F.H. Gage (USA) \nDetails / Registration / Abstract submission\nWebsite: https://eurogenesis.sciencesconf.org/ \n
URL:https://www.bordeaux-neurocampus.fr/event/eurogenesis/
CATEGORIES:Pour les scientifiques,Symposiums
END:VEVENT
BEGIN:VEVENT
DTSTART;VALUE=DATE:20240612
DTEND;VALUE=DATE:20240615
DTSTAMP:20260422T073812
CREATED:20231018T133830Z
LAST-MODIFIED:20240611T163747Z
UID:163419-1718150400-1718409599@www.bordeaux-neurocampus.fr
SUMMARY:WACAI
DESCRIPTION:Venue: Centre Broca \n\nL’objectif du WACAI (Workshop sur les “Affects\, Compagnons Artificiels et Interactions” (ACAI)) est de réunir les recherches et développements en cours autour des Agents Conversationnels Animés (ACA) et des robots interactifs. Cette année\, le WACAI souhaite regrouper une communauté pluridisciplinaire de chercheurs en Informatique Affective\, en Sciences Cognitive\, en Psychologie Sociale\, en Linguistique. La participation des industriels sera encouragée. \nCoordinateur local : Florian Pécune (Sanpsy) \nPlus d’informations \n
URL:https://www.bordeaux-neurocampus.fr/event/wacai/
CATEGORIES:A la une,Pour les scientifiques,Symposiums
END:VEVENT
BEGIN:VEVENT
DTSTART;VALUE=DATE:20240613
DTEND;VALUE=DATE:20240615
DTSTAMP:20260422T073812
CREATED:20240521T092627Z
LAST-MODIFIED:20240521T092627Z
UID:171601-1718236800-1718409599@www.bordeaux-neurocampus.fr
SUMMARY:European Birdsong Meeting 2024
DESCRIPTION:Venue : Faculté d’Odontologie\, University of Bordeaux \nOrganized by Arthur Leblois and Nicolas Giret \n\nSpeakers\nJonathan Benichov\, D. Vallentin Group: Neural Circuits for Vocal Communication\, Max Planck Institute for Biological Intelligence\, Seewiesen\, Germany\n \nGiacomo Costalunga\, D. Vallentin Group: Neural Circuits for Vocal Communication\, Max Planck Institute for Biological Intelligence\, Seewiesen\, Germany\n \nAnindita Das\, Institut des Neurosciences Paris Saclay\, CNRS\, France \nNicole Geberzahn\, Laboratoire Éthologie Cognition Développement\, Université Paris Nanterre\, France \nJoergen Kornfeld\, Circuits of Birdsong\, Max Planck Institute for Biological Intelligence\, Munich\, Germany \nSanne Moorman\, Groningen Institute for Life Sciences\, University of Groningen\, Netherlands\n \nJanie Ondracek\, Chair of Zoology\, Technical University Munich \nHazem Toutounji\, University of Sheffield\, UK \nLena Veit\, Neurobiology of vocal communication\, Universität Tübingen\, Germany \nProgram\n\nFind the program here \nRegistration\nRegistration opens on the April 1st 2024 and closes on June 6th 2024. \nBear in mind that there will be a limitation to 50 participants to the conference and places will be assigned on a « first come\, first served » basis. \nRegistration fees: \n– Student: 70€\n– Postdoc: 80€\n– Permanent researcher/engineer: 165€ \n  \nFor more details : https://ebm2024.sciencesconf.org/ \n  \n
URL:https://www.bordeaux-neurocampus.fr/event/european-birdsong-meeting-2024/
CATEGORIES:Pour les scientifiques,Symposiums
END:VEVENT
BEGIN:VEVENT
DTSTART;TZID=Europe/Paris:20240614T100000
DTEND;TZID=Europe/Paris:20240614T100000
DTSTAMP:20260422T073812
CREATED:20240605T165051Z
LAST-MODIFIED:20240612T090624Z
UID:172066-1718359200-1718359200@www.bordeaux-neurocampus.fr
SUMMARY:Seminar - Karin Pernet Gallay
DESCRIPTION:Venue: Bât ED – salle 27A – 1er étage \nTalk in french \n\nKarin Pernet Gallay is in charge of the electron facility at the Grenoble Institut des Neurosciences. \nInvited by Melina Petrel (BIC) \nTitre \nLes feuillets astrocytaires : un sous domaine spécialisé dans l’interaction avec les synapses \nRésumé \nLa dynamique du Ca2+ au sein des astrocytes module les circuits synaptiques et contrôle le comportement. Pour comprendre les mécanismes cellulaires sous-jacents\, nous avons réalisé une étude en microscopie électronique en 3D à haute résolution pour caractériser les feuillets astrocytaires\, des structures convolutées d’un diamètre ≤250 nm qui interagissent avec les synapses. Nous montrons ainsi que ces feuillets peuvent s’assembler entre eux par l’intermédiaire de jonctions et former des domaines plus larges qui interagissent avec des dizaines de synapses. Nous avons également caractérisé la distribution des compartiments membranaires qui ont pour rôle de stocker le calcium\, ce qui nous a permis de mettre en évidence des structures vésiculaires associées à des ribosomes qui sont compétentes pour la signalisation calcique et qui sont situées à proximité des synapses. Ces données nous invitent à aller au-delà d’une vision tri partite des synapses\, pour envisager la perspective d’un réseau tripartite\, car chaque feuillet peut contacter plusieurs synapses et la reconstruction des dendrites et des axones nous permet de montrer que ces contacts synaptiques proviennent de neurones différents. Ainsi\, ces données morphologiques\, couplées à des données d’imagerie calcique\, nous indiquent que ces feuillets astrocytaires pourraient coordonner\, via des signaux Ca2+\, des synapses et des circuits actifs à différentes échelles spatio-temporelles pour exécuter des fonctions d’intégration distinctes de celles des neurones. \n  \n
URL:https://www.bordeaux-neurocampus.fr/event/seminar-karin-pernet-gallay/
CATEGORIES:A la une,Pour les scientifiques,Séminaire Impromptu
END:VEVENT
END:VCALENDAR