BEGIN:VCALENDAR
VERSION:2.0
PRODID:-//Bordeaux Neurocampus - ECPv4.9.10//NONSGML v1.0//EN
CALSCALE:GREGORIAN
METHOD:PUBLISH
X-WR-CALNAME:Bordeaux Neurocampus
X-ORIGINAL-URL:https://www.bordeaux-neurocampus.fr
X-WR-CALDESC:Évènements pour Bordeaux Neurocampus
BEGIN:VTIMEZONE
TZID:Europe/Paris
BEGIN:DAYLIGHT
TZOFFSETFROM:+0100
TZOFFSETTO:+0200
TZNAME:CEST
DTSTART:20240331T010000
END:DAYLIGHT
BEGIN:STANDARD
TZOFFSETFROM:+0200
TZOFFSETTO:+0100
TZNAME:CET
DTSTART:20241027T010000
END:STANDARD
END:VTIMEZONE
BEGIN:VEVENT
DTSTART;VALUE=DATE:20240529
DTEND;VALUE=DATE:20240601
DTSTAMP:20260422T073822
CREATED:20240207T213508Z
LAST-MODIFIED:20240524T084933Z
UID:167832-1716940800-1717199999@www.bordeaux-neurocampus.fr
SUMMARY:Journées du réseau national d’imagerie en microscopie électronique
DESCRIPTION:Lieu : PJJ \n\nCoordonateur local : Etienne Gontier \nLe réseau national d’imagerie en microscopie électronique (RIME) regroupe ingénieurs\, techniciens et chercheurs des plateformes et laboratoires orientés sur le développement technique et scientifique de la microscopie électronique dans le domaine du vivant. Il compte plus de 400 adhérents appartenant à des instances de tutelles différentes représentant la plupart des sites français d’imagerie. Chaque année le réseau regroupe sur un site français sa communauté. Cette année\, le Bordeaux Imaging Center a été choisi pour organiser cet événement. \nLe but de ces journées est de permettre d’identifier et faire connaitre les techniques de préparation et d’acquisition en microscopie électronique\, nécessaires à résoudre une question morphologique et/ou fonctionnelle. \nLe programme s’articule autour de différentes sessions thématiques avec une approche technologique ainsi que des tables rondes et des sessions posters. Les différents orateurs\, experts de leurs domaines\, viennent soit de la sphère locale\, nationale ou internationale. Cette année les journées ont pour but de présenter les différentes méthodologies d’acquisition et équipements de microscopie électronique (2D et 3D) et d’appréhender les moyens nécessaires à la gestion\, au traitement et à l’analyse des images de ME exploités dans divers domaines scientifiques comme le monde de la biologie animal et des plantes. \n
URL:https://www.bordeaux-neurocampus.fr/event/journees-du-reseau-national-dimagerie-en-microscopie-electronique/
CATEGORIES:Pour les scientifiques,Symposiums
END:VEVENT
BEGIN:VEVENT
DTSTART;TZID=Europe/Paris:20240531T113000
DTEND;TZID=Europe/Paris:20240531T113000
DTSTAMP:20260422T073822
CREATED:20231010T125806Z
LAST-MODIFIED:20240524T144134Z
UID:163235-1717155000-1717155000@www.bordeaux-neurocampus.fr
SUMMARY:Friday Seminar - Günter Höglinger
DESCRIPTION:Venue: Centre Broca\n \n\nGünter Höglinger\nMunich Center for Neurosciences\nLudwig-Maximilians Universität Muchen\nhttps://www.mcn.uni-muenchen.de/members/regular/hoeglinger/index.html \nInvited by Wassilios Meissner (IMN) \nTitle\nSynNeurGe: Research criteria for a biological classification of Parkinson’s Disease \nAbstract\nWith the hope that disease-modifying treatments could target the molecular basis of Parkinson’s disease\, even before the onset of symptoms\, we propose a biologically based classification. Our classification acknowledges the complexity and heterogeneity of the disease by use of a three-component system (SynNeurGe): presence or absence of pathological α-synuclein (S) in tissues or CSF; evidence of underlying neurodegeneration (N) defined by neuroimaging procedures; and documentation of pathogenic gene variants (G) that cause or strongly predispose to Parkinson’s disease. These three components are linked to a clinical component (C)\, defined either by a single high-specificity clinical feature or by multiple lower-specificity clinical features. The use of a biological classification will enable advances in both basic and clinical research\, and move the field closer to the precision medicine required to develop disease-modifying therapies. We emphasise the initial application of these criteria exclusively for research. We acknowledge its ethical implications\, its limitations\, and the need for prospective validation in future studies. \n
URL:https://www.bordeaux-neurocampus.fr/event/friday-seminar-guenter-hoeglinger/
CATEGORIES:A la une,Pour les scientifiques,Séminaire du vendredi
END:VEVENT
BEGIN:VEVENT
DTSTART;TZID=Europe/Paris:20240531T153000
DTEND;TZID=Europe/Paris:20240531T153000
DTSTAMP:20260422T073822
CREATED:20240529T100901Z
LAST-MODIFIED:20240529T143417Z
UID:171902-1717169400-1717169400@www.bordeaux-neurocampus.fr
SUMMARY:PhilInBioMed Seminar - Carl Craver
DESCRIPTION:Location:\nBBS amphitheater\n2\, rue Docteur Hoffman Martinot\n33076 Bordeaux \nZoom link:\nhttps://u-bordeaux-fr.zoom.us/j/85269529345 \n\nTitle\nTime and Memory: Philosophy in Neuropsychology \nAbout the speaker\nCarl Craver (Wash U)\nOne of the most reknown experts in philosophy of neuroscience\, mechanisms\, and philosophy of biology more generally (please see details below). \nInvited by Thomas Pradeu\nCNRS – ImmunoConcEpT\, UMR5164\, CNRS & University of Bordeaux\nCoordinator of the Philosophy in Biology and Medicine Network (PhilInBioMed) \nhttps://philosophy.wustl.edu/people/carl-f-craver \nProfessor Craver is a philosopher of neuroscience trying to understand how minds fit in a world of causes. His 2007 book\, Explaining the Brain\, is now considered a locus classicus in the new mechanistic philosophy. The book develops a philosophically grounded but scientifically attentive model of how we explain things by describing their mechanisms at multiple levels of organization. The book builds a systematic model of mechanisms and levels out of philosophically familiar ontological resources (causation and part/whole relations) and shows how the experimental practices of the special sciences are organized in the service of establishing these multilevel mechanistic relations. It has become a much-cited touchstone inside and outside philosophy for articulating the explanatory aims of the neurosciences. \nHis 2013 book in collaboration with Lindley Darden at the University of Maryland\, In Search of Mechanisms: Discoveries Across the Life Sciences extends his work on explanation with an historically grounded book about how scientists make discoveries in mechanistic sciences. This book embodies the Baconian spirit of seeking to codify a clear expression of the norms that animate science and that justify respect for science as a way of knowing the world (a central\, animating commitment that runs throughout Craver’s work). \nMore recently\, Craver is pursuing topics in psychiatric genetics and neuropsychology. His work in psychiatric genetics\, in collaboration with a group headed by Ken Kendler at Virginia Commonwealth University since 2017\, asks whether\, and if so how\, data from GWAS can be mined to yield coherent mechanistic information about psychiatric disorders. His neuropsychology research\, in collaboration with a group headed by Shayna Rosenbaum at York University since 2010\, studies individuals with episodic amnesia to discover how remembrance does (and\, crucially\, does not) figure essentially in the lives distinctive of persons. This latter project is the subject of a new book-in-progress\, tentatively titled: Living without Memory. \n
URL:https://www.bordeaux-neurocampus.fr/event/philibiomed-seminar-carl-craver/
CATEGORIES:A la une,Hors Bordeaux Neurocampus,Pour les scientifiques,Séminaire Impromptu
END:VEVENT
END:VCALENDAR