BEGIN:VCALENDAR
VERSION:2.0
PRODID:-//Bordeaux Neurocampus - ECPv4.9.10//NONSGML v1.0//EN
CALSCALE:GREGORIAN
METHOD:PUBLISH
X-WR-CALNAME:Bordeaux Neurocampus
X-ORIGINAL-URL:https://www.bordeaux-neurocampus.fr
X-WR-CALDESC:Évènements pour Bordeaux Neurocampus
BEGIN:VTIMEZONE
TZID:Europe/Paris
BEGIN:DAYLIGHT
TZOFFSETFROM:+0100
TZOFFSETTO:+0200
TZNAME:CEST
DTSTART:20240331T010000
END:DAYLIGHT
BEGIN:STANDARD
TZOFFSETFROM:+0200
TZOFFSETTO:+0100
TZNAME:CET
DTSTART:20241027T010000
END:STANDARD
END:VTIMEZONE
BEGIN:VEVENT
DTSTART;VALUE=DATE:20240529
DTEND;VALUE=DATE:20240601
DTSTAMP:20260422T072457
CREATED:20240207T213508Z
LAST-MODIFIED:20240524T084933Z
UID:167832-1716940800-1717199999@www.bordeaux-neurocampus.fr
SUMMARY:Journées du réseau national d’imagerie en microscopie électronique
DESCRIPTION:Lieu : PJJ \n\nCoordonateur local : Etienne Gontier \nLe réseau national d’imagerie en microscopie électronique (RIME) regroupe ingénieurs\, techniciens et chercheurs des plateformes et laboratoires orientés sur le développement technique et scientifique de la microscopie électronique dans le domaine du vivant. Il compte plus de 400 adhérents appartenant à des instances de tutelles différentes représentant la plupart des sites français d’imagerie. Chaque année le réseau regroupe sur un site français sa communauté. Cette année\, le Bordeaux Imaging Center a été choisi pour organiser cet événement. \nLe but de ces journées est de permettre d’identifier et faire connaitre les techniques de préparation et d’acquisition en microscopie électronique\, nécessaires à résoudre une question morphologique et/ou fonctionnelle. \nLe programme s’articule autour de différentes sessions thématiques avec une approche technologique ainsi que des tables rondes et des sessions posters. Les différents orateurs\, experts de leurs domaines\, viennent soit de la sphère locale\, nationale ou internationale. Cette année les journées ont pour but de présenter les différentes méthodologies d’acquisition et équipements de microscopie électronique (2D et 3D) et d’appréhender les moyens nécessaires à la gestion\, au traitement et à l’analyse des images de ME exploités dans divers domaines scientifiques comme le monde de la biologie animal et des plantes. \n
URL:https://www.bordeaux-neurocampus.fr/event/journees-du-reseau-national-dimagerie-en-microscopie-electronique/
CATEGORIES:Pour les scientifiques,Symposiums
END:VEVENT
BEGIN:VEVENT
DTSTART;TZID=Europe/Paris:20240529T170000
DTEND;TZID=Europe/Paris:20240529T170000
DTSTAMP:20260422T072457
CREATED:20240517T095145Z
LAST-MODIFIED:20240523T095411Z
UID:171504-1717002000-1717002000@www.bordeaux-neurocampus.fr
SUMMARY:Reproducibilitea session
DESCRIPTION:Venue: Salle Basal Ganglia (Centre Broca) \n\nReproducibilitea Science: what we can do to improve reproducibility in our research \nHost: Roberta Andrejew\nRoberta is a third year PhD student from Brazil currently on a one year exchange at the Baufreton&Georges team. She will talk about here experience as a member of the Brazil Reproducibilty Network. \n  \n
URL:https://www.bordeaux-neurocampus.fr/event/reproducibilitea-session-16/
CATEGORIES:A la une,Pour les scientifiques,Reproducibilitea session
END:VEVENT
END:VCALENDAR