BEGIN:VCALENDAR
VERSION:2.0
PRODID:-//Bordeaux Neurocampus - ECPv4.9.10//NONSGML v1.0//EN
CALSCALE:GREGORIAN
METHOD:PUBLISH
X-WR-CALNAME:Bordeaux Neurocampus
X-ORIGINAL-URL:https://www.bordeaux-neurocampus.fr
X-WR-CALDESC:Évènements pour Bordeaux Neurocampus
BEGIN:VTIMEZONE
TZID:Europe/Paris
BEGIN:DAYLIGHT
TZOFFSETFROM:+0100
TZOFFSETTO:+0200
TZNAME:CEST
DTSTART:20240331T010000
END:DAYLIGHT
BEGIN:STANDARD
TZOFFSETFROM:+0200
TZOFFSETTO:+0100
TZNAME:CET
DTSTART:20241027T010000
END:STANDARD
END:VTIMEZONE
BEGIN:VEVENT
DTSTART;VALUE=DATE:20240517
DTEND;VALUE=DATE:20240519
DTSTAMP:20260422T093044
CREATED:20240207T212008Z
LAST-MODIFIED:20240425T081057Z
UID:167820-1715904000-1716076799@www.bordeaux-neurocampus.fr
SUMMARY:3rd BPAN disease symposium in France
DESCRIPTION:The University of Bordeaux and the Association Autour du BPAN gather to organize the third symposium on BPAN disease in Bordeaux\, France. This international symposium will bring together patient organization\, scientific and medical experts to share the latest research in the field and to foster networking opportunities on BPAN disease research. \nBPAN disease is a rare genetic neurodegenerativ disorder associated to a beta propeller protein\, BPAN. It’s characterized by brain iron accumulation and belongs to the group of NBIA. As the gene mutation is on chromosome X\, the disease affects more females than males. \nVenue: BBS \n Registration until April 26th. \nDownload the program (pdf) \nMore details\nhttps://www.autourdubpan.fr/symposium2024/lang-en/ \n
URL:https://www.bordeaux-neurocampus.fr/event/3rd-bpan-disease-symposium-in-france/
CATEGORIES:A la une,Pour les scientifiques,Symposiums
END:VEVENT
END:VCALENDAR