BEGIN:VCALENDAR
VERSION:2.0
PRODID:-//Bordeaux Neurocampus - ECPv4.9.10//NONSGML v1.0//EN
CALSCALE:GREGORIAN
METHOD:PUBLISH
X-WR-CALNAME:Bordeaux Neurocampus
X-ORIGINAL-URL:https://www.bordeaux-neurocampus.fr
X-WR-CALDESC:Évènements pour Bordeaux Neurocampus
BEGIN:VTIMEZONE
TZID:Europe/Paris
BEGIN:DAYLIGHT
TZOFFSETFROM:+0100
TZOFFSETTO:+0200
TZNAME:CEST
DTSTART:20240331T010000
END:DAYLIGHT
BEGIN:STANDARD
TZOFFSETFROM:+0200
TZOFFSETTO:+0100
TZNAME:CET
DTSTART:20241027T010000
END:STANDARD
END:VTIMEZONE
BEGIN:VEVENT
DTSTART;TZID=Europe/Paris:20240506T183000
DTEND;TZID=Europe/Paris:20240506T183000
DTSTAMP:20260422T091611
CREATED:20240502T123839Z
LAST-MODIFIED:20240502T124459Z
UID:171307-1715020200-1715020200@www.bordeaux-neurocampus.fr
SUMMARY:Que faire après son master de neurosciences?
DESCRIPTION:Chaque année\, la NBA organise son événement « Que faire après son master de Neurosciences?  » qui a pour vocation d’aider les étudiants à se projeter dans leur avenir et à construire leur projet professionnel. A cette occasion\, vous pourrez échanger avec plusieurs anciens étudiants du master qui ont ensuite emprunté des chemins différents (ARC\, double master\, passerelle médecine\, etc.). Rassurez-vous\, la thèse n’est pas la seule issue du master !! \nOù ? Salle Polyvalente du Pôle de Vie\, Campus Carreire \nQuand ? Lundi 6 mai\, de 18h30 à 21h \nEn plus\, nous prévoyons un petit buffet pour régaler vos papilles durant ce moment d’échange ! Alors Masters 1 et Masters 2\, nous vous attendons nombreux ! \nLa NBA \n
URL:https://www.bordeaux-neurocampus.fr/event/que-faire-apres-son-master-de-neurosciences/
CATEGORIES:A la une,Pour les scientifiques
END:VEVENT
END:VCALENDAR