BEGIN:VCALENDAR
VERSION:2.0
PRODID:-//Bordeaux Neurocampus - ECPv4.9.10//NONSGML v1.0//EN
CALSCALE:GREGORIAN
METHOD:PUBLISH
X-WR-CALNAME:Bordeaux Neurocampus
X-ORIGINAL-URL:https://www.bordeaux-neurocampus.fr
X-WR-CALDESC:Évènements pour Bordeaux Neurocampus
BEGIN:VTIMEZONE
TZID:Europe/Paris
BEGIN:DAYLIGHT
TZOFFSETFROM:+0100
TZOFFSETTO:+0200
TZNAME:CEST
DTSTART:20240331T010000
END:DAYLIGHT
BEGIN:STANDARD
TZOFFSETFROM:+0200
TZOFFSETTO:+0100
TZNAME:CET
DTSTART:20241027T010000
END:STANDARD
END:VTIMEZONE
BEGIN:VEVENT
DTSTART;VALUE=DATE:20240424
DTEND;VALUE=DATE:20240425
DTSTAMP:20260422T124415
CREATED:20240320T172943Z
LAST-MODIFIED:20240423T063058Z
UID:170237-1713916800-1714003199@www.bordeaux-neurocampus.fr
SUMMARY:GPR BRAIN_2030 Day - 3rd edition
DESCRIPTION: We have the great pleasure to announce the 3rd edition of the GPR BRAIN_2030 Day that will take place on Wednesday 24th April 2024. \nVenue: Centre Broca Nouvelle-Aquitaine \n\n9h30 – 12h30 : Closed door round tables covering the four major challenges of the GPR BRAIN_2030 (only for researchers involved in the GPR\, and PhD students/post-docs/engineers recruited by the GPR) \n– Challenge 1: Develop new neurotechnologies to study and improve our understanding of the nervous system\n– Challenge 2: Improve our knowledge of the fundamental bases of brain function\n– Challenge 3: Decipher the biological basis of neurodegenerative and neurological diseases\n– Challenge 4: Deciphering the biological basis of mental illness \n> Link to register to round tables\, afternoon talks and wine & cheese (mandatory) : click here \n12h30 – 14h00 : Lunch for the participants of the round tables \n 14h00 – 17h15 : Conferences open to all Bordeaux Neurocampus\n– Introduction by Daniel Choquet and Jérôme Baufreton\n– Presentations of the 7 sub-projects \n> Link to register to afternoon talks and wine & cheese (mandatory) : click here \n \n17h30 : Wine & Cheese open to all Bordeaux Neurocampus \nRegistrations\nBefore April 14th\n \n> Link to register to morning round tables\, afternoon talks and wine & cheese (mandatory) \n> Link to register to afternoon talks and wine & cheese (mandatory) : \nContact\nJulia Goncalves\njulia.goncalves@u-bordeaux.fr \n
URL:https://www.bordeaux-neurocampus.fr/event/gpr-brain_2030-day-2024/
CATEGORIES:A la une,Pour les scientifiques,Symposiums
END:VEVENT
END:VCALENDAR