BEGIN:VCALENDAR
VERSION:2.0
PRODID:-//Bordeaux Neurocampus - ECPv4.9.10//NONSGML v1.0//EN
CALSCALE:GREGORIAN
METHOD:PUBLISH
X-WR-CALNAME:Bordeaux Neurocampus
X-ORIGINAL-URL:https://www.bordeaux-neurocampus.fr
X-WR-CALDESC:Évènements pour Bordeaux Neurocampus
BEGIN:VTIMEZONE
TZID:Europe/Paris
BEGIN:DAYLIGHT
TZOFFSETFROM:+0100
TZOFFSETTO:+0200
TZNAME:CEST
DTSTART:20240331T010000
END:DAYLIGHT
BEGIN:STANDARD
TZOFFSETFROM:+0200
TZOFFSETTO:+0100
TZNAME:CET
DTSTART:20241027T010000
END:STANDARD
END:VTIMEZONE
BEGIN:VEVENT
DTSTART;VALUE=DATE:20240403
DTEND;VALUE=DATE:20240420
DTSTAMP:20260422T124414
CREATED:20240123T164255Z
LAST-MODIFIED:20240419T132704Z
UID:167205-1712102400-1713571199@www.bordeaux-neurocampus.fr
SUMMARY:Cajal lectures - Optogenetics\, chemogenetics\, and biosensors for neural circuit research
DESCRIPTION:Venue: CGFB \nLectures are open to everyone. \n\nWednesday 3 April – 9:00am\nOfer Yihzar (Weizmann Institute of Science\, Israël)What is optogenetics good for? \nWednesday 3 April – 11:00am\nMichael Bruchas (University of Washington\, USA)\nDecoding the Neurobiological Mechanisms of Neuromodulation\n \nThursday 4 April – 9:00am\nJonas Wietek (Charité – Universitätsmedizin Berlin\, Germany)200 years of discovery\, 20 years of innovation: The Journey of Optogenetics and Rhodopsins. \nThursday 4 April – 11:00am\n Stefan Herlitze (Ruhr–University Bochum\, Germany)MoleOptogenetic control and visualization of GPCR pathways\, or a journey from mouse brain to bioluminescent and fluorescent fish. \nFriday 5 April – 9:00am\nSimon Wiegert (University of Heidelberg\, Germany)New lights on an old concept : investigating the link between pupil linked arousal neuromodulation. \nFriday5 April – 11:00am\nMarie Carlen (Karolinska Institute\, Sweden)\nWhat defines the prefrontal cortex? Large-scale spiking surveys outline the landscape of the mouse prefronal cortex.\n \nTuesday 9 April – 9:00am\nValentina Emiliani (Vision Institute\, France)Holographic all–optical manipulation of neuronal circuits. \nTuesday 9 April – 11:00am\nCyril Herry and Daniel Jercog (Bordeaux University\, France\, University of Copenhagen\, Denmark)\nFrom single cell to population analysis of defensive behaviors.\n \nSaturday 13 April – 9:00am\nLief Fenno (University of Texas\, USA)\nEngineered platforms for complex AAV cargo expression.\n \nSaturday 13 April – 11:00am\nYaniv Ziv (Weizmann Institute of Science\, Israël)\nRepresentational drift in the hippocampus and cortex. \nTuesday 16 April – 9:00am\nChristina Kim (UC Davis\, USA)Optogenetic reactivation of drug–ensembles using activity integrators. \nTuesday 16 April  – 11:00am\n Karl Deisseroth (Stanford University\, USA)Probing Mysteries of Brain Function: An Unexpected Journey Through the Inner Workings of Microbial Membrane Channels. \nFriday 19 April – 9:00am\nMackenzie Mathis (EPFL\, Swiss)\nMeasuring neural and behavioral dynamics.\n \nFriday 19 April – 11:00am\nAnna Beyeler (Bordeaux University\, France)\nLinking anxiety and emotional valence in circuits of the amygdala and insula.\n \n\nAbout the course\nWebsite: https://cajal-training.org/on-site/optogenetics-chemogenetics-biosensors/ \n
URL:https://www.bordeaux-neurocampus.fr/event/cajal-lectures-optogenetics-chemogenetics-and-biosensors-for-neural-circuit-research/
CATEGORIES:Cajal Lectures,Pour les scientifiques
END:VEVENT
BEGIN:VEVENT
DTSTART;TZID=Europe/Paris:20240419T113000
DTEND;TZID=Europe/Paris:20240419T113000
DTSTAMP:20260422T124414
CREATED:20231130T182317Z
LAST-MODIFIED:20240412T133328Z
UID:165140-1713526200-1713526200@www.bordeaux-neurocampus.fr
SUMMARY:Friday seminar - Melanie Plourde
DESCRIPTION:Venue: Centre Broca \n\nMelanie Plourde\nUniversité de Sherbrooke\nCanada\nhttps://www.usherbrooke.ca/recherche/fr/specialistes/details/melanie.plourde2 \nInvited by Jean-Christophe Delpech (NutriNeuro) \nTitle\nUnderstanding the blood-to-brain link of omega-3 to better support brain health during aging. \nAbstract\nThe brain has high concentration of docosahexaenoic acid (DHA)\, a long chain omega-3 fatty acid (OM3). A diet rich in OM3 lower the risk of cognitive decline during aging although the mechanism is debated. However\, there is a consensus that OM3 need to cross within the brain by one of the three different barriers: the blood-brain-barrier (BBB)\, the blood cerebrospinal fluid (CSF) barrier or the blood arachnoid barrier\, an avascular barrier. During aging\, the BBB leaks and unwanted molecules can reach the brain\, thus promoting neuroinflammation and neuronal loss during aging and cognitive decline. The blood-CSF barrier is composed by the choroid plexus (ChP)\, acting as a physical barrier and secreting CSF\, neurotrophic proteins\, and removing toxic substances from the CSF. In a pilot project\, we performed lipidomic analysis of the mice ChP and found that it contains 3 times more arachidonic acid (ARA\, n-6) than DHA. ARA is a precursor of pro-inflammatory mediators. We also detected these pro-inflammatory mediators in the ChP and they increase during aging. Our team also found that the ChP lipidome can be modulated by OM3 dietary intake which change its transcriptomics. The next step of this program will be to focus on how the lipid composition of the barriers can modulate inflammation and generation of new neurons during aging. Altogether\, my team wants to provide evidence and a mechanistic explanation of how dietary omega-3 intake can modify brain cell functions and how they can help maintain brain functions during aging. \n  \n
URL:https://www.bordeaux-neurocampus.fr/event/friday-seminar-melanie-plourde/
CATEGORIES:A la une,Pour les scientifiques,Séminaire du vendredi
END:VEVENT
BEGIN:VEVENT
DTSTART;TZID=Europe/Paris:20240419T140000
DTEND;TZID=Europe/Paris:20240419T140000
DTSTAMP:20260422T124414
CREATED:20240314T111449Z
LAST-MODIFIED:20240410T160504Z
UID:170022-1713535200-1713535200@www.bordeaux-neurocampus.fr
SUMMARY:Seminar - Alexander Mathis
DESCRIPTION:Venue: Centre Broca \n\nAlexander Mathis\nEPFL\, Lausanne\nhttps://scholar.google.com/citations?hl=en&user=Y1xCzE0AAAAJ \nInvited by Anna Beyeler (Magendie) \nTitle\nModeling sensorimotor circuits with machine learning: hypotheses\, inductive biases\, latent noise and curricula  \nAbstract\nHierarchical sensorimotor processing\, modularity and experience are all essential for adaptive motor control. Recent efficient musculoskeletal simulators and machine learning algorithms provide new computational approaches to gain insights into those concepts for biological motor control. Firstly\, I will present a hypothesis-driven modeling framework to quantitatively assess the computations underlying proprioception. We trained thousands of models to transform muscle spindle inputs according to 16 different hypotheses from the literature. For all those hypotheses\, we found that hierarchical models that better satisfy those hypotheses\, also explain neural recordings in the brain stem and cortex better. We furthermore find that models trained to estimate the state of the body are best at explaining neural data. Secondly\, I will discuss key methods (inductive biases\, latent exploration\, and curricula) to close the gap between reinforcement learning algorithms and biological motor control. Taken together\, these results highlight the importance of inductive biases\, and experience for biological motor control. \n  \n
URL:https://www.bordeaux-neurocampus.fr/event/seminar-alexander-mathis/
CATEGORIES:A la une,Pour les scientifiques,Séminaire Impromptu
END:VEVENT
END:VCALENDAR