BEGIN:VCALENDAR
VERSION:2.0
PRODID:-//Bordeaux Neurocampus - ECPv4.9.10//NONSGML v1.0//EN
CALSCALE:GREGORIAN
METHOD:PUBLISH
X-WR-CALNAME:Bordeaux Neurocampus
X-ORIGINAL-URL:https://www.bordeaux-neurocampus.fr
X-WR-CALDESC:Évènements pour Bordeaux Neurocampus
BEGIN:VTIMEZONE
TZID:Europe/Paris
BEGIN:DAYLIGHT
TZOFFSETFROM:+0100
TZOFFSETTO:+0200
TZNAME:CEST
DTSTART:20240331T010000
END:DAYLIGHT
BEGIN:STANDARD
TZOFFSETFROM:+0200
TZOFFSETTO:+0100
TZNAME:CET
DTSTART:20241027T010000
END:STANDARD
END:VTIMEZONE
BEGIN:VEVENT
DTSTART;TZID=Europe/Paris:20240125T140000
DTEND;TZID=Europe/Paris:20240125T161500
DTSTAMP:20260422T174806
CREATED:20240115T091506Z
LAST-MODIFIED:20240116T153704Z
UID:166754-1706191200-1706199300@www.bordeaux-neurocampus.fr
SUMMARY:Mini-symposium: glia\, neurons and circuits in brain functions
DESCRIPTION:Venue: Centre Broca \n\nIn the frame of Paula Gomez-Sotres PhD defense \nAt its fundamental level\, the brain consists of two primary cell categories: neurons and glial cells. Understanding the role of these two separate but intertwined components is key to unravel the basis of several brain processes. In this symposium\, the speakers will present data on the role of glia or neurons in different brain functions\, using state-of-the-art techniques to do very cool neuroscience. \n14:00 Amit Agarwal\nUniversity of Heidelberg\n \nAmit Agarwal\, PhD\, leads his team at the University of Heidelberg\, where he focuses on understanding the contribution of neuron-glia interactions\, particularly astrocytes and oligodendrocytes\, to brain function. In his talk\, titled « Analgesic action of astrocytic adrenergic receptors in chronic pain »\, he will present data using calcium sensors in astrocytes to unravel the contribution of these cells in chronic pain. \n14:45 Guillaume Ferreira\nNutriNeuro \nGuillaume Ferreira\, PhD\, co-leads the team FoodCircus at NutriNeuro in Bordeaux. His team aims to establish mechanistic causal links between nutrient status and behavioral dimensions relevant to the symptoms of certain neurological and psychiatric disorders. In his talk « Sex differences in endocannabinoid regulation of obesogenic diet-induced memory deficits« \, he will present data about how the endocannabinoid system differently controls cognitive impairments linked to obesity in female and males. \n15:30 Jaideep Bains\nKrembil Institute\, Toronto\n \nJaideep Bains\, PhD\, is the director of the Krembil Institute in Toronto where he also leads his team focusing on stress mechanisms. In his talk\, he will present the most recent data of his lab using electrophysiology and in-vivo approaches to characterize the role of hypothalamic CRH neurons in negative and positive valence experiences. \n
URL:https://www.bordeaux-neurocampus.fr/event/mini-symposium-glia-neurons-and-circuits-in-brain-functions/
CATEGORIES:A la une,Pour les scientifiques,Symposiums
END:VEVENT
BEGIN:VEVENT
DTSTART;TZID=Europe/Paris:20240125T180000
DTEND;TZID=Europe/Paris:20240125T180000
DTSTAMP:20260422T174806
CREATED:20240118T093731Z
LAST-MODIFIED:20240118T122538Z
UID:167001-1706205600-1706205600@www.bordeaux-neurocampus.fr
SUMMARY:Webinaire - Présentation des avancées cliniques et des perspectives d'Aelis Farma
DESCRIPTION:En ligne sur LiveStorm \nAvec\nPier Vincenzo Piazza\nDirecteur Général\, Aelis Farma \nStéphanie Monlezun\nDirectrice des Opérations\, Aelis Farma \nChristian Heidbreder\nPhD\, Directeur Scientifique\, Indivior \nInscrivez-vous \nPrécisions sur votre inscription et l’accès au webinaire :\nETAPE 1 : inscrivez-vous en cliquant sur le bouton d’inscription ci-dessus.\nETAPE 2 : après avoir cliqué sur « s’inscrire »\, cliquez sur « Ajouter au calendrier » pour importer au sein de votre agenda les détails de connexion au webinaire.\nETAPE 3 : le jour du webinaire\, connectez-vous depuis un ordinateur / tablette / smartphone ou depuis un téléphone. Aucun téléchargement de l’application Livestorm n’est requis. \nA propos d’Aelis Farma : \nFondée en 2013 à Bordeaux\, Aelis Farma est une société biopharmaceutique à l’origine d’une nouvelle classe de médicaments\, les inhibiteurs spécifiques de la signalisation du récepteur CB1 du système endocannabinoïde (les CB1-SSi). Les CB1-SSi ont été développés par Aelis Farma sur la base de la découverte d’un nouveau mécanisme naturel de régulation d’une hyperactivité du récepteur CB1 par l’équipe du Dr. Pier Vincenzo Piazza\, Directeur Général de la Société\, lorsqu’il était directeur du Neurocentre Magendie de l’Inserm à Bordeaux. En reproduisant ce mécanisme naturel\, les CB1-SSi paraissent capable d’inhiber sélectivement l’activité liée à un état pathologique du récepteur CB1\, sans perturber son activité physiologique normale. Elles recèlent ainsi un fort potentiel dans le traitement de nombreuses maladies du cerveau. \nAelis Farma développe deux candidats-médicaments « first-in-class » au stade clinique\, AEF0117 dans les troubles liés à la consommation excessive de cannabis (addiction)\, actuellement en phase 2b aux Etats-Unis\, et AEF0217 dans les troubles cognitifs\, dont ceux associés à la trisomie 21 (syndrome de Down)\, actuellement en phase 1/2 chez des personnes avec une trisomie 21 en Espagne. La société dispose également d’un portefeuille de CB1-SSi innovants pour le traitement d’autres pathologies associées aux dérèglements de l’activité du récepteur CB1. \nAelis Farma s’appuie sur les talents de plus de 20 collaborateurs hautement qualifiés. \n
URL:https://www.bordeaux-neurocampus.fr/event/webinaire-presentation-des-avancees-cliniques-et-des-perspectives-daelis-farma/
CATEGORIES:A la une,Evénements pour tous,Pour les scientifiques
END:VEVENT
END:VCALENDAR