BEGIN:VCALENDAR
VERSION:2.0
PRODID:-//Bordeaux Neurocampus - ECPv4.9.10//NONSGML v1.0//EN
CALSCALE:GREGORIAN
METHOD:PUBLISH
X-WR-CALNAME:Bordeaux Neurocampus
X-ORIGINAL-URL:https://www.bordeaux-neurocampus.fr
X-WR-CALDESC:Évènements pour Bordeaux Neurocampus
BEGIN:VTIMEZONE
TZID:Europe/Paris
BEGIN:DAYLIGHT
TZOFFSETFROM:+0100
TZOFFSETTO:+0200
TZNAME:CEST
DTSTART:20230326T010000
END:DAYLIGHT
BEGIN:STANDARD
TZOFFSETFROM:+0200
TZOFFSETTO:+0100
TZNAME:CET
DTSTART:20231029T010000
END:STANDARD
END:VTIMEZONE
BEGIN:VEVENT
DTSTART;VALUE=DATE:20230919
DTEND;VALUE=DATE:20231004
DTSTAMP:20260422T180208
CREATED:20221118T150048Z
LAST-MODIFIED:20231003T103618Z
UID:152893-1695081600-1696377599@www.bordeaux-neurocampus.fr
SUMMARY:Cajal lectures: Connectomics from micro- to meso- and macro-scales
DESCRIPTION:Venue: CGFB \n\nCourse directors\nGregory Jefferis\, MRC LMB and University of Cambridge\, UK\nJinny Kim\, Korea Institute of Science and Technology\, Korea\nNicolas Renier\, Paris Brain Institute\, France\nCasey Schneider-Mizell\, Allen Institute of Brain Science\, US \nLectures\nSeptember 19 – 9:00am\nValentin Naegerl (Bordeaux University\, France)\nSTED imaging of brain microanatomy. \nSeptember 21 – 9:00am\nClaire Wyart (ICM Institute for Brain and Spinal Cord\, France)\nOptical methods to probe Connectivity of sensorimotor circuits in brainstem and spinal cord. \nSeptember 23 – 9:00am\nJae-Byum Chang (Korea Advanced Institute of Science and Technology\, KAIST\, Korea)\nSuper-resolution imaging of whole mouse embryos via whole-body expansion microscopy. \nSeptember 25 – 9:00am\nAlexandra Pacureanu (European Synchrotron Radiation Facility\, France)\nTBA \nSeptember 26 – 9:00am\nJonny Kohl (Francis Crick Institute \, UK)\nForm\, function and flexibility of parenting circuits. \nSeptember 28 – 9:00am\nMoritz Helmstaedter (Max Planck Institute for Brain Research\, Germany)\nCerebral Cortex Connectomics. \nSeptember 29 – 9:00am\nHiroki Ueda (UTokyo/RIKEN BDR\, Japan)\nTowards Human Systems Biology of Sleep/Wake Cycles: Phosphorylation Hypothesis of Sleep. \nOctober 2 – 9:00am\nConstantin Pape (Georg August Universität Göttingen\, Germany)\nInstance Segmentation Methods for Large Volumetric EM. \nOctober 3 – 9:00am\nChristel Genoud (University of Lausanne\, Switzerland)\nVolumeEM techniques to study the central nervous system. \nOctober 3 – 11:00am\nCasey Schneider-Mizell (Allen Institute of Brain Science\, USA)\nTBA \nAbout the Cajal lectures\nThe Cajal lectures are organized in the frame of the Cajal courses\, located in the Bordeaux school of Neuroscience. They are open to everyone. \nMore details about this course:\nhttps://cajal-training.org/on-site/connectomics/ \n
URL:https://www.bordeaux-neurocampus.fr/event/cajal-lectures-connectomics-from-micro-to-meso-and-macro-scales/
CATEGORIES:Cajal Lectures,Pour les scientifiques
END:VEVENT
BEGIN:VEVENT
DTSTART;VALUE=DATE:20230926
DTEND;VALUE=DATE:20230929
DTSTAMP:20260422T180208
CREATED:20220707T151626Z
LAST-MODIFIED:20230928T071226Z
UID:149745-1695686400-1695945599@www.bordeaux-neurocampus.fr
SUMMARY:BrainConf 2023: "Comparative neuronal circuits for adaptive behavior"
DESCRIPTION:Venue: Centre Broca Nouvelle-Aquitaine \nScientific committee\n\nAnna Beyeler (Neurocentre Magendie)\nEtienne Coutureau (INCIA)\nFrédéric Gambino (IINS)\nArthur Leblois (IMN)\nMichel Thiebaut de Schotten (IMN)\n\nMore details \n\nhttps://brainconf.u-bordeaux.fr/en/ \n  \n
URL:https://www.bordeaux-neurocampus.fr/event/brainconf-2023-comparative-neuronal-circuits-for-adaptive-behavior/
CATEGORIES:Pour les scientifiques,Symposiums
END:VEVENT
BEGIN:VEVENT
DTSTART;TZID=Europe/Paris:20230927T100000
DTEND;TZID=Europe/Paris:20230927T173000
DTSTAMP:20260422T180208
CREATED:20230912T132526Z
LAST-MODIFIED:20230912T143319Z
UID:162282-1695808800-1695835800@www.bordeaux-neurocampus.fr
SUMMARY:Journée inaugurale du PHRC TiM-DepisT
DESCRIPTION:« Les affections Psychiatriques vues sous le prisme de l’auto-immunité » \nLieu : CGFB (sur inscription par email : timdepist@chu-bordeaux.fr)\n \nVisioconférence : accès libre\nhttps://u-bordeaux-fr.zoom.us/j/81580765757\nID de réunion : 815 8076 5757 \nA propos\nLe rôle du système immunitaire en général\, et en particulier de l’auto-immunité\, est de plus en plus considéré par le monde médical et scientifique comme un changement de paradigme à prendre en compte dans l’étiologie des maladies psychiatriques. Si l’auto-immunité ne représente qu’une étiologie parmi d’autres\, elle permet de mieux comprendre certains dysfonctionnements moléculaires jusqu’alors insoupçonnés. Alors que les maladies psychiatriques constituent un problème de santé prioritaire dans le monde entier\, la recherche fondamentale a récemment révolutionné la compréhension du lien entre les anticorps dirigés contre le cerveau et leurs cibles moléculaires à l’origine des symptômes neuropsychiatriques. La découverte de ces mécanismes constitue un défi majeur pour le développement de nouvelles stratégies diagnostiques et thérapeutiques. La Direction Générale de l’Offre de Soin (DGOS) a ainsi fait confiance au « consortium de forces » des chercheurs et cliniciens francais pour démarrer dès fin 2023\, un projet de recherche clinique national d’envergure (PHRC-N)\, visant à dépister et traiter les troubles psychiatriques en lien avec l’auto-immunité. \nEnglish version\n« Psychiatric disorders through the prism of autoimmunity. » \nThe role of the immune system is increasingly seen by the medical and scientific world as a new paradigm in the etiology of psychiatric diseases. Although\, autoimmunity is only one etiology among others\, it provides a better understanding of certain molecular dysfunctions that were previously unsuspected. Psychiatric diseases are a priority health problem worldwide\, and basic research has recently revolutionized the understanding of the link between antibodies their molecular neuronal targets at the origin of neuropsychiatric symptoms. The discovery of pathogenic mechanisms is a major challenge for the development of new diagnostic and treatment strategies. The French “Direction Générale de l’Offre de Soin” decided to fund a « consortium of forces » of French researchers and clinicians to lead\, from November 2023\, a major national clinical research project (PHRC-N)\, aimed at detecting and treating psychiatric disorders linked to autoimmunity. \nProgramme\nFondation scientifique et clinique du PHRC \n10h00 – 10h15\nFrédéric VILLEGA (Bordeaux CHU)\, Sébastien GARD (Président de la CME\, Centre Charles Perrens\, Bordeaux)\nTiM-DepisT en quelques mots \n10h15 – 10h45\nLaurent GROC (CNRS)\nPsychose autoimmune : de la molécule vers le patient \n10h45-11h30\nBelinda LENNOX (Oxford University\, UK)\nLessons learned from the SINAPPS2 clinical trial \n11h30-12h00\nMarion LEBOYER (CHU Créteil)\nPsychiatrie de précision: PEPR PROPSY \n12h30-14h00 Buffet \nStructuration et fonctionnement du PHRC \n14h00 – 15h30\nAnouck AMESTOY\, David MISDRAHi\, (Centre Charles Perrens\, Bordeaux)\,\nFrédéric VILLEGA (Bordeaux CHU)\nTable ronde sur les critères d’inclusion PHRC\nPrésentation Dépliant informatif et teaser Vidéo \n15h30-16h30\nGuillaume SIMON (ARC Coordonnateur)\nParcours patients\, e-CRF \n16h30-17h00\nDelphine BOUCHET (CNRS) & Cécile BORDES (Bordeaux CHU)\nDiagnostic biologique des autoanticorps & circuit des échantillons patients \n17h00-17h15\nConclusion et calendrier prévisionnel \nContact\ntimdepist@chu-bordeaux.fr \n
URL:https://www.bordeaux-neurocampus.fr/event/journee-inaugurale-du-phrc-tim-depist/
CATEGORIES:A la une,Pour les scientifiques
ATTACH;FMTTYPE=image/jpeg:https://www.bordeaux-neurocampus.fr/wp-content/uploads/2023/09/tim-depist.jpg
END:VEVENT
END:VCALENDAR