BEGIN:VCALENDAR
VERSION:2.0
PRODID:-//Bordeaux Neurocampus - ECPv4.9.10//NONSGML v1.0//EN
CALSCALE:GREGORIAN
METHOD:PUBLISH
X-WR-CALNAME:Bordeaux Neurocampus
X-ORIGINAL-URL:https://www.bordeaux-neurocampus.fr
X-WR-CALDESC:Évènements pour Bordeaux Neurocampus
BEGIN:VTIMEZONE
TZID:Europe/Paris
BEGIN:DAYLIGHT
TZOFFSETFROM:+0100
TZOFFSETTO:+0200
TZNAME:CEST
DTSTART:20220327T010000
END:DAYLIGHT
BEGIN:STANDARD
TZOFFSETFROM:+0200
TZOFFSETTO:+0100
TZNAME:CET
DTSTART:20221030T010000
END:STANDARD
END:VTIMEZONE
BEGIN:VEVENT
DTSTART;VALUE=DATE:20220913
DTEND;VALUE=DATE:20220914
DTSTAMP:20260421T192141
CREATED:20220217T140159Z
LAST-MODIFIED:20220905T065449Z
UID:145188-1663027200-1663113599@www.bordeaux-neurocampus.fr
SUMMARY:19th Synapse and Network Day
DESCRIPTION:Download the poster (pdf)\n Venue: Centre Broca Nouvelle-Aquitaine \n\nProgram\n9:00 – Jose A. ESTEBAN\nCentro de Biología Molecular Severo Ochoa\, Madrid\nPI3K signaling for neuronal growth and synaptic plasticity \n9:45 – Stéphane LÉON\nNeurocentre Magendie\nSingle-cell mapping of POMC neurons in obesity reveals novel subtypes with atypical identity \n10:05 – Vincent PAGET-BLANC\nIINS\nA Synaptomic analysis reveals dopamine hub synapses in the mouse striatum \n10:25-10:55 – Coffee break \n10:55 – François LAMBERT\nINCIA\nMultimodal integration and plasticity in extraocular motoneurons: Synapse or phenotype matters? \n11:25 – Ignacio FERNANDEZ MONCADA\nNeurocentre Magendie\nCB1 receptors control memoryconsolidation via modulation of astroglial lactate and L-serine metabolism \n11:45 – Agatha IDZIAK\nIINS\nIt’s time for GreenT! A novel sensor for extracellular calcium imaging \n12:05 – Cyril HANUS\nInstitute for Psychiatry and Neurosciences of Paris\nN-glycans regulate synaptic receptor structure and function12:50-14:30 Lunch \n12:50-14:30 – Lunch \n14:30 – Anna BRACHET\nIINS\nOrganization and role of beta spectrins in dendritic spines \n15:00 – Lorena DELGADO\nIMN\nNormalization of substantia nigra pars reticulata parvalbumin-expressing neuron activity restores motor function in Parkinsonian mice \n15:20 – Émilie PACARY\nNeurocentre Magendie\nThe temporal origin of dentate granule neurons dictates their anatomical properties \n15:50 – Nathan BENAC\nIINS\nTransient dopamine-NMDA receptor interaction governs hippocampal synaptic and network maturation \n16:10 – Laura BALLERINI\nSISSA\, Trieste\nEngineered nanomaterials to target synapses at the nanoscale \nScientific Committee\nElena AVIGNONE (Neurocentre Magendie)\nMaurice GARRET (INCIA)\nMathieu LETELLIER (IINS)\nNathalie SANS (Neurocentre Magendie) \nRegistration\nRegistrations for lunch are closed. \nPlease fill the registration formular by following the webpage down below:\nhttps://framaforms.org/synapse-and-network-day-2022-1658751038 \n
URL:https://www.bordeaux-neurocampus.fr/event/19th-synapse-day/
CATEGORIES:A la une,Pour les scientifiques,Symposiums
END:VEVENT
END:VCALENDAR