BEGIN:VCALENDAR
VERSION:2.0
PRODID:-//Bordeaux Neurocampus - ECPv4.9.10//NONSGML v1.0//EN
CALSCALE:GREGORIAN
METHOD:PUBLISH
X-WR-CALNAME:Bordeaux Neurocampus
X-ORIGINAL-URL:https://www.bordeaux-neurocampus.fr
X-WR-CALDESC:Évènements pour Bordeaux Neurocampus
BEGIN:VTIMEZONE
TZID:Europe/Paris
BEGIN:DAYLIGHT
TZOFFSETFROM:+0100
TZOFFSETTO:+0200
TZNAME:CEST
DTSTART:20220327T010000
END:DAYLIGHT
BEGIN:STANDARD
TZOFFSETFROM:+0200
TZOFFSETTO:+0100
TZNAME:CET
DTSTART:20221030T010000
END:STANDARD
END:VTIMEZONE
BEGIN:VEVENT
DTSTART;TZID=Europe/Paris:20220531T173000
DTEND;TZID=Europe/Paris:20220531T173000
DTSTAMP:20260421T140201
CREATED:20220525T100119Z
LAST-MODIFIED:20220525T100736Z
UID:148443-1654018200-1654018200@www.bordeaux-neurocampus.fr
SUMMARY:Reproducibilitea session
DESCRIPTION:Venue: Salle SUD – CGFB \n\nCitizen Science: Can volunteers do real research? \nHost: Hugo Chateau-Laurent (Mnemosyne team – IMN) \n
URL:https://www.bordeaux-neurocampus.fr/event/reproducibilitea-session-11/
CATEGORIES:A la une,Pour les scientifiques,Société
END:VEVENT
END:VCALENDAR