BEGIN:VCALENDAR
VERSION:2.0
PRODID:-//Bordeaux Neurocampus - ECPv4.9.10//NONSGML v1.0//EN
CALSCALE:GREGORIAN
METHOD:PUBLISH
X-WR-CALNAME:Bordeaux Neurocampus
X-ORIGINAL-URL:https://www.bordeaux-neurocampus.fr
X-WR-CALDESC:Évènements pour Bordeaux Neurocampus
BEGIN:VTIMEZONE
TZID:Europe/Paris
BEGIN:DAYLIGHT
TZOFFSETFROM:+0100
TZOFFSETTO:+0200
TZNAME:CEST
DTSTART:20250330T010000
END:DAYLIGHT
BEGIN:STANDARD
TZOFFSETFROM:+0200
TZOFFSETTO:+0100
TZNAME:CET
DTSTART:20251026T010000
END:STANDARD
END:VTIMEZONE
BEGIN:VEVENT
DTSTART;TZID=Europe/Paris:20250404T113000
DTEND;TZID=Europe/Paris:20250404T113000
DTSTAMP:20260422T033527
CREATED:20241125T095655Z
LAST-MODIFIED:20250327T125242Z
UID:177972-1743766200-1743766200@www.bordeaux-neurocampus.fr
SUMMARY:Friday seminar - Manuel Mameli
DESCRIPTION:Venue: Centre Broca \n\nManuel Mameli\nUniversité de Lausanne\nhttps://dnf-unil.ch/group/m-lab/member/mameli-manuel-mameli\nhttps://scholar.google.fr/citations?user=6aJzAbcAAAAJ&hl=en \nInvited by Mario Carta (IINS)\n \nTitle\nNeural circuit mechanisms of negative affect \nAbstract\nOver the course of the last decades\, considerable progress has been made in identifying brain areas contributing to adult-newborn interactions including parental behaviors. However\, the cell-types\, ensemble dynamics and their relevance for the human brain remain obscure. My talk will discuss neural circuits of negative affect and place them in the framework of adult-newborn interactions highlighting their role for innate and specific social behaviors.\n
URL:https://www.bordeaux-neurocampus.fr/event/friday-seminar-manuel-mameli/
CATEGORIES:A la une,IINS,Pour les scientifiques,Séminaire du vendredi
END:VEVENT
END:VCALENDAR