BEGIN:VCALENDAR
VERSION:2.0
PRODID:-//Bordeaux Neurocampus - ECPv4.9.10//NONSGML v1.0//EN
CALSCALE:GREGORIAN
METHOD:PUBLISH
X-WR-CALNAME:Bordeaux Neurocampus
X-ORIGINAL-URL:https://www.bordeaux-neurocampus.fr
X-WR-CALDESC:Évènements pour Bordeaux Neurocampus
BEGIN:VTIMEZONE
TZID:Europe/Paris
BEGIN:DAYLIGHT
TZOFFSETFROM:+0100
TZOFFSETTO:+0200
TZNAME:CEST
DTSTART:20230326T010000
END:DAYLIGHT
BEGIN:STANDARD
TZOFFSETFROM:+0200
TZOFFSETTO:+0100
TZNAME:CET
DTSTART:20231029T010000
END:STANDARD
END:VTIMEZONE
BEGIN:VEVENT
DTSTART;VALUE=DATE:20231116
DTEND;VALUE=DATE:20231118
DTSTAMP:20260422T025041
CREATED:20230626T094059Z
LAST-MODIFIED:20231117T194959Z
UID:160671-1700092800-1700265599@www.bordeaux-neurocampus.fr
SUMMARY:3ème Congrès de Psychotraumatologie du CH Charles Perrens
DESCRIPTION:Lieu : CGR Le Francais\, 6 rue Fenelon 33000 Bordeaux \n\nParcours de reconstruction post-traumatique : Victimes-Patients\, Familles\, Professionnels\, Qu’avons nous à apprendre les uns des autres ? \nEn savoir plus\nhttps://www.ch-perrens.fr/actualites/3eme-congres-de-psychotraumatologie \n  \n
URL:https://www.bordeaux-neurocampus.fr/event/3eme-congres-de-psychotraumatologie-du-ch-charles-perrens/
CATEGORIES:Hors Bordeaux Neurocampus,Pour les scientifiques
END:VEVENT
END:VCALENDAR