BEGIN:VCALENDAR
VERSION:2.0
PRODID:-//Bordeaux Neurocampus - ECPv4.9.10//NONSGML v1.0//EN
CALSCALE:GREGORIAN
METHOD:PUBLISH
X-WR-CALNAME:Bordeaux Neurocampus
X-ORIGINAL-URL:https://www.bordeaux-neurocampus.fr
X-WR-CALDESC:Évènements pour Bordeaux Neurocampus
BEGIN:VTIMEZONE
TZID:Europe/Paris
BEGIN:DAYLIGHT
TZOFFSETFROM:+0100
TZOFFSETTO:+0200
TZNAME:CEST
DTSTART:20220327T010000
END:DAYLIGHT
BEGIN:STANDARD
TZOFFSETFROM:+0200
TZOFFSETTO:+0100
TZNAME:CET
DTSTART:20221030T010000
END:STANDARD
END:VTIMEZONE
BEGIN:VEVENT
DTSTART;TZID=Europe/Paris:20220621T140000
DTEND;TZID=Europe/Paris:20220621T140000
DTSTAMP:20260423T091342
CREATED:20220516T121726Z
LAST-MODIFIED:20220608T154718Z
UID:148290-1655820000-1655820000@www.bordeaux-neurocampus.fr
SUMMARY:SBM seminar: "The notion of Truth in the Biomedical Sciences"
DESCRIPTION:By Andreas Bikfalvi (BRIC) \nSalle de conférence de l’IBGC et en visioconférence: \nhttps://sbm.u-bordeaux.fr/evenements/seminaire-dandreas-bikflavi \n
URL:https://www.bordeaux-neurocampus.fr/event/smb-seminar-the-notion-of-truth-in-the-biomedical-sciences/
CATEGORIES:A la une,Hors Bordeaux Neurocampus,Pour les scientifiques
END:VEVENT
END:VCALENDAR