BEGIN:VCALENDAR
VERSION:2.0
PRODID:-//Bordeaux Neurocampus - ECPv4.9.10//NONSGML v1.0//EN
CALSCALE:GREGORIAN
METHOD:PUBLISH
X-WR-CALNAME:Bordeaux Neurocampus
X-ORIGINAL-URL:https://www.bordeaux-neurocampus.fr
X-WR-CALDESC:Évènements pour Bordeaux Neurocampus
BEGIN:VTIMEZONE
TZID:Europe/Paris
BEGIN:DAYLIGHT
TZOFFSETFROM:+0100
TZOFFSETTO:+0200
TZNAME:CEST
DTSTART:20210328T010000
END:DAYLIGHT
BEGIN:STANDARD
TZOFFSETFROM:+0200
TZOFFSETTO:+0100
TZNAME:CET
DTSTART:20211031T010000
END:STANDARD
END:VTIMEZONE
BEGIN:VEVENT
DTSTART;TZID=Europe/Paris:20211109T090000
DTEND;TZID=Europe/Paris:20211109T120000
DTSTAMP:20260423T215118
CREATED:20211027T161308Z
LAST-MODIFIED:20211027T164833Z
UID:140373-1636448400-1636459200@www.bordeaux-neurocampus.fr
SUMMARY:Lancement institutionnel des Grands Programmes de Recherche
DESCRIPTION:La cérémonie de lancement institutionnel des Grands Programmes de Recherche (GPR) de l’université de Bordeaux aura lieu le mardi 9 novembre prochain à 9h à l’Agora. \nL’université de Bordeaux\, à travers la labellisation en mai dernier de 7 Grands Programmes de Recherche (GPR)\, parmi lesquels BRAIN_2030 dont Bordeaux Neurocampus est le département de recherche porteur principal\, soutient les communautés qui ont démontré leur capacité à porter des programmes ambitieux et interdisciplinaires relevant des défis scientifiques et d’envergure internationale. \nLa cérémonie sera accessible en direct sur YouTube (et conservée ensuite sur la chaîne de l’université de Bordeaux). \nProgramme \n›  9h00 : Allocutions officielles\n›  9h30 – 12h : Présentation des Grands Programmes de Recherche \nSource\nhttps://www.u-bordeaux.fr/Evenements/De-la-recherche/Lancement-institutionnel-des-Grands-Programmes-de-Recherche \n
URL:https://www.bordeaux-neurocampus.fr/event/lancement-institutionnel-des-grands-programmes-de-recherche/
CATEGORIES:A la une,Hors Bordeaux Neurocampus,Pour les scientifiques
END:VEVENT
END:VCALENDAR