BEGIN:VCALENDAR
VERSION:2.0
PRODID:-//Bordeaux Neurocampus - ECPv4.9.10//NONSGML v1.0//EN
CALSCALE:GREGORIAN
METHOD:PUBLISH
X-WR-CALNAME:Bordeaux Neurocampus
X-ORIGINAL-URL:https://www.bordeaux-neurocampus.fr
X-WR-CALDESC:Évènements pour Bordeaux Neurocampus
BEGIN:VTIMEZONE
TZID:Europe/Paris
BEGIN:DAYLIGHT
TZOFFSETFROM:+0100
TZOFFSETTO:+0200
TZNAME:CEST
DTSTART:20190331T010000
END:DAYLIGHT
BEGIN:STANDARD
TZOFFSETFROM:+0200
TZOFFSETTO:+0100
TZNAME:CET
DTSTART:20191027T010000
END:STANDARD
END:VTIMEZONE
BEGIN:VEVENT
DTSTART;TZID=Europe/Paris:20191119T090000
DTEND;TZID=Europe/Paris:20191119T161500
DTSTAMP:20260425T164259
CREATED:20191112T145409Z
LAST-MODIFIED:20191113T115136Z
UID:112757-1574154000-1574180100@www.bordeaux-neurocampus.fr
SUMMARY:Journée scientifique - INP
DESCRIPTION:Grand Amphi de l’ENSEIRB-MATMECA – Bordeaux INP \n\nOuverte aux personnels et étudiants de Bordeaux INP\, ainsi qu’à ses partenaires scientifiques\, académiques\, industriels et institutionnels\, cette journée vise à valoriser la culture scientifique et technique\, la recherche et l’innovation sur le campus bordelais et à promouvoir la transdisciplinarité. \nIntervention en neurosciences : \n\n14h00 \nOptonutrics : une approche innovante pour étudier le rôle des nutriments sur le cerveau\nClémentine Bosch-Bouju\, enseignante à l’ENSCBP – Bordeaux INP\nchercheuse au laboratoire NutriNeurO\n(CNRS / Bordeaux INP / université de Bordeaux)\n\n\n\n14h30 \nPlasticité cérébrale et traitement anti-migratoire : stratégie thérapeutique contre les gliomes\nNorbert Bakalara\, directeur de l’ENSTBB- Bordeaux INP\nchercheur au Laboratoire de Chimie et Biologie des Membranes et des Nano-objets\n(CNRS / Bordeaux INP / université de Bordeaux / Arts et Métiers)\n\n  \nProgramme complet :\nhttps://www.bordeaux-inp.fr/fr/journee-scientifique-19112019 \n
URL:https://www.bordeaux-neurocampus.fr/event/journee-scientifique-inp/
CATEGORIES:A la une,Hors Bordeaux Neurocampus
END:VEVENT
END:VCALENDAR