BEGIN:VCALENDAR
VERSION:2.0
PRODID:-//Bordeaux Neurocampus - ECPv4.9.10//NONSGML v1.0//EN
CALSCALE:GREGORIAN
METHOD:PUBLISH
X-WR-CALNAME:Bordeaux Neurocampus
X-ORIGINAL-URL:https://www.bordeaux-neurocampus.fr
X-WR-CALDESC:Évènements pour Bordeaux Neurocampus
BEGIN:VTIMEZONE
TZID:Europe/Paris
BEGIN:DAYLIGHT
TZOFFSETFROM:+0100
TZOFFSETTO:+0200
TZNAME:CEST
DTSTART:20160327T010000
END:DAYLIGHT
BEGIN:STANDARD
TZOFFSETFROM:+0200
TZOFFSETTO:+0100
TZNAME:CET
DTSTART:20161030T010000
END:STANDARD
END:VTIMEZONE
BEGIN:VEVENT
DTSTART;VALUE=DATE:20161213
DTEND;VALUE=DATE:20161214
DTSTAMP:20260424T061747
CREATED:20161213T203601Z
LAST-MODIFIED:20200925T193842Z
UID:125680-1481587200-1481673599@www.bordeaux-neurocampus.fr
SUMMARY:HDR -Elena Avignone
DESCRIPTION:Role des microglies en pathologie et physiologie \n\nLe 13 décembre 2016 \n\nSince 2005\, my research activity my research activity aimed to understand how microglial mutually interact with neurons. I approached this questions investigated microglia properties and the mechanisms regulating microglia-neurons interaction in pathological and physiological conditions using several complementary experimental methods\, including electrophysiology and imaging. Microglail cells\, the resident macrophage of CNS\, sense local biochemical changes\, and they move their processes to probe their environment. Following exposure to a variety of stimuli they become activated\, a multifaceted process which includes several functional changes and depends on the stimulatory contexts.\nBeside their role in pathology they play important roles in physiology\, in particularly during development. My work contributed to better define the concept of activation. We published the first functional characterization of these cells after a status epilepticus\, and then I described how the activation process affect microglial motility. Recently\, I published how the dynamics of microglia change its dynamics and its interaction after induction of plasticity. \n Publications \nPfeiffer T\, Avignone E*\, Nägerl UV* Induction of hippocampal long-term potentiation increases the morphological dynamics of microglial processes and prolongs their contacts with dendritic spines.(2016 ) Sci Rep. Sep 8;6:32422 \nAvignone E\, Lepleux M\, Angibaud J\, Nägerl UV. Altered morphological dynamics of activated microglia after induction of status epilepticus (2015). J Neuroinflammation. 2015 Nov 4;12:202 \nUlmann L*\, Levavasseur F*\, Avignone E*\, Peyroutou R\, Hirbec H\, Audinat E\, Rassendren F. Involvement of P2X4 receptors in hippocampal microglial activation after status epilepticus (2013). Glia\, 61(8):1306-19. \nBethge P\, Chéreau R\, Avignone E\, Marsicano G\, Nägerl UV Two-photon excitation STED microscopy in two colors in acute brain slices. (2013) Biophys J. Feb 19;104(4):778-85 \nAvignone E\, Ulmann L\, Levavasseur F\, Rassendren F\, Audinat E. Status epilepticus induces a particular microglial activation state characterized by enhanced purinergic signaling. (2008) J Neurosci.\, 28(37):9133-44 \n\n\n
URL:https://www.bordeaux-neurocampus.fr/event/hdr-elena-avignone/
CATEGORIES:HDR
END:VEVENT
END:VCALENDAR