BEGIN:VCALENDAR
VERSION:2.0
PRODID:-//Bordeaux Neurocampus - ECPv4.9.10//NONSGML v1.0//EN
CALSCALE:GREGORIAN
METHOD:PUBLISH
X-WR-CALNAME:Bordeaux Neurocampus
X-ORIGINAL-URL:https://www.bordeaux-neurocampus.fr
X-WR-CALDESC:Évènements pour Bordeaux Neurocampus
BEGIN:VTIMEZONE
TZID:Europe/Paris
BEGIN:DAYLIGHT
TZOFFSETFROM:+0100
TZOFFSETTO:+0200
TZNAME:CEST
DTSTART:20140330T010000
END:DAYLIGHT
BEGIN:STANDARD
TZOFFSETFROM:+0200
TZOFFSETTO:+0100
TZNAME:CET
DTSTART:20141026T010000
END:STANDARD
END:VTIMEZONE
BEGIN:VEVENT
DTSTART;VALUE=DATE:20141009
DTEND;VALUE=DATE:20141010
DTSTAMP:20260426T031515
CREATED:20141009T094128Z
LAST-MODIFIED:20201102T220052Z
UID:20228-1412812800-1412899199@www.bordeaux-neurocampus.fr
SUMMARY:HDR - Matthieu Wolff
DESCRIPTION:« Hétérogénéité fonctionnelle du thalamus limbique: des fonctions hippocampiques aux fonctions corticales. » \n\nLes comportements adaptatifs  reposent sur  des fonctions dites exécutives\, correspondant à l’ensemble des aptitudes qui permettent aux mammifères d’engager ou de réfréner des actions sur la base de représentations internes et de stimuli environnementaux. Ces fonctions sont notamment supportées par le cortex préfrontal\, qui joue un rôle intégrateur fondamental\, mais les modèles théoriques les plus récents privilégient toutefois un support anatomique plus distribué\, faisant intervenir de multiples régions sous-corticales comme le striatum dorsal\, l’amygdale basolatérale  ou\, plus récemment\, le thalamus limbique.\n \nLe thalamus limbique est une structure fortement différenciée qui se caractérise par son hétérogénéité fonctionnelle. En particulier\, il est clair que plusieurs subdivisions de cette région jouent un rôle important dans les aptitudes cognitives permettant une adaptation aux conditions changeantes de l’environnement. D’une façon générale\, le thalamus limbique occupe une position stratégique à l’interface entre le lobe temporal médian et le cortex. Plusieurs circuits spécifiques mettant en jeu ces composantes temporo-thalamo-corticales coexistent et supportent des fonctions distinctes. \nMes travaux passés ont accordé une large part à l’étude du thalamus antérieur\, généralement considéré comme une émanation fonctionnelle d’un système hippocampique dit étendu. Nous avons notamment pu démontrer qu’à l’instar de l’hippocampe\, l’intégrité de cette région est nécessaire à des aptitudes aussi bien spatiales que non spatiales\, et en particulier dans l’utilisation flexible des informations (représentations contextuelles / relationnelles). Par ailleurs\, un couplage fonctionnel étroit entre le thalamus antérieur et la région cingulaire est évident\, confirmant ainsi la validité anatomique du circuit proposé par Papez tout en élargissant son spectre fonctionnel\, qui ne se restreint pas à l’expérience émotionnelle. \nPlus récemment\, mes travaux concernent également le thalamus médiodorsal qui\, classiquement\, fournit un vaste contingent d’afférences thalamiques permettant de définir le cortex préfrontal. Nous avons pu confirmer que cette région supporte des fonctions différentes  de celles assurée par le thalamus antérieur\, et en particulier que le thalamus médiodorsal participe de façon décisive aux processus gouvernant les mécanismes de la prise de décision\, dans le cadre général des comportements adaptatifs. \nActuellement\, nous développons des approches de connectivité fonctionnelle visant à caractériser finement l’implication de voies thalamocorticales spécifiques issues du thalamus médiodorsal. Pour ce faire\, nous associons une approche pharmacogénétique et l’utilisation de vecteur viraux rétrograde\, ce qui permet ainsi de contrôler l’activité de neurones thalamiques sur la base de leurs projections corticales spécifiques. \nAu final\, le recours à des modèles animaux permet ainsi de faire progresser notre connaissance des fonctions assurées par le thalamus limbique et en particulier de clarifier la contribution respective de ses différentes composantes. En effet\, l’étude de cas cliniques ne permet pas d’identifier avec certitude les sites thalamiques dont les dommages sont associés aux troubles caractérisant les amnésies d’origine diencéphalique (syndrome de Korsakoff\, attaques vasculaires)\, typiquement de typologie et de sévérité comparables aux amnésies temporales. En effet\, de tels dommages ont pour effet de déconnecter le lobe temporal du cortex\, produisant des symptômes variant en fonction de l’ampleur de cette déconnexion\, mais également des circuits spécifiques plus particulièrement affectés. A terme\, le recours aux méthodes avancées de connectivité fonctionnelle chez l’animal est un enjeu majeur pour décrypter les mécanismes neurobiologiques régissant les comportements adaptatifs. \n  \nPublications récentes : \nWolff M\, Alcaraz F\, Marchand AR\, Coutureau E. Functional heterogeneity of the limbic thalamus: from cortical to hippocampal functions. Neuroscience and Biobehavioral Reviews. En révision (sur invitation). \nNaneix F*\, Alcaraz F*\, Desfosses E\, Marcahnd AR\, Wolff M#\, Coutureau E#. Dissociable effects of anterior and mediodorsal thalamic lesions on spatial goal-directed behaviour . Brain Struct Funct. 2014 Sep 27. [Epub ahead of print] \nLoukavenko EL*\, Wolff M*\, Poirier G\, Dalrymple-Alford JC. Impaired spatial working memory after anterior thalamic lesions: Recovery with cerebrolysin and enrichment. Brain Structure and Fucntions. En révision. * Contributed equally \nMarchand A\, Faugere A\, Coutureau E\, Wolff M (2014) A role for anterior thalamic nuclei in contextual fear memory. Brain Struct Funct. 219:1575-86. \n Mendez-Lopez M\, Arias JL\, Bontempi B\, Wolff M (2013) Reduced cytochrome oxidase activity in the retrosplenial cortex after lesions to the anterior thalamic nuclei. Behav Brain Res 250:264-273. \nDupire A\, Kant P\, Mons N\, Marchand AR\, Coutureau E\, Dalrymple-Alford J\, Wolff M (2013) A role for anterior thalamic nuclei in affective cognition: interaction with environmental conditions. Hippocampus 23:392-404. \nMathieu Wolff \n\nJury\n\nCatherine Le Moine\n DR CNRS\, Univ Bordeaux\,\nRapporteur \nJean-Christophe Cassel\nProfesseur\,Univ Strasbourg\, Rapporteur \nBruno Poucet\nDR CNRS\, Univ Provence\,\nRapporteur \nClaire Rampon\n DR CNRS\, \nUnivToulouse\, Examinateur \nRobert Jaffard\n Professeur Emérite\, \nUniv Bordeaux\, Examinateur\n\n
URL:https://www.bordeaux-neurocampus.fr/event/hdr-matthieu-wolff-2/
CATEGORIES:HDR
END:VEVENT
END:VCALENDAR