BEGIN:VCALENDAR
VERSION:2.0
PRODID:-//Bordeaux Neurocampus - ECPv4.9.10//NONSGML v1.0//EN
CALSCALE:GREGORIAN
METHOD:PUBLISH
X-WR-CALNAME:Bordeaux Neurocampus
X-ORIGINAL-URL:https://www.bordeaux-neurocampus.fr
X-WR-CALDESC:Évènements pour Bordeaux Neurocampus
BEGIN:VTIMEZONE
TZID:Europe/Paris
BEGIN:DAYLIGHT
TZOFFSETFROM:+0100
TZOFFSETTO:+0200
TZNAME:CEST
DTSTART:20230326T010000
END:DAYLIGHT
BEGIN:STANDARD
TZOFFSETFROM:+0200
TZOFFSETTO:+0100
TZNAME:CET
DTSTART:20231029T010000
END:STANDARD
END:VTIMEZONE
BEGIN:VEVENT
DTSTART;VALUE=DATE:20230327
DTEND;VALUE=DATE:20230331
DTSTAMP:20260421T090649
CREATED:20230321T160210Z
LAST-MODIFIED:20230324T105525Z
UID:157521-1679875200-1680220799@www.bordeaux-neurocampus.fr
SUMMARY:Semaine de l'écologie et de la solidarité
DESCRIPTION:Du 27 au 30 mars\, sur tous les campus\, ce temps privilégié de rencontres et d’animations a pour objectif de sensibiliser les publics de l’université\, étudiants et personnels\, aux enjeux environnementaux et sociaux et aux solutions durables. C’est l’occasion de valoriser les diverses initiatives et engagements et de mobiliser chacune et chacun autour des questions de transition. \nSur le campus Carreire rendez-vous le lundi 27 mars et 11h à 14h\, sur le nouveau Pôle de vie de campus (entre l’IBGC et le RU)\n \nSTANDS \n\nFriperie de printemps\, par l’asso ABFO x Etu’Recup\n(collecte de vêtements tout au long du mois de mars au Bureau de la vie étudiante)\nSensibilisation à la fast fashion\, par Etu’Recup\n« Hinvisible »\, atelier de sensibilisation au handicap invisible\, par le réseau des ambassadeurs handicap\n« Mobi clean »\, initiation à la clean walk et information sur les déchets amassés lors d’une collecte\nPar l’asso MOBIL’\n« Comment trier mes déchets ? » & « Café signes » : jeu sur le tri des déchets en appartement et sensibilisation/initiation à la langue des signes\nPar l’asso ACEPB\n« L’océan\, la poubelle du monde : impacts et solutions »\, par l’asso AEBBCB\n« Choquez-nous »\, initiation au massage cardiaque > Comment reconnaitre un arrêt cardio-respiratoire / Rappel des numéros d’urgence\n« Le Tic-Tac : la monnaie-temps d’Arlac » : animation autour du système d’échange solidaire et citoyen « Arlacoopé »\, lancé par le quartier d’Arlac à Mérignac\, proche du campus Carreire\nPar le Bureau de la vie étudiante\nInstitut des transitions > Présentation de la campagne de financement de projets « Quick Win 2 » et Challenge Energic\n« Durability Days » : sensibilisation et jeux autour de la mobilité\, le textile\, les déchets\, le bien-être\, l’égalité entre les sexes\, l’ alimentation\nPar la fédération ATENA\n« Prisme »\, une étude sur la santé et le bien-être des étudiants\, pour construire des interventions de prévention\n\nEXPOS \n\n« Les solutions face au changement climatique »\, exposition de posters sur les solutions possibles pour lutter contre le changement climatique\nPar l’asso des Carabins de Bordeaux\n« Les récits du monde de demain » : peintures\, sculptures et photographies sur un futur imaginé par des artistes + fresque murale participative sur la même thématique ouverte aux étudiants\nBibliothèque universitaire > « Être responsable avec le numérique »\, exposition permanente de posters\, par les référentes ISPED\n\n17h30-18h30 > ESCAPE GAME \n« Au cours de l’eau »\, proposé par les ambassadeurs des transitions\, sur les enjeux environnementaux et sociétaux\nInscription obligatoire \nTout le programme\nhttps://www.u-bordeaux.fr/evenements/semaine-de-lecologie-et-de-la-solidarite \n
URL:https://www.bordeaux-neurocampus.fr/event/semaine-de-lecologie-et-de-la-solidarite/
CATEGORIES:Evénement Université,Société
END:VEVENT
END:VCALENDAR