BEGIN:VCALENDAR
VERSION:2.0
PRODID:-//Bordeaux Neurocampus - ECPv4.9.10//NONSGML v1.0//EN
CALSCALE:GREGORIAN
METHOD:PUBLISH
X-WR-CALNAME:Bordeaux Neurocampus
X-ORIGINAL-URL:https://www.bordeaux-neurocampus.fr
X-WR-CALDESC:Évènements pour Bordeaux Neurocampus
BEGIN:VTIMEZONE
TZID:Europe/Paris
BEGIN:DAYLIGHT
TZOFFSETFROM:+0100
TZOFFSETTO:+0200
TZNAME:CEST
DTSTART:20240331T010000
END:DAYLIGHT
BEGIN:STANDARD
TZOFFSETFROM:+0200
TZOFFSETTO:+0100
TZNAME:CET
DTSTART:20241027T010000
END:STANDARD
END:VTIMEZONE
BEGIN:VEVENT
DTSTART;VALUE=DATE:20241118
DTEND;VALUE=DATE:20241206
DTSTAMP:20260422T105433
CREATED:20240123T171300Z
LAST-MODIFIED:20241128T174622Z
UID:167216-1731888000-1733443199@www.bordeaux-neurocampus.fr
SUMMARY:Cajal lectures - Movement and motor control in health and disease
DESCRIPTION:The Brain Prize Course \nLectures are open to everyone. \nVenue: CARF \n\nNovember 18 – 11:00am\nSilvia Arber (Basel University\, Switzerland)\nDisentangling brainstem circuits for body movement. \nNovember 19 – 9:00am\nDavid McLean (University of Edinburgh\, UK)\nSizing up principles of recruitment during locomotion in zebrafish. \nNovember 20 – 9:00am\nSamuel Sober (Emory University\, USA)\nSpiking codes for skilled motor control. \nNovember 20 – 11:00am\nClaire Wyart (Paris Brain Institute\, France)\nOptical innovations to probe connectivity and functions of sensorimotor circuits of the brainstem and spinal cord. \nNovember 25 – 9:00am\nLora Sweeney (Institute of Science and Technology\, Austria)\nEvolution and development of swim versus limb motor circuits. \nNovember 25 – 11:00am\nJonathan Whitlock (KISN\, Norway)\nCortical integration of posture and active sensing in freely moving animals. \nNovember 28 – 9:00am\nCamille Jeunet (Bordeaux University\, France)\nBCI-based neurofeedback training procedures to restore or improve motor skills: a user-centred approach. \nNovember 28 – 11:00am\nMarie-Laure Welter (Paris Brain Institute\, France)\nUnderstanding Gait and Balance Disorders in Parkinson’s Disease: The Role of Basal Ganglia and Mesencephalic Locomotor Region Dysfunction. \nNovember 29 – 9:00am\nNicolas Mallet (Bordeaux University\, France)\nAbnormal Network Dynamics in Basal ganglia circuits during Parkinsonism: Origins and pathophysiological insights. \nDecember 2 – 9:00am\n Claire Meehan (University of Copenhagen\, Denmark)\nProbing intrinsic motoneurone excitability from mice to human. \nDecember 2 – 11:00am\nGilad Silberberg (Karolinska Institute\, Sweden)\nStriatal circuits underlying sensorimotor functions. \nDecember 3 – 9:00am\nIan Duguid (University of Edinburgh\, UK)\nNeural circuits for executing task-specific movements. \nDecember 3 – 11:00am\nRune Berg (University of Copenhagen\, Denmark)\nControl of movement by spinal circuitry: Model and population recordings. \nDecember 5 – 9:00am\nJoaquim Da Silva (Champalimaud CU\, Portugal)\nDirect and indirect pathway dynamics in dystonia. \nDecember 5 – 11:00am\nOle Kiehn (University of Copenhagen\, Denmark)\nUnraveling Brainstem Circuits for Movement: Insights into Motor Control and Implications for Treatment of Movement Disorders. \nMore details about the course\nWebsite: https://cajal-training.org/on-site/movement-and-motor-control-in-health-and-disease/ \n
URL:https://www.bordeaux-neurocampus.fr/event/cajal-lectures-the-brain-prize-course-movement-and-motor-control-in-health-and-disease/
CATEGORIES:A la une,Cajal Lectures,Pour les scientifiques
ATTACH;FMTTYPE=image/jpeg:https://www.bordeaux-neurocampus.fr/wp-content/uploads/2024/06/MMCHD_background-scaled-1.jpg
END:VEVENT
BEGIN:VEVENT
DTSTART;TZID=Europe/Paris:20241203T113000
DTEND;TZID=Europe/Paris:20241203T140000
DTSTAMP:20260422T105433
CREATED:20241120T084749Z
LAST-MODIFIED:20241120T084845Z
UID:177722-1733225400-1733234400@www.bordeaux-neurocampus.fr
SUMMARY:Marché de Noël
DESCRIPTION:Lieu : hall du Neurocentre Magendie \n\nOrganise par le CLAS Inserm Bordeaux-Limoges-Poitiers \nAvec : \n\nAntton – CHOCOLATERIE\n\n\nFée des bijoux avec des cailloux – CRÉATION DE BIJOUX EN PIERRES SEMI-PRÉCIEUSES\n\n\nL’abeille et Sébastien – MIEL ET PRODUITS DE LA RUCHE\nhttps://pro.inserm.fr/wp-content/uploads/2024/11/Flyer-Labeille-et-Sebastien.pdf\n\n\nLes secrets de beauté de Mélanie – PRODUITS DE BEAUTÉ\nhttps://pro.inserm.fr/wp-content/uploads/2024/11/Flyer-Les-secrets-Beaute-de-Melanie.pdf\n\n\nMaison Cabestan – BOUGIES ET PARFUMS D’INTERIEUR\nhttps://pro.inserm.fr/wp-content/uploads/2024/11/Flyer-Maison-Cabestan.pdf\n\n\nMy Kirigami – CARTE POP-UP EN ORIGAMI\nhttps://pro.inserm.fr/wp-content/uploads/2024/11/Flyer-My-kirigami.pdf\n\n\nO’Plaisir Provençal – PRODUITS ARTISANAUX ET GOURMANDS DE PROVENCE\nhttps://pro.inserm.fr/wp-content/uploads/2024/11/Flyer-OPlaisir-Provencal.pdf\n\n\nPitoresk – PRODUITS ARTISANAUX ET GOURMANDS DU SUD-OUEST\n\n\nSo Soap – SAVONS\nhttps://pro.inserm.fr/wp-content/uploads/2024/11/Flyer-So-Soap.png\n\n\nCLAS Inserm Nouvelle-Aquitaine\n\n
URL:https://www.bordeaux-neurocampus.fr/event/marche-de-noel/
CATEGORIES:A la une,Entre nous
END:VEVENT
BEGIN:VEVENT
DTSTART;TZID=Europe/Paris:20241203T140000
DTEND;TZID=Europe/Paris:20241203T170000
DTSTAMP:20260422T105433
CREATED:20241125T130917Z
LAST-MODIFIED:20241127T170422Z
UID:177995-1733234400-1733245200@www.bordeaux-neurocampus.fr
SUMMARY:La recherche interdisciplinaire en pratique
DESCRIPTION:Lieu : Haut-Carré  \n\nCette demi-journée sera dédiée à la pratique de l’interdisciplinarité\, sa richesse comme ses difficultés. Conçue comme un temps d’échanges et de rencontres\, elle vous permettra de mieux appréhender la recherche interdisciplinaire\, que vous souhaitiez vous lancer ou que vous soyez déjà impliqué dans cette approche scientifique originale. \nProgramme\nTemps Forts\n• 14h – Découvrez ou redécouvrez la stratégie universitaire en faveur de l’interdisciplinarité\n• 14h15 – Décryptez l’interdisciplinarité autour de 3 thèmes\n• 16h15 – Discutez : Les grandes questions que vous pose la recherche interdisciplinaire \nEn continu\n• Double ou Déca ? On vous accueille à partir de 13h30 autour d’une pause café\n• Déambulez dans une expo pour découvrir la richesse des projets \nS’inscrire \nDans le cadre de la Semaine de l’innovation \n
URL:https://www.bordeaux-neurocampus.fr/event/la-recherche-interdisciplinaire-en-pratique/
CATEGORIES:A la une,Evénement Université,Pour les scientifiques
END:VEVENT
BEGIN:VEVENT
DTSTART;TZID=Europe/Paris:20241203T140000
DTEND;TZID=Europe/Paris:20241203T173000
DTSTAMP:20260422T105433
CREATED:20241125T140717Z
LAST-MODIFIED:20241129T092635Z
UID:178021-1733234400-1733247000@www.bordeaux-neurocampus.fr
SUMMARY:Mini-Symposium: Neuronal representations of valence and goal-directed behaviors
DESCRIPTION:Lieu: Bordeaux Biologie Santé (BBS) \n\nRésumé\nLa survie des animaux dépend de variables internes\, telles que le besoin de se nourrir\, de boire ou de se reproduire. Avec les stimuli externes et les expériences passées\, ces variables définissent l’état d’un animal\, ou état émotionnel\, qui détermine un répertoire de comportements appropriés en fonction de circonstances spécifiques. Au cours des dernières années\, des progrès considérables ont été réalisés dans la compréhension de la contribution de l’activité d’un seul neurone aux comportements appétitifs et aversifs dans des contextes pavloviens ou instrumentaux. Cependant\, nous avons encore une vision lacunaire de la façon dont l’activité collective des neurones au sein de circuits spécifiques contribue à la représentation neuronale d’états émotionnels spécifiques. Dans ce mini symposium\, nous réunissons des experts mondiaux de premier plan dans le domaine du traitement émotionnel qui discuteront des données récentes relatives aux principes neurobiologiques généraux qui sous-tendent le développement des états émotionnels à travers différents paradigmes comportementaux et régions cérébrales. \nIntervenants\n– Dr. Stéphanie Trouche (IGF CNRS UMR 5203\, Montpellier\, France)\n« A novel neuronal circuit embedded in the amygdala-accumbens pathway for fear expression » \n– Dr. Daniel Salzman (Columbia University\, New York\, USA)\nThe representational geometry of emotional states in basolateral amygdala \n– Dr. Shauna Parkes (INCIA UMR 5287\, Bordeaux\, France)\n« Relative value encoding across species » \n– Dr. Andreas Luthi (FMI Basel\, Switzerland)\n« Adaptive coding of value and goal directed behavior in the amygdala » \nOrganisé par\n\nCyril Herry (Neurocentre Magendie)\nAnass El Azraoui (Neurocentre Magendie)\n\n
URL:https://www.bordeaux-neurocampus.fr/event/mini-symposium-neuronal-representations-of-valence-and-goal-directed-behaviors/
CATEGORIES:A la une,Pour les scientifiques,Symposiums
ATTACH;FMTTYPE=image/png:https://www.bordeaux-neurocampus.fr/wp-content/uploads/2024/11/Sans-titre.png
END:VEVENT
END:VCALENDAR