BEGIN:VCALENDAR
VERSION:2.0
PRODID:-//Bordeaux Neurocampus - ECPv4.9.10//NONSGML v1.0//EN
CALSCALE:GREGORIAN
METHOD:PUBLISH
X-WR-CALNAME:Bordeaux Neurocampus
X-ORIGINAL-URL:https://www.bordeaux-neurocampus.fr
X-WR-CALDESC:Évènements pour Bordeaux Neurocampus
BEGIN:VTIMEZONE
TZID:Europe/Paris
BEGIN:DAYLIGHT
TZOFFSETFROM:+0100
TZOFFSETTO:+0200
TZNAME:CEST
DTSTART:20240331T010000
END:DAYLIGHT
BEGIN:STANDARD
TZOFFSETFROM:+0200
TZOFFSETTO:+0100
TZNAME:CET
DTSTART:20241027T010000
END:STANDARD
END:VTIMEZONE
BEGIN:VEVENT
DTSTART;VALUE=DATE:20241118
DTEND;VALUE=DATE:20241206
DTSTAMP:20260422T123425
CREATED:20240123T171300Z
LAST-MODIFIED:20241128T174622Z
UID:167216-1731888000-1733443199@www.bordeaux-neurocampus.fr
SUMMARY:Cajal lectures - Movement and motor control in health and disease
DESCRIPTION:The Brain Prize Course \nLectures are open to everyone. \nVenue: CARF \n\nNovember 18 – 11:00am\nSilvia Arber (Basel University\, Switzerland)\nDisentangling brainstem circuits for body movement. \nNovember 19 – 9:00am\nDavid McLean (University of Edinburgh\, UK)\nSizing up principles of recruitment during locomotion in zebrafish. \nNovember 20 – 9:00am\nSamuel Sober (Emory University\, USA)\nSpiking codes for skilled motor control. \nNovember 20 – 11:00am\nClaire Wyart (Paris Brain Institute\, France)\nOptical innovations to probe connectivity and functions of sensorimotor circuits of the brainstem and spinal cord. \nNovember 25 – 9:00am\nLora Sweeney (Institute of Science and Technology\, Austria)\nEvolution and development of swim versus limb motor circuits. \nNovember 25 – 11:00am\nJonathan Whitlock (KISN\, Norway)\nCortical integration of posture and active sensing in freely moving animals. \nNovember 28 – 9:00am\nCamille Jeunet (Bordeaux University\, France)\nBCI-based neurofeedback training procedures to restore or improve motor skills: a user-centred approach. \nNovember 28 – 11:00am\nMarie-Laure Welter (Paris Brain Institute\, France)\nUnderstanding Gait and Balance Disorders in Parkinson’s Disease: The Role of Basal Ganglia and Mesencephalic Locomotor Region Dysfunction. \nNovember 29 – 9:00am\nNicolas Mallet (Bordeaux University\, France)\nAbnormal Network Dynamics in Basal ganglia circuits during Parkinsonism: Origins and pathophysiological insights. \nDecember 2 – 9:00am\n Claire Meehan (University of Copenhagen\, Denmark)\nProbing intrinsic motoneurone excitability from mice to human. \nDecember 2 – 11:00am\nGilad Silberberg (Karolinska Institute\, Sweden)\nStriatal circuits underlying sensorimotor functions. \nDecember 3 – 9:00am\nIan Duguid (University of Edinburgh\, UK)\nNeural circuits for executing task-specific movements. \nDecember 3 – 11:00am\nRune Berg (University of Copenhagen\, Denmark)\nControl of movement by spinal circuitry: Model and population recordings. \nDecember 5 – 9:00am\nJoaquim Da Silva (Champalimaud CU\, Portugal)\nDirect and indirect pathway dynamics in dystonia. \nDecember 5 – 11:00am\nOle Kiehn (University of Copenhagen\, Denmark)\nUnraveling Brainstem Circuits for Movement: Insights into Motor Control and Implications for Treatment of Movement Disorders. \nMore details about the course\nWebsite: https://cajal-training.org/on-site/movement-and-motor-control-in-health-and-disease/ \n
URL:https://www.bordeaux-neurocampus.fr/event/cajal-lectures-the-brain-prize-course-movement-and-motor-control-in-health-and-disease/
CATEGORIES:A la une,Cajal Lectures,Pour les scientifiques
ATTACH;FMTTYPE=image/jpeg:https://www.bordeaux-neurocampus.fr/wp-content/uploads/2024/06/MMCHD_background-scaled-1.jpg
END:VEVENT
BEGIN:VEVENT
DTSTART;TZID=Europe/Paris:20241122T113000
DTEND;TZID=Europe/Paris:20241122T113000
DTSTAMP:20260422T123425
CREATED:20240903T200323Z
LAST-MODIFIED:20240910T141430Z
UID:174979-1732275000-1732275000@www.bordeaux-neurocampus.fr
SUMMARY:Friday seminar - Richard Naud
DESCRIPTION:Venue: Centre Broca \n\nRichard Naud\nUniversity of Ottawa \nRichard Naud is in one-year sabbatical in Naoya Takahashi’s team \nTitle\nA prospective code for value in the serotonin system \nAbstract\nThe in vivo responses of dorsal raphe nucleus (DRN) serotonin neurons to emotionally-salient stimuli are a puzzle. Existing theories centred on reward\, surprise\, salience\, and uncertainty individually account for some aspects of serotonergic activity but not others. Building on recent insights into the physiology of the DRN\, here we find a unifying perspective in a prospective code for value\, a quantity central to reinforcement learning theory. Our model explains why serotonin neurons are activated by both rewards and punishments\, and why these neurons are more strongly activated by surprising rewards but have no such surprise-preference for punishments\, observations that previous theories have failed to reconcile. In addition\, our model quantitatively predicts in vivo  activity fluctuations on the order of a single spike. By unifying previous theories and establishing a deep connection with reinforcement learning\, our work represents an important step towards understanding the role of serotonin in learning and behaviour. \n  \n
URL:https://www.bordeaux-neurocampus.fr/event/friday-seminar-richard-naud/
CATEGORIES:A la une,Pour les scientifiques,Séminaire du vendredi
END:VEVENT
BEGIN:VEVENT
DTSTART;TZID=Europe/Paris:20241122T170000
DTEND;TZID=Europe/Paris:20241122T170000
DTSTAMP:20260422T123425
CREATED:20240925T074028Z
LAST-MODIFIED:20250414T141537Z
UID:175788-1732294800-1732294800@www.bordeaux-neurocampus.fr
SUMMARY:Soutenance de thèse - Naomi Chaix-Eichel
DESCRIPTION:Lieu : Centre Broca Nouvelle-Aquitaine\nSur zoom : https://u-bordeaux-fr.zoom.us/j/82199115165\, ID de réunion: 821 9911 5165 \n \nSoutenance en anglais \n\nNaomi Chaix\nIMN\nDirecteurs de thèse : Nicolas Rougier et Thomas Boraud \nTitre\nEtude sur de l’architecture des réseaux de neurones pour la prise de décision : une approche par reservoir computing \nAbstract\nUne similitude frappante existe dans la structure de certaines régions du cerveau chez diverses espèces\, suggérant qu’elles ont été conservées au cours de l’évolution. Cette observation soulève des questions fondamentales sur les origines de ces structures et sur la possibilité d’architectures neuronales alternatives permettant d’accomplir des fonctions cognitives similaires. Pour étudier cette question\, cette thèse explore la relation entre structure du cerveau et fonctions cognitive\, particulière sur le processus de prise de décision. Nous utilisons un type de réseau neuronal récurrent structurellement minimal. Nous montrons que ce dernier réussit à résoudre des tâches décisionnelles simples ; cependant\, il nécessite de plus de contraintes structurelles lorsqu’il s’agit de traiter des tâches plus complexes. Nous employons par la suite un algorithme génétique faisant évoluer la structure du réseau vers des configurations plus complexes\, ce qui nous conduit à découvrir plusieurs solutions réalisables émergeantes de variations structurelles. De plus\, nos résultats révèlent que des architectures identiques peuvent manifester une gamme de comportements différents\, nous incitant à explorer les facteurs supplémentaires pouvant contribuer à ces différences comportementales au-delà des variations structurelles. Notre analyse du comportement de 24 singes vivant en communauté révèle que des facteurs sociaux\, tels que la hiérarchie sociale\, jouent un rôle significatif dans l’influence du comportement. Cette thèse adopte une approche qui diffère des méthodologies traditionnelles en neurosciences. Plutôt que de construire directement des architectures biologique\, les modèles sont construits en évoluent leur structures de simples à complexes\, reproduisant ainsi le processus de l’évolution biologique. En s’appuyant sur les principes de réalisabilité multiple\, cette approche permet l’évolution de configurations structurelles diverses capables de parvenir à des résultats fonctionnels équivalents. \nMots-clés\nprise de décision\, reservoir-computing\, architecture des réseaux de neurones \nJury\n\n\nMme. Eleni Vasilaki – University of Sheffield\nM. Peter Dominey – University of Bourgogne\nM. Clément Moulin-Frier – INRIA Bordeaux\nMme Anne Collins -University of Berkeley\nM. Mehdi Khamassi – Sorbonne Université\nM. Thomas Boraud – IMN\nM. Nicolas P. ROUGIER – INRIA Bordeaux\n\n\n
URL:https://www.bordeaux-neurocampus.fr/event/soutenance-de-these-naomi-chaix/
CATEGORIES:IMN,Thèses
END:VEVENT
END:VCALENDAR