BEGIN:VCALENDAR
VERSION:2.0
PRODID:-//Bordeaux Neurocampus - ECPv4.9.10//NONSGML v1.0//EN
CALSCALE:GREGORIAN
METHOD:PUBLISH
X-WR-CALNAME:Bordeaux Neurocampus
X-ORIGINAL-URL:https://www.bordeaux-neurocampus.fr
X-WR-CALDESC:Évènements pour Bordeaux Neurocampus
BEGIN:VTIMEZONE
TZID:Europe/Paris
BEGIN:DAYLIGHT
TZOFFSETFROM:+0100
TZOFFSETTO:+0200
TZNAME:CEST
DTSTART:20240331T010000
END:DAYLIGHT
BEGIN:STANDARD
TZOFFSETFROM:+0200
TZOFFSETTO:+0100
TZNAME:CET
DTSTART:20241027T010000
END:STANDARD
END:VTIMEZONE
BEGIN:VEVENT
DTSTART;VALUE=DATE:20240708
DTEND;VALUE=DATE:20240713
DTSTAMP:20260422T192255
CREATED:20231110T091644Z
LAST-MODIFIED:20240712T142744Z
UID:164267-1720396800-1720828799@www.bordeaux-neurocampus.fr
SUMMARY:Neuroergonomics
DESCRIPTION:Venue: Campus Victoire\, Bordeaux \n\nThe 5th International Neuroergonomics Conference will be held on July 8-12\, 2024\, following the success of the previous Neuroergonomics editions. \nThe 2024 Neuroergonomics Conference showcases a wide range of neurotechnologies. These advancements cover diverse areas\, including critical care\, well-being\, and everyday life. The spectrum of innovations presented includes revolutionary invasive devices\, targeted non-invasive approaches\, and wearable technologies. \nThe conference explores how these technologies benefit various fields\, such as enhancing the performance of human operators\, impaired patients\, elderly or athletes. Moreover\, it delves into cutting-edge concepts like brain-computer interfaces\, neurofeedback\, neurostimulation\, or mixed/virtual reality. By incorporating a diverse lineup of speakers and topics\, the 2024 Neuroergonomics program fosters a meeting culture that encourages the exchange of fresh ideas and facilitates meaningful connections. \nLocal organizing committee\nCamille Jeunet (CNRS\, INCIA – Equipe Mococo)\nFabien Lotte (Inria – Equipe Potioc) \nMore details\nWebsite: https://neuroergonomics2024.inria.fr/ \n
URL:https://www.bordeaux-neurocampus.fr/event/neuroergonomics/
CATEGORIES:Pour les scientifiques,Symposiums
END:VEVENT
BEGIN:VEVENT
DTSTART;VALUE=DATE:20240709
DTEND;VALUE=DATE:20240710
DTSTAMP:20260422T192255
CREATED:20241216T160805Z
LAST-MODIFIED:20241216T160805Z
UID:178908-1720483200-1720569599@www.bordeaux-neurocampus.fr
SUMMARY:Soutenance de thèse - Alice Napias
DESCRIPTION:\nSommeil et mémoire associative verbale : Relation entre le sommeil évalué en vie quotidienne et la reconnaissance mnésique de paires de mots concrets et abstraits chez les jeunes adultes étudiants et perspectives chez les adultes âgés \n\n
URL:https://www.bordeaux-neurocampus.fr/event/soutenance-de-these-alice-napias/
CATEGORIES:Thèses
END:VEVENT
BEGIN:VEVENT
DTSTART;TZID=Europe/Paris:20240709T140000
DTEND;TZID=Europe/Paris:20240709T140000
DTSTAMP:20260422T192255
CREATED:20240613T164911Z
LAST-MODIFIED:20240701T151401Z
UID:172505-1720533600-1720533600@www.bordeaux-neurocampus.fr
SUMMARY:Soutenance de thèse - Celeste Ferraguto
DESCRIPTION:Lieu : centre Broca \nSoutenance en français \n\nCeleste Ferraguto\nEquipe « MEMORY »\, INCIA \nThèse dirigée par Susanna Pietropaolo \nTitre\nLes canaux BKCa comme cible thérapeutique dans les troubles du neurodéveloppement: focus sur les dysfonctions auditives \nRésumé\nLes troubles du neurodéveloppement (TNDs) se caractérisent par un vaste éventail de phénotypes pathologiques qui englobent diverses anomalies aussi bien physiques\, cérébrales que comportementales. Parmi celles-ci\, les altérations de la perception auditive sont fréquemment observées dans plusieurs TNDs. L’existence de cette symptomatologie commune suggère que des mécanismes sous-jacents comparables seraient à l’origine des TNDs\, et donc que des stratégies thérapeutiques similaires pourraient permettre de palier les déficits observés. Malgré des efforts considérables\, des composés pharmacologiques efficaces pour le traitement de la plupart des TNDs font toujours défaut\, rendant plus que jamais nécessaire le développement de nouveaux médicaments ou l’identification de nouvelles indications thérapeutiques pour des médicaments existants (repositionnement). Le dysfonctionnement des canaux potassiques de grande conductance activés par le calcium (canaux BKCa) a émergé comme un mécanisme pathologique clé potentiellement impliqué dans plusieurs TNDs. Ces canaux ubiquitaires modulent l’activité des cellules excitables\, incluant les neurones\, les cellules musculaires lisses et cardiaques\, ainsi que les cellules ciliées de la cochlée\, leur conférant un rôle prépondérant dans les fonctions synaptiques\, cardiovasculaires et auditives. Une réduction de l’expression et de la fonctionnalité des canaux BKCa est notamment observée chez les patients atteints de deux TNDs majeurs\, à savoir les syndromes de l’X fragile (SXF) et de Williams-Beuren (SWB)\, suggérant que des composés activant ces canaux pourraient constituer des traitements prometteurs pour ces deux syndromes d’origine génétique. Dans ce contexte\, ce travail de thèse a consisté à caractériser\, à l’échelle préclinique\, le potentiel thérapeutique du chlorzoxazone\, un activateur des canaux BKCa\, pour traiter les phénotypes pathologiques associés aux SXF et SWB. Pour ce faire\, nous avons utilisé les lignées de souris mutantes Fmr1-KO et CD qui reproduisent la plupart des symptômes observés chez les patients respectivement SXF et SWB\, y compris les altérations des canaux BKCa. Dans la première partie de la thèse\, nous avons combiné des paradigmes comportementaux\, notamment des tests moteurs\, émotionnels et sociaux\, avec l’analyse de marqueurs de plasticité neuronale\, tels que l’analyse des dendrites\, les niveaux de neurotrophines et l’expression du facteur de transciption c-fos dans des régions cérébrales spécifiques. Chez les souris CD\, nous avons également caractérisé les phénotypes cardiovasculaires typiques du SWB\, à savoir l’hypertrophie cardiaque et la sténose aortique. Nos résultats montrent que le chlorzoxazone\, administré de manière aiguë ou chronique\, permet de traiter efficacement les divers phénotypes pathologiques présents chez les mutants Fmr1-KO et CD. Dans la deuxième partie\, nous nous sommes concentrés sur les altérations auditives observées chez les deux modèles de souris et nous avons révélé l’efficacité globale du chlorzoxazone à rétablir ces anomalies aux niveaux électrophysiologique (émissions otoacoustiques)\, structurel (intégrité des cellules ciliées de la cochlée et des synapses à ruban) et comportemental (réflexe du sursaut acoustique). Dans l’ensemble\, nos résultats identifient les canaux BKCa comme une cible thérapeutique prometteuse pour le traitement du SXF et du SWB\, ainsi que des dysfonctionnements auditifs associés. De plus\, ils plaident en faveur du repositionnement du chlorzoxazone\, un médicament déjà sur le marché pour le traitement des pathologies musculaires\, à des fins cliniques dans le contexte des TNDs. En conclusion\, cette thèse constitue une base préclinique solide pour de futurs essais cliniques chez les patients atteints du SXF et du SWB et démontre l’intérêt de conduire davantage de recherches précliniques sur le rôle des canaux BKCa dans les dysfonctionnements auditifs et comportementaux. \nMots clés: Troubles du neurodéveloppement\, canaux BKCa\, dysfonctions auditives\, souris génétiquement modifiées\, pharmacologie\, comportement murin \nPublications\nC. Ferraguto\, Y. Bouleau\, T. Peineau\, D. Dulon\, S. Pietropaolo. Hyperacusis in the Adult Fmr1-KO Mouse Model of Fragile X Syndrome: The Therapeutic Relevance of Cochlear Alterations and BKCa Channels. Int J Mol Sci. 2023 Jul 24;24(14):11863. doi: 10.3390/ijms241411863. \nS. Giannoccaro*\, C. Ferraguto*\, V. Petroni\, C. Marcelly\, X. Nogues\, V. Campuzano\, S.Pietropaolo. Early Neurobehavioral Characterization of the CD Mouse Model of Williams-Beuren Syndrome. Cells. 2023 Jan 21;12(3):391. doi: 10.3390/cells12030391. * equal contribution \nI. Del Pino\, C.Tocco\, E. Magrinelli\, A. Marcantoni\, C. Ferraguto\, G. Tomagra\, M. Bertacchi\, C. Alfano\, X.Leinekugel\, A. Frick\, M. Studer. COUP-TFI/Nr2f1 Orchestrates Intrinsic Neuronal Activity during Development of the Somatosensory Cortex. Cereb Cortex. 2020 Oct 1;30(11):5667-5685. doi: 10.1093/cercor/bhaa137. \nJury\nMme. BARDONI Barbara Directrice de Recherche\, Université Côte d’Azur\, Rapporteur \n EL-AMRAOUI Aziz Directeur de Recherche Université Paris Cité\, Institut Pasteur\, Rapporteur \n BONNARD Damien MCU-PH\, Université de Bordeaux\, Examinateur \n DELPECH Jean-Christophe Chargée de Recherche\, Université de Bordeaux\, Examinateur \n DULON Didier Directeur de Recherche\, Université de Bordeaux\, Invité \n
URL:https://www.bordeaux-neurocampus.fr/event/soutenance-de-these-celeste-ferraguto/
CATEGORIES:Thèses
END:VEVENT
END:VCALENDAR