BEGIN:VCALENDAR
VERSION:2.0
PRODID:-//Bordeaux Neurocampus - ECPv4.9.10//NONSGML v1.0//EN
CALSCALE:GREGORIAN
METHOD:PUBLISH
X-WR-CALNAME:Bordeaux Neurocampus
X-ORIGINAL-URL:https://www.bordeaux-neurocampus.fr
X-WR-CALDESC:Évènements pour Bordeaux Neurocampus
BEGIN:VTIMEZONE
TZID:Europe/Paris
BEGIN:DAYLIGHT
TZOFFSETFROM:+0100
TZOFFSETTO:+0200
TZNAME:CEST
DTSTART:20230326T010000
END:DAYLIGHT
BEGIN:STANDARD
TZOFFSETFROM:+0200
TZOFFSETTO:+0100
TZNAME:CET
DTSTART:20231029T010000
END:STANDARD
BEGIN:DAYLIGHT
TZOFFSETFROM:+0100
TZOFFSETTO:+0200
TZNAME:CEST
DTSTART:20240331T010000
END:DAYLIGHT
BEGIN:STANDARD
TZOFFSETFROM:+0200
TZOFFSETTO:+0100
TZNAME:CET
DTSTART:20241027T010000
END:STANDARD
END:VTIMEZONE
BEGIN:VEVENT
DTSTART;VALUE=DATE:20230916
DTEND;VALUE=DATE:20240617
DTSTAMP:20260423T012441
CREATED:20230831T131841Z
LAST-MODIFIED:20240529T183441Z
UID:162040-1694822400-1718582399@www.bordeaux-neurocampus.fr
SUMMARY:Exposition : Cervorama
DESCRIPTION:Agitez vos neurones ! \nA travers cette exposition\, Cap Sciences propose aux visiteurs de découvrir le cerveau sous toutes ses formes lors d’une visite ponctuée de manipulations\, de jeux et d’expériences… Ils pourront notamment explorer les mondes des cerveaux de l’escargot\, l’abeille\, le singe et l’homme\, tester leur mémoire dans le « cognitilab »\, découvrir leur cerveau en 3D grâce au cervomaton ou encore analyser les capacités des animaux ! \nUne exposition conçue et réalisée par Cap Sciences en partenariat avec Bordeaux Neurocampus\n \nEn savoir plus\nSite web : https://www.cap-sciences.net/au-programme/exposition/grand-public/cervorama/ \n
URL:https://www.bordeaux-neurocampus.fr/event/exposition-cervorama/
CATEGORIES:Evénements pour tous,not-calendar,pour tous homepage,Semaine du cerveau 2024
END:VEVENT
BEGIN:VEVENT
DTSTART;TZID=Europe/Paris:20240326T090000
DTEND;TZID=Europe/Paris:20240326T180000
DTSTAMP:20260423T012441
CREATED:20240314T161336Z
LAST-MODIFIED:20240326T172823Z
UID:170030-1711443600-1711476000@www.bordeaux-neurocampus.fr
SUMMARY:LabCom Bordeaux
DESCRIPTION:Vous êtes impliqué dans des collaborations de recherche public – privé ou envisagez de l’être prochainement ? Rendez-vous à l’événement LabCom Bordeaux le 26 mars. Au programme : témoignages\, retours d’expérience et regards croisés vous permettront d’appréhender l’évolution d’un partenariat vers un format structurant de type laboratoire commun. \nProgramme / inscriptions\nhttps://www.aquitaine.cnrs.fr/ \n
URL:https://www.bordeaux-neurocampus.fr/event/labcom-bordeaux/
CATEGORIES:A la une,Pour les scientifiques,Symposiums
END:VEVENT
BEGIN:VEVENT
DTSTART;TZID=Europe/Paris:20240326T113000
DTEND;TZID=Europe/Paris:20240326T130000
DTSTAMP:20260423T012441
CREATED:20240305T125445Z
LAST-MODIFIED:20240325T164742Z
UID:169018-1711452600-1711458000@www.bordeaux-neurocampus.fr
SUMMARY:Marché de Pâques
DESCRIPTION:Lieu: hall de l’institut Magendie \n\nLes exposants :  \n\nL’ABEILLE ET SEBASTIEN – Miel et produits de la ruche\nALEXANDRE BROCHARD PHOTOGRAPHIES – Photographe\nANTTON – Chocolaterie\nDANY DENAUD – Arts et décoration\nLES SECRETS DE BEAUTE DE MELANIE – Produits de beauté\nMAISON CABESTAN – Bougies et parfums d’intérieur\nMY KIRIGAMI – Cartes pop-up en origami\nORIGINES – Chocolaterie\nO’PLAISIR PROVENçAL – Produits artisanaux et gourmands de Provence\nPITORESK – Produits artisanaux et gourmands du Sud-Ouest\nSO SOAP – Savons \n\n\nTélécharger l’affiche du marché de Pâques \n\nIl y aura aussi un stand de la CASDEN ce jour-là dans le hall du Neurocentre Magendie. \n
URL:https://www.bordeaux-neurocampus.fr/event/marche-de-paques/
CATEGORIES:A la une,Entre nous
END:VEVENT
BEGIN:VEVENT
DTSTART;TZID=Europe/Paris:20240326T140000
DTEND;TZID=Europe/Paris:20240326T180000
DTSTAMP:20260423T012441
CREATED:20240311T095602Z
LAST-MODIFIED:20240311T172027Z
UID:169495-1711461600-1711476000@www.bordeaux-neurocampus.fr
SUMMARY:Séminaire SBM "Transcriptomique spatiale"
DESCRIPTION:Venue: BBS \n\nOrganisé par le département SBM (Majid Khatib du BRIC et Thomas Daubon de l’IBCG) \n\nLa transcriptomique spatiale est une méthode innovante qui permet de cartographier l’expression génique à l’échelle spatiale dans des tissus biologiques complexes. Contrairement aux techniques traditionnelles qui mesurent l’expression génique à partir d’extraits tissulaires homogénéisés\, la spatial transcriptomique permet de conserver l’information sur la localisation cellulaire des ARN messagers. Ce domaine émergeant offre des avantages significatifs pour comprendre les pathologies. En cartographiant l’expression génique à l’intérieur des tissus\, les chercheurs peuvent identifier les types cellulaires spécifiques impliqués dans les processus pathologiques\, comprendre les interactions entre ces cellules et révéler les altérations moléculaires associées aux maladies. \nLa transcriptomique spatiale offre une nouvelle perspective pour étudier les pathologies en permettant une visualisation détaillée de l’expression génique à l’intérieur des tissus\, ce qui ouvre la voie à une meilleure compréhension des mécanismes de la maladie et à des stratégies thérapeutiques plus ciblées. \nDans ce cadre\, Majid Khatib (BRIC) et Thomas Daubon (IBGC)\, les organisateurs\, ont convié Jeffrey R. Moffitt (Harvard Medical School) et Dieter Henrik Heiland (Medical Center University of Freiburg). Pendant une heure trente\, ces experts aborderont cette thématique d’intérêt général pour tous les membres du département. \nPour cette deuxième édition\, les doctorants et post-doctorants sont encouragés à présenter des communications flash de 5 minutes afin de stimuler la discussion avec les orateurs et l’audience. Ils peuvent également partager des résultats préliminaires. \nVous êtes chercheur et souhaitez discuter avec les invités ? Merci de contacter candice.menegon@u-bordeaux.fr afin de mettre en place des créneaux de rencontre. \nProgramme : \n\n14h : Jeffrey R. Moffitt et Dieter Henrik Heiland\,\n15h30 : Flash communication de 5 minutes\n16h : Pot de l’amitié\n17h : Table-ronde pour les jeunes chercheurs\n\n\nSource :\nhttps://sbm.u-bordeaux.fr/evenements/seminaire-thematique-transcriptomique-spatiale \n  \n
URL:https://www.bordeaux-neurocampus.fr/event/seminaire-sbm-transcriptomique-spatiale-2024/
CATEGORIES:A la une,Hors Bordeaux Neurocampus,Pour les scientifiques
END:VEVENT
END:VCALENDAR