BEGIN:VCALENDAR
VERSION:2.0
PRODID:-//Bordeaux Neurocampus - ECPv4.9.10//NONSGML v1.0//EN
CALSCALE:GREGORIAN
METHOD:PUBLISH
X-WR-CALNAME:Bordeaux Neurocampus
X-ORIGINAL-URL:https://www.bordeaux-neurocampus.fr
X-WR-CALDESC:Évènements pour Bordeaux Neurocampus
BEGIN:VTIMEZONE
TZID:Europe/Paris
BEGIN:DAYLIGHT
TZOFFSETFROM:+0100
TZOFFSETTO:+0200
TZNAME:CEST
DTSTART:20230326T010000
END:DAYLIGHT
BEGIN:STANDARD
TZOFFSETFROM:+0200
TZOFFSETTO:+0100
TZNAME:CET
DTSTART:20231029T010000
END:STANDARD
BEGIN:DAYLIGHT
TZOFFSETFROM:+0100
TZOFFSETTO:+0200
TZNAME:CEST
DTSTART:20240331T010000
END:DAYLIGHT
BEGIN:STANDARD
TZOFFSETFROM:+0200
TZOFFSETTO:+0100
TZNAME:CET
DTSTART:20241027T010000
END:STANDARD
END:VTIMEZONE
BEGIN:VEVENT
DTSTART;VALUE=DATE:20230916
DTEND;VALUE=DATE:20240617
DTSTAMP:20260423T031533
CREATED:20230831T131841Z
LAST-MODIFIED:20240529T183441Z
UID:162040-1694822400-1718582399@www.bordeaux-neurocampus.fr
SUMMARY:Exposition : Cervorama
DESCRIPTION:Agitez vos neurones ! \nA travers cette exposition\, Cap Sciences propose aux visiteurs de découvrir le cerveau sous toutes ses formes lors d’une visite ponctuée de manipulations\, de jeux et d’expériences… Ils pourront notamment explorer les mondes des cerveaux de l’escargot\, l’abeille\, le singe et l’homme\, tester leur mémoire dans le « cognitilab »\, découvrir leur cerveau en 3D grâce au cervomaton ou encore analyser les capacités des animaux ! \nUne exposition conçue et réalisée par Cap Sciences en partenariat avec Bordeaux Neurocampus\n \nEn savoir plus\nSite web : https://www.cap-sciences.net/au-programme/exposition/grand-public/cervorama/ \n
URL:https://www.bordeaux-neurocampus.fr/event/exposition-cervorama/
CATEGORIES:Evénements pour tous,not-calendar,pour tous homepage,Semaine du cerveau 2024
END:VEVENT
BEGIN:VEVENT
DTSTART;VALUE=DATE:20240205
DTEND;VALUE=DATE:20240207
DTSTAMP:20260423T031533
CREATED:20240116T162214Z
LAST-MODIFIED:20240125T101104Z
UID:166919-1707091200-1707263999@www.bordeaux-neurocampus.fr
SUMMARY:Symposium: Shedding Light on the Brain with Advanced Biophotonics
DESCRIPTION:Venue: Centre Broca \nOrganized by Valentin Nägerl and Naoya Takahashi (IINS) \n\nThis 2-day symposium brings together leading developers and practitioners of cutting-edge neurotechnology techniques for high-resolution recording and manipulating the electro-chemical activity of the brain at the level of molecules\, cells and circuits. Half of the speakers come from the National Institute of Physiological Sciences (NIPS) in Okazaki\, one of the premier institutes for biomedical research in Japan (http://www.nips.ac.jp/eng/)\, headed by Prof. Junichi Nabekura\, who will be part of the delegation. All of the Japanese visitors are PIs at the NIPS with major contributions and publications in the domain. The other half of the speakers come from IINS and BIC\, whose research is similarly impactful\, attracting international attention. Importantly\, the research carried out by both sides provides for a lot of common ground while nicely complementing each other\, offering the chance for interesting and fertile discussions and learning opportunities for all attendees\, from students to postdocs and research faculty. The speakers will cover many exciting and timely topics in neurophotonics and neuroscience\, including novel microscopies and biosensors\, deep tissue multi-photon microscopy and super-resolution imaging\, presenting their latest methodological developments and neurobiological discoveries. \nProgram\nMonday 5 February\nSession 1 \n09:15-09:45 Hideji Murakoshi (NIPS)\nOptogenetic manipulation and imaging of signaling molecules in dendritic spines of neurons \n09:45-10:15 Laurent Groc (IINS)\nExploring the neuronal membrane and extracellular environment at the single molecule level \n10:15-10:45 Taisuke Yoneda (NIPS)\nExperience-dependent plasticity and visual response selectivity of layer 6b neuron subtypes in the mouse primary visual cortex \nSession 2 \n11:00-11:30 Hirokazu Ishii (NIPS/ExCELLS)\nAdvances in brain tissue two-photon laser-scanning microscopy utilizing novel techniques \n11:30-12:00 Fred Gambino (IINS)\nTwo-photon imaging of decision function during motor planning \n12:00-12:30 Hiroaki Wake (NIPS)\nHolographic microscope for multi-cellular measurement and manipulation \n12:30-13:00 Naoya Takahashi (IINS)\nDistinct roles of cortical layer 5 neuron subtypes in tactile detection and learning \nSession 3 \n14:30-15:00 Kohei Otomo (NIPS/ExCELLS)\ndescSPIM: user-affordable DIY light-sheet microscopy for cleared tissue specimens \n15:00-15:30 Mathieu Ducros (BIC)\nLattice Light-Sheet Microscopy for Neuroscience Research \n15:30-16:00 Masaru Ishii (Osaka University)\nIntravital multiphoton imaging dissecting immune cellular dynamics in vivo \n16:00-16:30 Valentin Nägerl (IINS)\nSTED imaging in mouse brain in vivo \n16:30-17:00 Takushi Shimomura (NIPS)\nVoltage clamp fluorometry of two-pore channels reveals a unique movement of 2nd S4 helix \n17:00-17:30 Jean-Baptiste Sibarita (IINS)\n3D imaging at different scales using single-objective light-sheet microscopy \nTuesday 6 February\nSession 4 \n09:00-09:30 Nabekura Junichi (NIPS)\nRemodeling of S1 circuits in chronic pain model: towards clinical trials \n09:30-10:00 Mario Carta (IINS)\nCellular coding of temperature in the mammalian cortex \n10:00-10:30 Ikuko Takeda (NIPS)\nThe role of astrocyte in V2L neuronal remodeling following vision loss \n10:30-11:00 Mathieu Sainlos (IINS)\nProtein engineering for the investigation of endogenous synaptic proteins \n11:00-11:15 Break \n11:15-12:00 Discussion \n
URL:https://www.bordeaux-neurocampus.fr/event/symposium-shedding-light-on-the-brain-with-advanced-biophotonics/
CATEGORIES:A la une,Pour les scientifiques,Symposiums
END:VEVENT
BEGIN:VEVENT
DTSTART;TZID=Europe/Paris:20240205T180000
DTEND;TZID=Europe/Paris:20240205T180000
DTSTAMP:20260423T031533
CREATED:20240126T125454Z
LAST-MODIFIED:20240126T125454Z
UID:167301-1707156000-1707156000@www.bordeaux-neurocampus.fr
SUMMARY:Soirée Santé - Maladie d'Alzeihmer : prévention\, diagnostic et futurs traitements
DESCRIPTION:Lieu : Station Ausone – 8 rue de la Vieille Tour\, Bordeaux\n \n\nLa maladie d’Alzheimer est la principale cause de démence. Bien que le nombre total de cas comptabilisés dans notre pays continue d’augmenter du fait du vieillissement de la population\, le nombre de nouveaux cas par tranche d’âge commence à diminuer\, probablement grâce aux différentes mesures de santé publique mises en place dans la deuxième moitié du XXeme siècle. Nous verrons dans cette conférence que ces stratégies de prévention de la maladie d’Alzheimer peuvent encore largement être optimisées et qu’elles sont l’affaire de tous. \nCes 20 dernières années\, les connaissances théoriques sur la maladie d’Alzheimer ont explosé. Celles-ci ont permis le développement de nouveaux biomarqueurs de la maladie qui rendent aujourd’hui le diagnostic plus précis et plus précoce\, avec un réel impact sur le pronostic à long terme des patients. Aussi\, ces nouvelles connaissances ont permis le développement de nouveaux traitements ciblant spécifiquement les lésions de la maladie : les immunothérapies anti-amyloïdes. Ces médicaments concernent les patients souffrant d’une maladie au stade précoce\, qui sont en partie identifiés grâce aux biomarqueurs. Bien que déjà disponibles aux Etats-Unis et au Japon\, ces traitements ont une balance bénéfice-risque étroite et font donc l’objet d’intenses discussions en Europe et en France avant d’arriver éventuellement dans nos hôpitaux. \nLe Dr Vincent Planche est neurologue\, responsable du Centre Mémoire Ressources Recherche du CHU de Bordeaux et chercheur à l’Institut des Maladies Neurodégénératives (CNRS – Université de Bordeaux) \nEn savoir plus: https://www.mollat.com/evenements/soiree-sante-maladie-alzeihmer \n
URL:https://www.bordeaux-neurocampus.fr/event/soiree-sante-maladie-dalzeihmer-prevention-diagnostic-et-futurs-traitements/
CATEGORIES:Evénements pour tous,pour tous homepage
END:VEVENT
END:VCALENDAR