BEGIN:VCALENDAR
VERSION:2.0
PRODID:-//Bordeaux Neurocampus - ECPv4.9.10//NONSGML v1.0//EN
CALSCALE:GREGORIAN
METHOD:PUBLISH
X-WR-CALNAME:Bordeaux Neurocampus
X-ORIGINAL-URL:https://www.bordeaux-neurocampus.fr
X-WR-CALDESC:Évènements pour Bordeaux Neurocampus
BEGIN:VTIMEZONE
TZID:Europe/Paris
BEGIN:DAYLIGHT
TZOFFSETFROM:+0100
TZOFFSETTO:+0200
TZNAME:CEST
DTSTART:20220327T010000
END:DAYLIGHT
BEGIN:STANDARD
TZOFFSETFROM:+0200
TZOFFSETTO:+0100
TZNAME:CET
DTSTART:20221030T010000
END:STANDARD
BEGIN:DAYLIGHT
TZOFFSETFROM:+0100
TZOFFSETTO:+0200
TZNAME:CEST
DTSTART:20230326T010000
END:DAYLIGHT
BEGIN:STANDARD
TZOFFSETFROM:+0200
TZOFFSETTO:+0100
TZNAME:CET
DTSTART:20231029T010000
END:STANDARD
END:VTIMEZONE
BEGIN:VEVENT
DTSTART;VALUE=DATE:20220211
DTEND;VALUE=DATE:20230103
DTSTAMP:20260425T011942
CREATED:20220209T143152Z
LAST-MODIFIED:20220218T181852Z
UID:144814-1644537600-1672703999@www.bordeaux-neurocampus.fr
SUMMARY:Exposition : "Cell Immersion"
DESCRIPTION:Les Bassins des Lumières – Imp. Brown de Colstoun\, Bordeaux \n\nCell Immersion vous convie à un voyage Art & Science dans un monde microscopique méconnu : l’humain. \nL’œuvre est la première brique d’un projet d’envergure\, nommé Cell Worlds\, qui amène les images de microscopie là où elles ne sont jamais allées. Loin des laboratoires et des disques durs des scientifiques et au plus près des cellules humaines. Ici\, tout est bien réel\, et surtout vivant. Chaque visuel de l’exposition se compose de véritables cellules : de l’électrisant neurone au fragile embryon en passant par les mélancoliques flux sanguins du cerveau. Découvrez un univers aux couleurs chatoyantes et d’une diversité incroyable. \nCell Immersion est une première mondiale scientifique\, mettant en scène le vivant microscopique dans des proportions jamais tentées. C’est également un des plus grands showcases de la recherche scientifique\, regroupant de nombreuses équipes\, laboratoires et instituts du monde entier. Une preuve que la science et l’art n’ont pas de frontières. \nÀ travers l’émerveillement\, ce voyage saura éveiller votre curiosité scientifique. Au-delà du simple divertissement\, Cell Immersion vous invite à vous reconnecter avec le monde vivant microscopique qui est aujourd’hui trop inconnu\, trop peu contemplé et parfois trop mystifié. \n  \n\nRéalisation : Terence Saulnier et Renaud Pourpre \nComposition de la bande originale : Youenn Lerb \n– \nEntrée gratuite dans la limite des places disponibles\nPasse vaccinal et masque obligatoires \n\n  \nPour plus d’informations : https://www.bassins-lumieres.com/fr/cell-immersion \n
URL:https://www.bordeaux-neurocampus.fr/event/exposition-cell-immersion/
LOCATION:Les Bassins des Lumières\, Imp. Brown de Colstoun\, Bordeaux\, 33000\, France
CATEGORIES:not-calendar,Semaine du cerveau 2022
END:VEVENT
BEGIN:VEVENT
DTSTART;VALUE=DATE:20221006
DTEND;VALUE=DATE:20221007
DTSTAMP:20260425T011942
CREATED:20220929T092820Z
LAST-MODIFIED:20220929T143517Z
UID:151147-1665014400-1665100799@www.bordeaux-neurocampus.fr
SUMMARY:Rencontres de l'alimentation
DESCRIPTION:La recherche au profit de l’alimentation de demain \nLes Rencontres de l’Alimentation proposent des échanges entre professionnels et experts pour construire ensemble de nouveaux chemins pour l’alimentation de demain en Nouvelle-Aquitaine. \nParmi des intervenants : Anne-Laure Dinel\, Corinne Joffre et Véronique Pallet de Nutrineuro\, ainsi que des partenaires québécois de Nutrineuro dans le cadre du LIA Opt \nEn savoir plus\nhttps://www.produits-de-nouvelle-aquitaine.fr/les-rencontres-de-lalimentation-la-recherche-au-profit-de-lalimentation-de-demain/ \n
URL:https://www.bordeaux-neurocampus.fr/event/rencontres-de-lalimentation/
CATEGORIES:A la une
END:VEVENT
BEGIN:VEVENT
DTSTART;TZID=Europe/Paris:20221006T140000
DTEND;TZID=Europe/Paris:20221006T140000
DTSTAMP:20260425T011942
CREATED:20220928T160933Z
LAST-MODIFIED:20220928T162526Z
UID:151114-1665064800-1665064800@www.bordeaux-neurocampus.fr
SUMMARY:Séminaire CRPP - "Empreinte écologique à l’échelle d’un laboratoire"
DESCRIPTION:Lieu : amphithéâtre du CRPP et sur Zoom :\n \nhttps://u-bordeaux-fr.zoom.us/j/89341555135?pwd=QkZ3ODlWOG1DU0s5R1FIejUrZ2dWZz09\nID de réunion : 893 4155 5135 -Code secret : 216887 \n\nSEMINAIRE « HORIZONS » du CRPP : \nEmpreinte écologique à l’échelle d’un laboratoire\nBilan des gaz à effet de serre & pistes de réduction de l’ISM à l’horizon 2030 \nQuelle est l’empreinte environnementale de nos laboratoires ? Quelle est la contribution de la recherche à l’émission de gaz à effet de serre ? Comment notre communauté professionnelle peut-elle réduire son impact ?\nC. Grazon & Ph. Loubet de l’ISM Bordeaux nous expliqueront comment ils sont parvenus à évaluer l’impact écologique de leur laboratoire\, à l’aide d’un outil permettant de chiffrer tous les postes\, et quelles pistes de réduction ils proposent afin d’en réduire les émissions de 50% à l’horizon 2030. Une démarche constructive et porteuse d’espoir qui pourra intéresser nombre de laboratoires du campus bordelais et au-delà ! \nConférence en français \n
URL:https://www.bordeaux-neurocampus.fr/event/seminaire-crpp-empreinte-ecologique/
CATEGORIES:A la une,Société
END:VEVENT
END:VCALENDAR