BEGIN:VCALENDAR
VERSION:2.0
PRODID:-//Bordeaux Neurocampus - ECPv4.9.10//NONSGML v1.0//EN
CALSCALE:GREGORIAN
METHOD:PUBLISH
X-WR-CALNAME:Bordeaux Neurocampus
X-ORIGINAL-URL:https://www.bordeaux-neurocampus.fr
X-WR-CALDESC:Évènements pour Bordeaux Neurocampus
BEGIN:VTIMEZONE
TZID:Europe/Paris
BEGIN:DAYLIGHT
TZOFFSETFROM:+0100
TZOFFSETTO:+0200
TZNAME:CEST
DTSTART:20220327T010000
END:DAYLIGHT
BEGIN:STANDARD
TZOFFSETFROM:+0200
TZOFFSETTO:+0100
TZNAME:CET
DTSTART:20221030T010000
END:STANDARD
BEGIN:DAYLIGHT
TZOFFSETFROM:+0100
TZOFFSETTO:+0200
TZNAME:CEST
DTSTART:20230326T010000
END:DAYLIGHT
BEGIN:STANDARD
TZOFFSETFROM:+0200
TZOFFSETTO:+0100
TZNAME:CET
DTSTART:20231029T010000
END:STANDARD
END:VTIMEZONE
BEGIN:VEVENT
DTSTART;VALUE=DATE:20220211
DTEND;VALUE=DATE:20230103
DTSTAMP:20260425T120809
CREATED:20220209T143152Z
LAST-MODIFIED:20220218T181852Z
UID:144814-1644537600-1672703999@www.bordeaux-neurocampus.fr
SUMMARY:Exposition : "Cell Immersion"
DESCRIPTION:Les Bassins des Lumières – Imp. Brown de Colstoun\, Bordeaux \n\nCell Immersion vous convie à un voyage Art & Science dans un monde microscopique méconnu : l’humain. \nL’œuvre est la première brique d’un projet d’envergure\, nommé Cell Worlds\, qui amène les images de microscopie là où elles ne sont jamais allées. Loin des laboratoires et des disques durs des scientifiques et au plus près des cellules humaines. Ici\, tout est bien réel\, et surtout vivant. Chaque visuel de l’exposition se compose de véritables cellules : de l’électrisant neurone au fragile embryon en passant par les mélancoliques flux sanguins du cerveau. Découvrez un univers aux couleurs chatoyantes et d’une diversité incroyable. \nCell Immersion est une première mondiale scientifique\, mettant en scène le vivant microscopique dans des proportions jamais tentées. C’est également un des plus grands showcases de la recherche scientifique\, regroupant de nombreuses équipes\, laboratoires et instituts du monde entier. Une preuve que la science et l’art n’ont pas de frontières. \nÀ travers l’émerveillement\, ce voyage saura éveiller votre curiosité scientifique. Au-delà du simple divertissement\, Cell Immersion vous invite à vous reconnecter avec le monde vivant microscopique qui est aujourd’hui trop inconnu\, trop peu contemplé et parfois trop mystifié. \n  \n\nRéalisation : Terence Saulnier et Renaud Pourpre \nComposition de la bande originale : Youenn Lerb \n– \nEntrée gratuite dans la limite des places disponibles\nPasse vaccinal et masque obligatoires \n\n  \nPour plus d’informations : https://www.bassins-lumieres.com/fr/cell-immersion \n
URL:https://www.bordeaux-neurocampus.fr/event/exposition-cell-immersion/
LOCATION:Les Bassins des Lumières\, Imp. Brown de Colstoun\, Bordeaux\, 33000\, France
CATEGORIES:not-calendar,Semaine du cerveau 2022
END:VEVENT
BEGIN:VEVENT
DTSTART;VALUE=DATE:20220927
DTEND;VALUE=DATE:20221001
DTSTAMP:20260425T120809
CREATED:20210526T090100Z
LAST-MODIFIED:20220125T111057Z
UID:135319-1664236800-1664582399@www.bordeaux-neurocampus.fr
SUMMARY:Conférence internationale Bordeaux Neurocampus: "Synaptic Plasticity"
DESCRIPTION:Molecular\, cellular and network mechanisms of synaptic plasticity \nPlasticité  synaptique : mécanismes moléculaires\, cellulaires et des réseaux \nComité scientifique \n– Daniel Choquet (IINS)\n– Laurent Groc (IINS)\n– Aude Panatier (Neurocentre Magendie) \nEn savoir plus\nhttps://autumn-brainconf.u-bordeaux.fr/en/ \n
URL:https://www.bordeaux-neurocampus.fr/event/conference-internationale-bordeaux-neurocampus-synaptic-plasticity/
CATEGORIES:A la une,Pour les scientifiques,Symposiums
END:VEVENT
BEGIN:VEVENT
DTSTART;TZID=Europe/Paris:20220930T183000
DTEND;TZID=Europe/Paris:20220930T230000
DTSTAMP:20260425T120809
CREATED:20220831T100402Z
LAST-MODIFIED:20220831T100546Z
UID:150497-1664562600-1664578800@www.bordeaux-neurocampus.fr
SUMMARY:Nuit européenne des chercheur.e.s 2022
DESCRIPTION:A Cap Sciences \nTout le programme :\nNuit Européenne des Chercheur.euses 2022 \n \n
URL:https://www.bordeaux-neurocampus.fr/event/nuit-europeenne-des-chercheurs-2022/
CATEGORIES:A la une,Evénements pour tous
END:VEVENT
END:VCALENDAR