BEGIN:VCALENDAR
VERSION:2.0
PRODID:-//Bordeaux Neurocampus - ECPv4.9.10//NONSGML v1.0//EN
CALSCALE:GREGORIAN
METHOD:PUBLISH
X-WR-CALNAME:Bordeaux Neurocampus
X-ORIGINAL-URL:https://www.bordeaux-neurocampus.fr
X-WR-CALDESC:Évènements pour Bordeaux Neurocampus
BEGIN:VTIMEZONE
TZID:Europe/Paris
BEGIN:DAYLIGHT
TZOFFSETFROM:+0100
TZOFFSETTO:+0200
TZNAME:CEST
DTSTART:20190331T010000
END:DAYLIGHT
BEGIN:STANDARD
TZOFFSETFROM:+0200
TZOFFSETTO:+0100
TZNAME:CET
DTSTART:20191027T010000
END:STANDARD
END:VTIMEZONE
BEGIN:VEVENT
DTSTART;TZID=Europe/Paris:20191218T110000
DTEND;TZID=Europe/Paris:20191218T130000
DTSTAMP:20260423T000431
CREATED:20191115T084959Z
LAST-MODIFIED:20191115T091947Z
UID:112946-1576666800-1576674000@www.bordeaux-neurocampus.fr
SUMMARY:Soutenance de thèse - Charlotte Kervran
DESCRIPTION:Lieu: Amphithéâtre du Centre hospitalier Charles Perrens \nSoutenance en français \n\nStabilité psychométrique des critères diagnostiques du DSM-5 pour les troubles de l’usage de substances et valeur prédictive du craving sur l’usage de substance selon le contexte de soin. Dans quelle mesure le craving diffère-t-il des autres critères diagnostiques ? \n\nCharlotte Kervran\nEquipe Auriacombe (Addiction)\nSanPsy \nThèse dirigée par Marc Auriacombe \nRésumé\nIntroduction \nLa perte de contrôle de l’usage d’un objet source de gratification est au centre de la définition de l’addiction ou trouble de l’usage. La validité psychométrique des critères diagnostiques du trouble de l’usage de substances du DSM-5 a pu être testée pour plusieurs substances\, mais l’ajout du craving et sa place comme critère diagnostique fait encore débat. Par ailleurs\, un modèle de l’addiction a été proposé dans lequel les variations du craving comme phénomène dynamique seraient prédictives de la rechute\, appuyant son ajout comme critère diagnostique de la perte de contrôle de l’usage. Cependant les études\, à ce jour ont porté uniquement sur des échantillons d’usagers de substances dans une démarche de réduction de l’usage ou d’abstinence. L’objectif principal de ce projet de thèse est de tester la stabilité psychométrique des critères diagnostiques du trouble de l’usage du DSM-5 selon le contexte de soin\, en apportant une attention particulière au rôle du craving\, d’une part comme critère diagnostique\, et d’autre part comme phénomène prédictif de l’usage. Des usagers de substances\, recrutés dans des programmes de réduction des risques (HR)\, un environnement propice à l’usage\, ont été comparés à des usagers de substances en demande traitement (TX) de réduction de l’usage ou d’abstinence. \nMéthode \nLa stabilité des 11 critères diagnostiques du trouble de l’usage de l’alcool\, de la cocaïne\, des opiacés\, du cannabis et du tabac a été testée. Des analyses d’Item Response Theory (IRT) et le Differential Item Functioning (DIF)\, ont permis d’étudier le comportement des critères diagnostiques entre eux et par rapport au trait latent sous-jacent du trouble de l’usage\, et de tester le fonctionnement des critères entre les deux populations. L’applicabilité du modèle de l’addiction a été testée parmi des sujets HR avec la méthode EMA (Ecological Momentary Assessment) qui recueille l’intensité du craving et l’usage de substance de façon répétée en vie quotidienne. La méthode HLM (Hierarchical Linear Model) a été utilisée pour analyser les liens prospectifs. \nRésultats \nQuels que soient la substance et le contexte de soin\, les critères diagnostiques évaluant la perte de contrôle de l’usage\, à la différence des critères diagnostiques de conséquences de l’usage\, fonctionnent correctement et plus particulièrement le critère « craving« . Ce nouveau critère apparait comme le critère le plus sélectif\, car il s’ajuste le mieux au modèle à un facteur\, il est parmi les plus fréquents\, il a un pouvoir discriminant plus marqué que les autres critères et il repère les sujets avec un trouble de l’usage de substance peu sévère. L’EMA met en évidence le rôle prédictif du craving sur l’usage\, quel que soit le contexte d’usage. \nConclusion \nCe travail remet en question la pertinence des critères de conséquences de l’usage\, de par leurs caractéristiques psychométriques moins performantes que les critères de perte de contrôle\, et leur faible stabilité inter-échantillon. Ce travail souligne le rôle du craving comme moteur de l’usage et appuie son intérêt comme mesure diagnostique et pronostique de la perte de contrôle. Ces résultats pourraient faire de lui un marqueur spécifique et précoce de l’addiction facilement détectable et utilisable en clinique\, et justifient qu’il puisse être une cible à privilégier des interventions thérapeutiques. \nMots clés : Addiction\, craving\, neurosciences comportementale\, diagnostic\, critères diagnostique\n \nPublication\nImpact of drug consumption rooms on risk practices and access to care in people who inject drugs in France: The COSINUS prospective cohort study protocol\nMarc Auriacombe\, Perrine Roux\, Laélia Briand Madrid\, Sébastien Kirchherr\, Charlotte Kervran\, Carole Chauvin\, Marie Gutowski\, Cécile Denis\, Maria Patrizia Carrieri\, Laurence Lalanne\, Marie Jauffret-Roustide.  BMJ Open. 2019-02-01. 9(2) : e023683.  \nJury\n\nM. BENYAMINA Amine – Professeur – Univ. Paris Sud – Rapporteur\nM. CASAS Miquel – Professeur – Univ. Barcelone – Rapporteur\nM. AMAD Ali – Maître de Conf. – Univ. Lille – Examinateur\nM. AHMED Serge – Dir. de Recherche – Univ. Bordeaux – Examinateur\nM. ALLA François – Professeur – Univ. Bordeaux – Examinateur\n\n
URL:https://www.bordeaux-neurocampus.fr/event/soutenance-de-these-charlotte-kervran/
CATEGORIES:Thèses
END:VEVENT
END:VCALENDAR