BEGIN:VCALENDAR
VERSION:2.0
PRODID:-//Bordeaux Neurocampus - ECPv4.9.10//NONSGML v1.0//EN
CALSCALE:GREGORIAN
METHOD:PUBLISH
X-WR-CALNAME:Bordeaux Neurocampus
X-ORIGINAL-URL:https://www.bordeaux-neurocampus.fr
X-WR-CALDESC:Évènements pour Bordeaux Neurocampus
BEGIN:VTIMEZONE
TZID:Europe/Paris
BEGIN:DAYLIGHT
TZOFFSETFROM:+0100
TZOFFSETTO:+0200
TZNAME:CEST
DTSTART:20190331T010000
END:DAYLIGHT
BEGIN:STANDARD
TZOFFSETFROM:+0200
TZOFFSETTO:+0100
TZNAME:CET
DTSTART:20191027T010000
END:STANDARD
END:VTIMEZONE
BEGIN:VEVENT
DTSTART;VALUE=DATE:20191202
DTEND;VALUE=DATE:20191205
DTSTAMP:20260422T005150
CREATED:20190605T144542Z
LAST-MODIFIED:20191001T092455Z
UID:108052-1575244800-1575503999@www.bordeaux-neurocampus.fr
SUMMARY:Neuralnet 2019
DESCRIPTION:Lieu : Centre Broca Nouvelle-Aquitaine \n\nThe objective of the Research Cluster NeuralNet (GDR CNRS) is to develop and promote synergies between researchers\, engineers\, and other stakeholders engaged in measuring\, manipulating\, analyzing and interpreting neuronal activity at the level of networks. \nConfirmed Speakers\n\nKeynote Speakers\nMichael Brecht\nBernstein Center for Computational Neuroscience Humboldt Universität\nBerlin\, Allemagne\nhttps://www.activetouch.de/ \nHanna Monyer\nInterdisciplinary Centre for Neurosciences (IZN) Universität Heidelberg – Department of Clinical Neurobiology Heidelberg\, Allemagne\nhttps://www.uni-heidelberg.de/izn/researchgroups/monyer/ \n  \nSpeakers\nBrice Bathellier\nParis-Saclay Institute of Neuroscience (NeuroPSI) Dept for Integrative and Computational Neuroscience (ICN) – Université Paris Sud – CNRS UMR 9197\nGif-sur-Yvette\, France\nhttps://www.bathellier-lab.org/ \nDavid DiGregorio\nPasteur Institute – Department of Neuroscience CNRS UMR 3571\nParis\, France\nhttps://research.pasteur.fr/en/team/dynamic-neuronal-imaging/ \nDavid Dupret\nBrain Network Dynamics Unit University of Oxford\nOxford\, United Kingdom\nhttps://www.mrcbndu.ox.ac.uk/groups/dupret-group \nPhilippe Faure\nNeuroscience Paris-Seine  IBPS – UPMC UM CR18 – CNRS UMR 8246 – INSERM U1130\nParis\, France\nhttp://faurelab.cnrs.fr/philippe-faure/ \nGabrielle Girardeau\nInstitut du Fer-à-Moulin UMR-S 1270 Inserm – Sorbonne Université\nParis\, France\nhttp://girardeaulab.org/ \nCyril Herry\nNeurocentre Magendie INSERM U1215 – Université de Bordeaux\nBordeaux\, France\nhttps://neurocentre-magendie.fr/recherche/Herry/descriptionTeam.php \nDavid Omer\nWeizmann Institute of Science – Department of Neurobiology\nJerusalem\, Israël\nhttps://www.weizmann.ac.il/neurobiology/labs/ulanovsky/ \nAdrien Peyrache\nThe Neuro – Montreal Neurological Institute and Hospital  McGill University\nMontreal\, Canada\nhttp://www.peyrachelab.com/ \nDaniela Popa\nInst. Biologie de l’ENS (IBENS) CNRS UMR8197\, Inserm U1024\nParis\, France\nhttps://www.ibens.ens.fr/?rubrique53&lang=en \nAlexandre Pouget\nUniversité de Genève Neurosciences fondamentales\nGenève\, Suisse\nhttps://www.unige.ch/medecine/neuf/en/research/grecherche/alexandre-pouget/ \nAlexa Riehle\nInst. de Neurosciences de la Timone Aix-Marseille University\nMarseille\, France\nhttp://www.int.univ-amu.fr/_RIEHLE-Alexa_?lang=en \nGilad Silberberg\nDepartment of Neuroscience\, Karolinska Institutet\,\nStockholm\, Sweden\nhttps://ki.se/en/neuro/silberberg-lab \n\nEn savoir plus\nhttps://neuralnet2019.sciencesconf.org/ \n
URL:https://www.bordeaux-neurocampus.fr/event/neuralnet-2019/
CATEGORIES:A la une,Symposiums
END:VEVENT
BEGIN:VEVENT
DTSTART;TZID=Europe/Paris:20191204T093000
DTEND;TZID=Europe/Paris:20191204T123000
DTSTAMP:20260422T005150
CREATED:20191118T172525Z
LAST-MODIFIED:20200106T154501Z
UID:113267-1575451800-1575462600@www.bordeaux-neurocampus.fr
SUMMARY:Mini symposium "A snapshot on engineered in vitro models"
DESCRIPTION:Lieu : CGFB – Salle de Conférence. Campus Carreire. \n146\, rue Léo Saignat ( N 44.82459° W -0.60799°) Bordeaux \n\n9h30 Welcome / Introduction \n9h45-10h15:     Olivier Théodoly\nLaboratory adhesion & Inflammation (LAI)\, Aix Marseille University\,\nCNRS\, INSERM\, Turing Centre for Living Systems\, Marseille\, France. \nIntegrins in lymphocytes migration and guidance. \n10h15-10h45:   Gregory Giannone\nInterdisciplinary Institute for Neuroscience (IINS)\nUniv. Bordeaux\, CNRS\, UMR 5297\, F-33000 Bordeaux\, France.\nCell stretching is amplified by active actin remodeling to deform proteins. \n10h45-11h        Coffee Break \n 11h00-11h30    Gaëlle Recher\nLaboratoire Photonique Numérique et Nanosciences\, Univ. Bordeaux\,\nInstitut d’Optique Graduate School & CNRS UMR 5298\, F-33400 Talence\, France.\nTaking advantage of cell self-assembly for the production of spherical or tubular tissue-oids. \n11h30-12h00    Xavier Gidrol\nLaboratoire Biologie à Grande Échelle\nUniversité Grenoble Alpes\, INSERM\, CEA\, F-38000 Grenoble\nOrganoid-based functional genomics in development & carcinogenesis. \n12h00-12h30    Nicolas Rivron\nInstitute for Molecular Biotechnology\, Austrian Academy of Science\, Vienna\, Austria.\nSynthetic development: from stem cells to embryos. \n\nOrganized by Pierre-Olivier Strale\, Aurélien Pasturel and Vincent Studer. \nIINS (Interdisciplinary Institute for Neuroscience)\, Univ. Bordeaux\, CNRS\, UMR 5297\, F-33000 Bordeaux\, France. \nAlvéole\, 30 rue de Campo Formio\, 75013 Paris France \nvincent.studer@u-bordeaux.fr \n  \n  \n
URL:https://www.bordeaux-neurocampus.fr/event/mini-symposium-a-snapshot-on-engineered-in-vitro-models/
CATEGORIES:A la une,Symposiums
END:VEVENT
BEGIN:VEVENT
DTSTART;TZID=Europe/Paris:20191204T140000
DTEND;TZID=Europe/Paris:20191204T160000
DTSTAMP:20260422T005150
CREATED:20191025T094205Z
LAST-MODIFIED:20191118T174325Z
UID:112482-1575468000-1575475200@www.bordeaux-neurocampus.fr
SUMMARY:Soutenance de thèse - Aurélien Pasturel
DESCRIPTION:Lieu: CGFB \n\nTailoring common hydrogels into 3D cell culture templates \nAurélien Pasturel\nIINS\nEquipe Sibarita \nDirecteur de thèse : Vincent Struder \n  \n\nRésumé\nLa recherche sur les cellules souches a démontré qu’elles pouvaient former des répliques miniatures d’organes qui seront très utilises pour comprendre et soigner les maladies. La fabrication des mini-organes nécessite des matériaux mous et gorgés d’eau\, les hydrogels\, mais elle reste hasardeuse. \nL’objet de ce doctorat est d’utiliser la lumière afin de modifier la forme et les molécules présentées par les hydrogels et d’ainsi standardiser la fabrication des mini-organes. Pour cela\, nous avons utilisé un projecteur d’ultraviolets envoyant des motifs lumineux au travers d’un microscope. Nous l’avons combiné avec des chambres miniatures pour tirer parti de la chimie unique de l’oxygène. Il en résulte boite à outils flexible destinée à l’ingénierie d’hydrogels. \nGrace à cet outil\, nous sommes parvenus à gélifier\, liquéfier des hydrogels ou les décorer de molécules le tout par la lumière. Nous avons par la suite montré que les cellules usuelles formaient des structures contrôlées par la forme et la décoration du gel. \nNos futurs travaux porteront sur les cellules souches et l’accélération des procédés en vue d’une utilisation à plus grande échelle. \nJury\n\nVincent Studer\, CNRS Bordeaux – Directeur de thèse\nNicolas Rivron\, IMBA Wien – Rapporteur\nXavier Gidrol\,  CEA Grenoble – Rapporteur\nJoelle Amédée-Vilamitjana\, INSERM Bordeaux – Examinateur\nGaëlle Recher\, CNRS Bordeaux – Examinateur\nAurélien Duboin\, Alvéole Paris – Examinateur\nOlivier Théodoly\, CNRS Marseille – Examinateur\n\nMini symposium\nCette thèse sera incluse dans un séminaire sur la culture cellulaire 3D. \n
URL:https://www.bordeaux-neurocampus.fr/event/soutenance-de-these-aurelien-pasturel/
CATEGORIES:Thèses
END:VEVENT
END:VCALENDAR