BEGIN:VCALENDAR
VERSION:2.0
PRODID:-//Bordeaux Neurocampus - ECPv4.9.10//NONSGML v1.0//EN
CALSCALE:GREGORIAN
METHOD:PUBLISH
X-WR-CALNAME:Bordeaux Neurocampus
X-ORIGINAL-URL:https://www.bordeaux-neurocampus.fr
X-WR-CALDESC:Évènements pour Bordeaux Neurocampus
BEGIN:VTIMEZONE
TZID:Europe/Paris
BEGIN:DAYLIGHT
TZOFFSETFROM:+0100
TZOFFSETTO:+0200
TZNAME:CEST
DTSTART:20190331T010000
END:DAYLIGHT
BEGIN:STANDARD
TZOFFSETFROM:+0200
TZOFFSETTO:+0100
TZNAME:CET
DTSTART:20191027T010000
END:STANDARD
END:VTIMEZONE
BEGIN:VEVENT
DTSTART;VALUE=DATE:20191002
DTEND;VALUE=DATE:20191005
DTSTAMP:20260422T185248
CREATED:20181204T164121Z
LAST-MODIFIED:20191001T093539Z
UID:100827-1569974400-1570233599@www.bordeaux-neurocampus.fr
SUMMARY:Conférence internationale : Reward
DESCRIPTION:\n	\n		\n			« Normal and pathological reward processing: from synapse to behavior. »\nProgram\nWednesday\, OCTOBER 2nd  \nRegistration / Welcoming speech \nIntroduction To reward: Concepts / philosophy :\nSerge AHMED (Bordeaux\, FRANCE) \nSession 1 – The expected and unexpected bases of reward \n\nStephan LAMMEL (Berkeley\, USA)\nChristelle BAUNEZ (Marseille\, France)\nKate WASSUM (Los Angeles\, USA)\n\nSession 2 – MODELING OF REWARD \n\nAngela LANGDON (Princeton\, USA)\nFrédéric ALEXANDRE (Bordeaux\, France)\nMehdi KHAMASSI (Paris\, France)\n\nPLENARY CONFERENCE \n\nIvan E. de Araujo (New York\, USA)\n\nWine and cheese around the posters \n\nTHURSDAY\, OCTOBER 3rd  \nSession 3 – FUNCTIONAL AND MOLECULAR DIVERSITY OF DOPAMINE SYSTEMS \n\nJoshua T. DUDMAN (Ashburn\, USA)\nMarisela MORALES (Washington\, USA)\nEmmanuel VALJENT (Montpelier\, FRANCE)\nPeter VANHOUTTE (Paris\, FRANCE)\nChristoph KELLENDONK (New York\, USA ).\n\nSession 4 – PATHOLOGIES AND REWARD: FACE-TO-FACE PRECLINICAL TO CLINICAL \n\nAddiction: Francis CHAOULOFF (Bordeaux\, FRANCE)/Diana MARTINEZ (New York\, USA )\nAnxiety/Depression: Thomas KASH (Chapel Hill\, USA)/ Ebrahim HARROON (Atlanta\, USA)\nParkinson’s disease: Pierre-Olivier FERNAGUT (Poitiers\, France) / Ignacio OBESO (Madrid\, SPAIN).\n\nGala dinner \n\nFRIDAY\, OCTOBER 4th  \nSession 5 – REWARD ACROSS AGE AND SEX \n\nMartine CADOR (Bordeaux\, France)\nElena CHARTOFF (Middleborough\, USA)\nCecilia FLORES (Montreal\, Canada)\n\nSession 6 – SOCIAL REWARD \n\nJaideep BAINS (Calgary\, CANADA)\nPhilippe FAURE (Paris\, FRANCE )\nCamilla BELLONE (Geneve\, SWITZERLAND )\n\n\n		\n	\n\n	\n		\n			\nRenseignements et inscriptions : \nbrainconf.u-bordeaux.fr  \n\n		\n	\n\n
URL:https://www.bordeaux-neurocampus.fr/event/conference-internationale-reward/
LOCATION:Haut Carré\, 43 rue Pierre Noailles\, Talence\, 33400\, France
CATEGORIES:A la une,Symposiums
END:VEVENT
END:VCALENDAR