BEGIN:VCALENDAR
VERSION:2.0
PRODID:-//Bordeaux Neurocampus - ECPv4.9.10//NONSGML v1.0//EN
CALSCALE:GREGORIAN
METHOD:PUBLISH
X-WR-CALNAME:Bordeaux Neurocampus
X-ORIGINAL-URL:https://www.bordeaux-neurocampus.fr
X-WR-CALDESC:Évènements pour Bordeaux Neurocampus
BEGIN:VTIMEZONE
TZID:Europe/Paris
BEGIN:DAYLIGHT
TZOFFSETFROM:+0100
TZOFFSETTO:+0200
TZNAME:CEST
DTSTART:20210328T010000
END:DAYLIGHT
BEGIN:STANDARD
TZOFFSETFROM:+0200
TZOFFSETTO:+0100
TZNAME:CET
DTSTART:20211031T010000
END:STANDARD
END:VTIMEZONE
BEGIN:VEVENT
DTSTART;TZID=Europe/Paris:20210304T140000
DTEND;TZID=Europe/Paris:20210304T140000
DTSTAMP:20260421T085741
CREATED:20201218T114000Z
LAST-MODIFIED:20210223T124048Z
UID:129479-1614866400-1614866400@www.bordeaux-neurocampus.fr
SUMMARY:Soutenance de thèse - Marine Persillet
DESCRIPTION:\n	\n		\n			Visioconférence:\nhttps://u-bordeaux-fr.zoom.us/j/83902491298?pwd=R2oyNzJ1WTVLT1hSWFFheHYxSzcydz09 \nEtude des altérations des cycles éveil/sommeil dans des modèles de la maladie de Parkinson et de l’atrophie multisystématisée \n(Study of sleep/wake alterations in mouse models of Parkinson’s disease et Multiple System Atrophy) \n\nLangue de la soutenance : Français \nDirecteur de thèse : Erwan Bézard \nRésumé\nLa maladie de Parkinson (MP) et l’atrophie multisystématisée (AMS) sont des synucléinopathies caractérisées par la perte des neurones dopaminergiques (DA) dans la substance noire pars compacta (SNc) et par la présence d’inclusions cytoplasmiques\, appelés corps de Lewy (LB) et inclusions cytoplasmiques gliales (GCI) respectivement et constitués notamment d’alpha-synucléine (a-syn) mal conformée. En plus des troubles moteurs\, les patients MP et AMS présentent de nombreux symptômes non-moteurs dont les altérations des cycles éveil/sommeil qui peuvent apparaitre de manière précoce et qui sont même considérées comme prédictifs du développement de synucléinopathies. Le but de ma thèse est donc d’étudier le possible lien entre la progression de la neurodégénérescence\, la progression de la pathologie liée à l’a-syn et l’apparition d’altérations des cycles éveil/sommeil. \nDans un premier temps\, comme la perte des neurones DA est une caractéristique des synucleinopathies nous avons étudié l’impact d’une déplétion en dopamine sur le sommeil. Cette étude tend à montrer que la dopamine aurait un rôle dans la maintenance des phases d’éveil. \nNous avons ensuite utilisé un modèle murin de la MP qui consiste en l’injection intracérébrale de fractions LB contenant de l’a-syn pathologique pour étudier de possibles altérations des cycles éveil/sommeil. Quelques mois après l’injection de ces fractions\, plusieurs paramètres du sommeil apparaissent altérés dont le temps total passé éveillé ou endormi. Ce modèle parait donc adéquat pour l’étude ultérieure de l’impact des altérations du cycle éveil/sommeil sur le développement de la pathologie. En revanche\, aucune altération n’est observée dans le modèle AMS étudié\, à savoir les souris PLP-syn. D’autres études vont donc être nécessaires sur d’autres modèles de la maladie. \nEnfin\, comme le sommeil a un rôle connu dans l’élimination protéique\, nous avons étudié son impact sur la pathologie liée à l’a-syn. \nLe travail réalisé est particulièrement pertinent car comprendre si les altérations des cycles éveil/sommeil peuvent servir au niveau expérimental de marqueur de la progression de la pathologie pourrait permettre une détection précoce et amener à de nouvelles stratégies thérapeutiques pour ralentir sa progression. \nMots-clés : sommeil ; modélisation animale\, synucléine\, pathologies humaines \nPublications\nYu X.°\, Persillet M.°\, Zhang L.\, Zhang Y.\, Xiuping S.\, Li X.\, Ran G.\, S. Breger L.S.\, Dovero S.\, Porras G.\, Dehay D.\, Bezard E.\, Qin C. (2021)\, Evaluation of blood flow as a route for propagation in experimental Synucleinopathy\, Neurobiology of disease \nDecoeur F.\, Benmamar-Badel A.\, Leyrolle Q.\, Persillet M.\, Layé S.\, Nadjar A. (2020) Dietary N-3 PUFA deficiency affects sleep-wake activity in basal condition and in response to an inflammatory challenge in mice\, Brain\, Behavior\, and Immunity \nJury\n– Pierre-Hervé LUPPI – Directeur de recherche\, CNRS\n– Véronique FABRE – Chargée de recherche\, INSERM\n– Ana MARQUES – Praticien hospitalier\, CHU de Clermont-Ferrand\n– Agnès NADJAR – Professeure des Universités\, Université de Bordeaux\n– Erwan BEZARD – Directeur de recherche\, INSERM \n\n		\n	\n\n	\n		\n			Marine Persillet\nEquipe Pathophysiology of parkinsonian syndromes\nIMN \n\n		\n	\n\n
URL:https://www.bordeaux-neurocampus.fr/event/soutenance-de-these-marine-persillet/
CATEGORIES:Thèses
END:VEVENT
END:VCALENDAR