BEGIN:VCALENDAR
VERSION:2.0
PRODID:-//Bordeaux Neurocampus - ECPv4.9.10//NONSGML v1.0//EN
CALSCALE:GREGORIAN
METHOD:PUBLISH
X-WR-CALNAME:Bordeaux Neurocampus
X-ORIGINAL-URL:https://www.bordeaux-neurocampus.fr
X-WR-CALDESC:Évènements pour Bordeaux Neurocampus
BEGIN:VTIMEZONE
TZID:Europe/Paris
BEGIN:DAYLIGHT
TZOFFSETFROM:+0100
TZOFFSETTO:+0200
TZNAME:CEST
DTSTART:20190331T010000
END:DAYLIGHT
BEGIN:STANDARD
TZOFFSETFROM:+0200
TZOFFSETTO:+0100
TZNAME:CET
DTSTART:20191027T010000
END:STANDARD
END:VTIMEZONE
BEGIN:VEVENT
DTSTART;TZID=Europe/Paris:20191216T140000
DTEND;TZID=Europe/Paris:20191216T160000
DTSTAMP:20260425T191153
CREATED:20191204T170918Z
LAST-MODIFIED:20191204T171320Z
UID:113783-1576504800-1576512000@www.bordeaux-neurocampus.fr
SUMMARY:Soutenance de thèse - Juan Carlos Cerpa
DESCRIPTION:Lieu : INCIA – Zone nord Bat 2 2ème étage – salle de réunion \nCortex préfrontal et flexibilité comportementale : implication de la noradrénaline \nJuan Carlos Cerpa\nINCIA \nDirecteur de thèse : Etienne Coutureau \nThèse soutenue en français \nRésumé\nLa survie d’un organisme nécessite qu’il soit capable de prendre des décisions adaptées dans un environnement changeant. Ces décisions dépendent de multiples processus cognitifs qui ont pu être étudiés par l’intermédiaire des apprentissages associatifs. Ainsi\, le contrôle de l’action repose sur des processus distribués au sein de larges circuits cérébraux impliquant notamment les régions préfrontales. Ces fonctions du cortex préfrontal sont largement influencées par l’action de neuromodulateurs\, parmi lesquels la noradrénaline\, qui pourrait jouer un rôle essentiel dans la flexibilité comportementale. Mon travail de thèse a donc cherché à déterminer l’implication d el’innervation noradrénergique du cortex préfrontal dans l’adaptation à des changements des conséquences de l’action. Une première partie a consisté à étudier l’organisation de l’innervation noradrénergique au sein de différentes aires préfrontales par des méthodes de quantification automatisée. Dans une deuxième partie\, nous avons utilisé un protocole instrumental nécessitant un apprentissage flexible des relations causales entre actions et conséquences. A l’aide de ce protocole et de toxines induisant une déplétion noradrénergique\, nous avons démontré l’implication de la noradrénaline au sein d’une région du cortex préfrontal\, le cortex orbitofrontal\, pour la flexibilité comportementale nécessaire au contrôle de l’action\, en particulier pour prendre en compte des changements dans l’identité et la valeur des récompenses associées à cette action. Une comparaison avec le cortex préfrontal médian d’une part\, et avec le rôle de l’innervation dopaminergique d’autre part\, suggère que le rôle de la noradrénaline est spécifique de la région et de l’espèce neurochimique.Dans une troisième partie\, nous avons développé plusieurs approches pharmacogénétiques visant à préciser les phases de l’apprentissage impliquant la modulation noradrénergique\, et observé certaines limites de ces approches. Ces travaux confirment l’importance de l’action neuromodulatrice sur les fonctions préfrontales et surtout étendent nos connaissances des circuits cérébraux impliqués dans le contrôle de l’action permettant l’adaptation à un environnement changeant. \nMots clés : décision\, cortex préfrontal\, noradrénaline\, anatomie fonctionnelle\, pharmacogénétique\, neuromodulation \nPublications\nCerpa JC\, Marchand A.R*\, Coutureau E* – Distinct Regional Patterns in Noradrenergic Innervation of the Rat Prefrontal Cortex\, Journal of Chemical Neuroanatomy (2019)\, \nhttps://doi.org/10.1016/j.jchemneu.2019.01.002 \nParkes S.L\, Ravassard P.M\, Cerpa JC\, Wolff M\, Ferreira G\, Coutureau E – Insular and Ventrolateral Orbitofrontal Cortices Differentially Contribute to Goal-Directed Behavior in Rodents. Cerebral Cortex\, 2018 1-13. doi: 10.1093/cercor/bhx132 \nCerpa JC\, Marchand A.R\, Salafranque Y\, Pape J-R\, Kremer E.J\, Coutureau E – Targeting catecholaminergic systems in transgenic rats with a CAV-2 vector harbouring a Cre-dependent DREADD cassette (soumis) \nCerpa JC\, Parkes S.L\, Dehove M\, Faugère A\, Wolff A\, Marchand A.R\, Coutureau E – Noradrenergic control of action-outcome identity reversal in the orbitofrontal cortex (en préparation) \nJury\nM. Etienne COUTUREAU – CNRS – Université de Bordeaux – Directeur de thèse \nM. Sébastien BOURET – CNRS – Institut du Cerveau et de la Moelle épinière – Rapporteur \nMme Nicole EL MASSIOUI – CNRS – Université Paris-Saclay – Rapporteur \nMme Sylvie GRANON – Université Paris-Saclay – Examinateur \nM. Jean-Louis GUILLOU – Université de Bordeaux – Examinateur \nMme Karine GUILLEM – CNRS – Université de Bordeaux – Examinateur \n
URL:https://www.bordeaux-neurocampus.fr/event/soutenance-de-these-juan-carlos-cerpa/
CATEGORIES:Thèses
END:VEVENT
END:VCALENDAR