BEGIN:VCALENDAR
VERSION:2.0
PRODID:-//Bordeaux Neurocampus - ECPv4.9.10//NONSGML v1.0//EN
CALSCALE:GREGORIAN
METHOD:PUBLISH
X-WR-CALNAME:Bordeaux Neurocampus
X-ORIGINAL-URL:https://www.bordeaux-neurocampus.fr
X-WR-CALDESC:Évènements pour Bordeaux Neurocampus
BEGIN:VTIMEZONE
TZID:Europe/Paris
BEGIN:DAYLIGHT
TZOFFSETFROM:+0100
TZOFFSETTO:+0200
TZNAME:CEST
DTSTART:20250330T010000
END:DAYLIGHT
BEGIN:STANDARD
TZOFFSETFROM:+0200
TZOFFSETTO:+0100
TZNAME:CET
DTSTART:20251026T010000
END:STANDARD
END:VTIMEZONE
BEGIN:VEVENT
DTSTART;TZID=Europe/Paris:20250919T140000
DTEND;TZID=Europe/Paris:20250919T140000
DTSTAMP:20260421T120831
CREATED:20250428T072503Z
LAST-MODIFIED:20250722T143255Z
UID:183453-1758290400-1758290400@www.bordeaux-neurocampus.fr
SUMMARY:Soutenance de thèse - Ænora Letourneur
DESCRIPTION:Lieu : CARF \nSur zoom : https://u-bordeaux-fr.zoom.us/j/83810704899 \nThèse défendue en français \n \n\nÆnora Letourneur \nÉquipe : Neuropathologie intégrative des α-Synucleinopathies (De Giorgi / Ichas)\nIMN \nTitre\nLa chaperonne DNAJB6 comme régulateur de l’agrégation de l’alpha-synucléine dans des modèles neuronaux de synucléinopathie induite \nAbstract\nLa protéine α-synucléine (α-syn) s’auto-assemble en fibrilles amyloïdes qui sont retrouvées dans les inclusions neuronales ou gliales des synucléinopathies. Des études in vitro ont pu caractériser les mécanismes d’agrégation de la protéine\, mais les processus que la cellule met en place afin de moduler cette agrégation sont en cours d’étude. Nous avons choisi de travailler dans des modèles neuronaux de synucléinopathie induite\, en cultures primaires ou en cerveau de souris adultes. \nNotre étude s’est tout d’abord intéressée à un panel de chaperonnes moléculaires\, acteurs impliqués dans cette régulation\, avant de se concentrer en particulier sur DNAJB6. En effet\, nous avons observé\, chez cette protéine\, une relocalisation spécifique de DNAJB6 sous forme de punctae\, en périphérie des agrégats néo-formés. Cette observation\, combinée aux études montrant son affinité pour les structures amyloïde et sa capacité à inhiber leur agrégation\, nous a fait émettre l’hypothèse que DNAJB6 avait un rôle fonctionnel de régulation de la synucléinopathie induite. \nEffectivement\, les études fonctionnelles nous ont permis d’observer une inhibition de l’agrégation de l’α-syn quand DNAJB6 est surexprimée\, à la fois en culture primaire et en cerveau de souris adultes. Nous avons déduit que cet effet était lié à une interaction sélective de DNAJB6 avec l’α-syn fibrillaire\, et non monomérique. De plus\, nous avons pu montrer que cette inhibition de l’agrégation été due à une activité de DNAJB6 seule\, et non\, comme nous l’avions imaginé au départ\, due à son implication dans un système contenant Hsp110 et Hsc70\, dont elle est la co-chaperonne. En effet\, la forme mutée H31Q de DNAJB6\, ne pouvant pas interagir avec Hsc70\, a montré le même effet inhibiteur que la forme sauvage. Nous avons confirmé ce point en reconstituant in vitro le système et en observant que\, contrairement à DNAJB1\, DNAJB6 ne permet pas d’activité désagrégase vis-à-vis des fibrilles d’α-syn. \nMots-clés\nalpha-synucléine ; synucléinopathie ; chaperonnes moléculaires ; DNAJB6 ; neurones \nPublication\nDe Giorgi\, F.\, Letourneur\, A.\, Kashyrina\, M.\, Zinghirino F.\, Dovero\, S.\, Dutheil\, N.\, Largitten L.\, Arotçarena\, M.\, Bezard\, E.\, Canron\, M.\, Meissner\, W.\, De Nuccio\, F.\, Ichas\, F.\, 2024. Reconsidering α-Synuclein inclusion pathology in neurons\, mice\, and humans with an antibody sensing NAC engagement during α-Synuclein amyloid conversion. (preprint)\nJury\nDr. Nocca Smet Caroline\, Université de Lille – Rapportrice\nDr. Genevaux Pierre\, Université Toulouse 3 – Rapporteur\nDr. Angot Elodie\, ROCHE – Examinatrice\nDr. Baron Thierry\, Anses Lyon – Examinateur\n
URL:https://www.bordeaux-neurocampus.fr/event/soutenance-de-these-aenora-letourneur/
CATEGORIES:IMN,Thèses
END:VEVENT
END:VCALENDAR