BEGIN:VCALENDAR
VERSION:2.0
PRODID:-//Bordeaux Neurocampus - ECPv4.9.10//NONSGML v1.0//EN
CALSCALE:GREGORIAN
METHOD:PUBLISH
X-WR-CALNAME:Bordeaux Neurocampus
X-ORIGINAL-URL:https://www.bordeaux-neurocampus.fr
X-WR-CALDESC:Évènements pour Bordeaux Neurocampus
BEGIN:VTIMEZONE
TZID:Europe/Paris
BEGIN:DAYLIGHT
TZOFFSETFROM:+0100
TZOFFSETTO:+0200
TZNAME:CEST
DTSTART:20220327T010000
END:DAYLIGHT
BEGIN:STANDARD
TZOFFSETFROM:+0200
TZOFFSETTO:+0100
TZNAME:CET
DTSTART:20221030T010000
END:STANDARD
END:VTIMEZONE
BEGIN:VEVENT
DTSTART;TZID=Europe/Paris:20221206T110000
DTEND;TZID=Europe/Paris:20221206T110000
DTSTAMP:20260422T022131
CREATED:20221124T180624Z
LAST-MODIFIED:20221124T181850Z
UID:153144-1670324400-1670324400@www.bordeaux-neurocampus.fr
SUMMARY:Seminar - Varun Venkataramani
DESCRIPTION:Venue: Centre Broca \n\nVarun Venkataramani\nDKFZ Heidelberg \nInvited by Andreas Bikfalvi (BRIC INSERM U1312 – department SBM) \nTitle\nCancer Neuroscience: a new field in Neurooncology for deciphering the interaction of the nervous system with tumors \nAbstract\nDr. Varun Venkataramani is a group leader in the Department of Functional Neuroanatomy (head of department: Prof. Thomas Kuner\, University Hospital Heidelberg) and the responsible scientist in the subgroup ‘Neuron-glioma synapses for glioma progression and therapy resistance’ in the laboratory of Prof. Frank Winkler (DKFZ Heidelberg\, University Hospital Heidelberg). He did his MD thesis developing novel methods for superresolution microscopy to characterize synapses. In his PhD he discovered and characterized synaptic contacts on glioma cells under the supervision of Prof. Frank Winkler and Prof. Thomas Kuner. Currently\, he is working on the role of synaptic contacts in brain tumor networks and other cancer entities. \n
URL:https://www.bordeaux-neurocampus.fr/event/seminar-cancer-neuroscience-a-new-field-in-neurooncology-for-deciphering-the-interaction-of-the-nervous-system-with-tumors/
CATEGORIES:A la une,Hors Bordeaux Neurocampus,Pour les scientifiques
END:VEVENT
END:VCALENDAR