BEGIN:VCALENDAR
VERSION:2.0
PRODID:-//Bordeaux Neurocampus - ECPv4.9.10//NONSGML v1.0//EN
CALSCALE:GREGORIAN
METHOD:PUBLISH
X-WR-CALNAME:Bordeaux Neurocampus
X-ORIGINAL-URL:https://www.bordeaux-neurocampus.fr
X-WR-CALDESC:Évènements pour Bordeaux Neurocampus
BEGIN:VTIMEZONE
TZID:Europe/Paris
BEGIN:DAYLIGHT
TZOFFSETFROM:+0100
TZOFFSETTO:+0200
TZNAME:CEST
DTSTART:20210328T010000
END:DAYLIGHT
BEGIN:STANDARD
TZOFFSETFROM:+0200
TZOFFSETTO:+0100
TZNAME:CET
DTSTART:20211031T010000
END:STANDARD
END:VTIMEZONE
BEGIN:VEVENT
DTSTART;TZID=Europe/Paris:20211202T180000
DTEND;TZID=Europe/Paris:20211202T193000
DTSTAMP:20260421T193753
CREATED:20211116T193904Z
LAST-MODIFIED:20211116T193904Z
UID:141089-1638468000-1638473400@www.bordeaux-neurocampus.fr
SUMMARY:Rencard du Savoir : "Sciences participatives : toutes et tous apprenti(e)s chercheur(e)s ?"
DESCRIPTION:\nLibrairie Georges\, place Alcala de Henarès à Talence. \nCafé-débat organisé par le service culture de l’université de Bordeaux. \n\nTout un chacun peut aujourd’hui aider le monde de la recherche. Qu’il s’agisse d’identifier et compter les oiseaux de son jardin\, manipuler des images du ciel ou du corps humain via des applications mobiles ou prêter son ordinateur pour des calculs partagés\, les possibilités sont (quasi) infinies.\nMais que peut-on attendre des savoirs ainsi produits ? Quels avantages et limites ont ces méthodes de recherche ?\nTitillant les notions d’expertise et de méthode scientifique\, les sciences participatives invitent à tisser de nouveaux liens entre chercheurs et citoyens. \nIntervenants : \n\nRaphaëlle Bats\, docteure en sociologie\, conservatrice de bibliothèques\, co-responsable de l’Urfist de Bordeaux\nBastien Castagneyrol\, chercheur en écologie à Biogeco (Biodiversité\, gènes & communautés – Inrae et université de Bordeaux)\, responsable du projet Tree Body Guards\nAnne Dozières\, directrice de Vigie-Nature (Muséum national d’histoire naturelle et Centre d’Ecologie et des Sciences de la Conservation)\nCharles Guttmann\, directeur du Centre d’Imagerie neurologique et professeur associé en radiologie à l’Harvard Medical School\, responsable du projet SPINE labo en ligne de neurosciences participatives\n\nAnimé par Yoann Frontout\, journaliste scientifique. \n\n\nLocalisation de l’événement\n\n
URL:https://www.bordeaux-neurocampus.fr/event/rencard-du-savoir-sciences-participatives-toutes-et-tous-apprenties-chercheures/
CATEGORIES:A la une,Evénements pour tous
END:VEVENT
END:VCALENDAR