BEGIN:VCALENDAR
VERSION:2.0
PRODID:-//Bordeaux Neurocampus - ECPv4.9.10//NONSGML v1.0//EN
CALSCALE:GREGORIAN
METHOD:PUBLISH
X-WR-CALNAME:Bordeaux Neurocampus
X-ORIGINAL-URL:https://www.bordeaux-neurocampus.fr
X-WR-CALDESC:Évènements pour Bordeaux Neurocampus
BEGIN:VTIMEZONE
TZID:Europe/Paris
BEGIN:DAYLIGHT
TZOFFSETFROM:+0100
TZOFFSETTO:+0200
TZNAME:CEST
DTSTART:20250330T010000
END:DAYLIGHT
BEGIN:STANDARD
TZOFFSETFROM:+0200
TZOFFSETTO:+0100
TZNAME:CET
DTSTART:20251026T010000
END:STANDARD
END:VTIMEZONE
BEGIN:VEVENT
DTSTART;TZID=Europe/Paris:20250617T183000
DTEND;TZID=Europe/Paris:20250617T183000
DTSTAMP:20260423T102702
CREATED:20250303T131637Z
LAST-MODIFIED:20250422T164325Z
UID:181461-1750185000-1750185000@www.bordeaux-neurocampus.fr
SUMMARY:Rencard du savoir : "La sécurité sociale de l’alimentation : on se lance quand pour de bon ?"
DESCRIPTION:Lieu : Centre social et culturel l’Estey\n20 rue Pierre et Marie Curie\, Bègles \n\nCafé-débat organisé par le service culture de l’université de Bordeaux. \nLa Sécurité sociale de l’alimentation est un concept novateur qui vise à garantir l’accès universel à une alimentation de qualité\, durable et respectueuse de l’environnement.\nInspirée du modèle de la Sécurité sociale\, elle propose de subventionner une partie de l’alimentation de chaque citoyen\, tout en soutenant des filières agricoles locales et durables.\nCe système ambitionne de lutter contre la précarité alimentaire\, de promouvoir une agriculture plus respectueuse de l’environnement\, et de redonner du pouvoir aux citoyens dans leurs choix alimentaires.\nQue donnent les expérimentations en cours dans la métropole bordelaise ? Quels sont les enjeux et comment oeuvrer pour sa mise en place à grande échelle ? \nIntervenantes\n\nJustine Bosredon\, chargée de mission pour le conseil départemental de la Gironde\nSophie Layé\, directrice de recherche INRAE en neurobiologie et nutrition à l’institut NutriNeuro à l’université de Bordeaux\nChantal Crenn\, professeure en anthropologie de l’alimentation à l’université Montpellier 3\n\nModération : Anne-Sophie Novel\, journaliste. \n
URL:https://www.bordeaux-neurocampus.fr/event/rencard-du-savoir-la-securite-sociale-de-lalimentation-on-se-lance-quand-pour-de-bon/
CATEGORIES:Evénements pour tous,pour tous homepage
END:VEVENT
END:VCALENDAR