BEGIN:VCALENDAR
VERSION:2.0
PRODID:-//Bordeaux Neurocampus - ECPv4.9.10//NONSGML v1.0//EN
CALSCALE:GREGORIAN
METHOD:PUBLISH
X-WR-CALNAME:Bordeaux Neurocampus
X-ORIGINAL-URL:https://www.bordeaux-neurocampus.fr
X-WR-CALDESC:Évènements pour Bordeaux Neurocampus
BEGIN:VTIMEZONE
TZID:Europe/Paris
BEGIN:DAYLIGHT
TZOFFSETFROM:+0100
TZOFFSETTO:+0200
TZNAME:CEST
DTSTART:20250330T010000
END:DAYLIGHT
BEGIN:STANDARD
TZOFFSETFROM:+0200
TZOFFSETTO:+0100
TZNAME:CET
DTSTART:20251026T010000
END:STANDARD
END:VTIMEZONE
BEGIN:VEVENT
DTSTART;TZID=Europe/Paris:20250312T200000
DTEND;TZID=Europe/Paris:20250312T200000
DTSTAMP:20260422T060449
CREATED:20250212T183318Z
LAST-MODIFIED:20250312T124505Z
UID:180567-1741809600-1741809600@www.bordeaux-neurocampus.fr
SUMMARY:PubHD
DESCRIPTION:Lieu : La Tencha\, 22 quai de la Monnaie – Bordeaux \n\nTrois doctorantes de l’INCIA présentent leur sujet de thèse : 10 minutes\, 0 jargon ! \nAvec :\n– Aliénor Clerfayt : « Quand la paralysie affecte la sexualité : étude chez le rat »\n– Mathilde Pain : « Comment notre regard reste stable : exemple avec une grenouille »\n– Laure Pelloux : « Vers une meilleure reconnaissance du burnout : regards croisés entre neurosciences & psychologie de la Santé » \n\nOrganisé par \n\nPubHD Bordeaux \n\nEvénement organisé dans le cadre de la Semaine du cerveau 2025 \n
URL:https://www.bordeaux-neurocampus.fr/event/pubhd-semaine-du-cerveau-2025/
CATEGORIES:Evénements pour tous,INCIA,Semaine du cerveau 2025
END:VEVENT
END:VCALENDAR