BEGIN:VCALENDAR
VERSION:2.0
PRODID:-//Bordeaux Neurocampus - ECPv4.9.10//NONSGML v1.0//EN
CALSCALE:GREGORIAN
METHOD:PUBLISH
X-WR-CALNAME:Bordeaux Neurocampus
X-ORIGINAL-URL:https://www.bordeaux-neurocampus.fr
X-WR-CALDESC:Évènements pour Bordeaux Neurocampus
BEGIN:VTIMEZONE
TZID:Europe/Paris
BEGIN:DAYLIGHT
TZOFFSETFROM:+0100
TZOFFSETTO:+0200
TZNAME:CEST
DTSTART:20210328T010000
END:DAYLIGHT
BEGIN:STANDARD
TZOFFSETFROM:+0200
TZOFFSETTO:+0100
TZNAME:CET
DTSTART:20211031T010000
END:STANDARD
END:VTIMEZONE
BEGIN:VEVENT
DTSTART;TZID=Europe/Paris:20210604T113000
DTEND;TZID=Europe/Paris:20210604T123000
DTSTAMP:20260421T173846
CREATED:20200706T183138Z
LAST-MODIFIED:20210520T101903Z
UID:123027-1622806200-1622809800@www.bordeaux-neurocampus.fr
SUMMARY:Monthly conference - Gilles Fortin
DESCRIPTION:\n	\n		\n			PhD seminar series.\nOnline. Zoom link sent by email. \n\nDissection of functional modules in the hindbrain\nI will discuss the neural bases of two comparatively simple and evolutionary conserved behavior in vertebrates: breathing and licking. Both circuits reside in the hindbrain (medulla and pons)\, a conserved sensory and motor center for the head and the autonomic nervous system. I will show that the core command circuit (rhythm generator and premotor apparatus) for breathing and for licking rely on unique neuronal types: Dbx1-derived V0 neurons for breathing and Phox2b-expressing dA3 neurons for licking. The latter provide the first anatomical and genetic identifications of the licking executive circuit in the apparently chaotic anatomy of the hindbrain subsumed under the vague term “reticular formation”. \nRelevant papers:\nThoby-Brisson M\, Karlén M\, Wu N\, Charnay P\, Champagnat J\, Fortin G. Genetic identification of an embryonic parafacial oscillator coupling to the preBötzinger. Nat Neurosci 12(8):1028-1035. \nBouvier J\, Thoby-Brisson M\, Renier N\, Dubreuil V\, Ericson J\, Champagnat J\, Pierani A\, Chédotal A\, Fortin G. Hindbrain interneurons and axon guidance signaling critical for breathing. Nat Neurosci 2010 13(9):1066-74 \nRuffault PL\, D’Autréaux F\, Hayes JA\, Nomaksteinsky M\, Autran S\, Fujiyama T\,Hoshino M\, Hägglund M\, Kiehn O\, Brunet JF\, Fortin G\, Goridis C. The retrotrapezoid nucleus neurons expressing Atoh1 and Phox2b are essential for the respiratory response to CO₂. eLife 2015 \nWu J\, Capelli P\, Bouvier J\, Goulding M\, Arber S\, Fortin G. A V0 core neuronal circuit for inspiration. Nat Commun. 2017 \n  \n\nOur monthly conferences\, organized in the frame of PhD seminar series\, are open to all Bordeaux Neurocampus staff but also anyone from the University of Bordeaux. Contact us to get the link: bordeaux_neurocampus@u-bordeaux.fr\n\nOrganized by Bordeaux Neurocampus\, NBA and Bordeaux Neurocampus Graduate Program \n\n		\n	\n\n	\n		\n			 \nGilles Fortin\nCNRS\nIBENS (Institut de Biologie de l’École Normale Supérieure) \n\n		\n	\n\n
URL:https://www.bordeaux-neurocampus.fr/event/phd-seminar-gilles-fortin/
CATEGORIES:A la une,Conférences mensuelles,Pour les scientifiques
END:VEVENT
END:VCALENDAR