BEGIN:VCALENDAR
VERSION:2.0
PRODID:-//Bordeaux Neurocampus - ECPv4.9.10//NONSGML v1.0//EN
CALSCALE:GREGORIAN
METHOD:PUBLISH
X-WR-CALNAME:Bordeaux Neurocampus
X-ORIGINAL-URL:https://www.bordeaux-neurocampus.fr
X-WR-CALDESC:Évènements pour Bordeaux Neurocampus
BEGIN:VTIMEZONE
TZID:Europe/Paris
BEGIN:DAYLIGHT
TZOFFSETFROM:+0100
TZOFFSETTO:+0200
TZNAME:CEST
DTSTART:20040328T010000
END:DAYLIGHT
BEGIN:STANDARD
TZOFFSETFROM:+0200
TZOFFSETTO:+0100
TZNAME:CET
DTSTART:20041031T010000
END:STANDARD
END:VTIMEZONE
BEGIN:VEVENT
DTSTART;VALUE=DATE:20040618
DTEND;VALUE=DATE:20040619
DTSTAMP:20260420T232715
CREATED:20040618T142856Z
LAST-MODIFIED:20201103T125159Z
UID:21885-1087516800-1087603199@www.bordeaux-neurocampus.fr
SUMMARY:HDR - Pascal Branchereau
DESCRIPTION:Role des systèmes neuromodulateurs peptidergiques et monoaminergiques dans la plasticité ontogénétique et adulte des réseaux neuronaux de vertébrés. \n\n« Très tôt au cours du développement\, les réseaux neuronaux centraux immatures expriment spontanément des activités électriques rythmiques sous-tendue par une transmission synaptique excitatrice qui implique principalement le GABA et la glycine. Au cours de l’ontogenèse\, cette transmission excitatrice GABA/glycine bascule vers une transmission inhibitrice qui va perdurer chez l’adulte et qui va être responsable de l’expression de patterns d’activités matures. Si les mécanismes cellulaires responsables de l’apparition de la transmission GABA /glycine inhibitrice sont maintenant bien connus dans beaucoup de structures du système nerveux central\, les facteurs modulateurs inductifs de ce passage excitation/inhibition restent peu connus. Mes travaux actuels\, portant sur la moelle épinière embryonnaire de souris\, visent à étudier certains facteurs modulateurs comme l’activité électrique ou la mise en place des voies descendantes\, dans le contrôle du basculement d’une transmission excitatrice à inhibitrice afin d’analyser les conséquences de ce contrôle sur la ségrégation fonctionnelle réseaux spinaux. » \n\nJury\n\nGérard Tramu\, Professeur Univ. Bordeaux 1 Président\, Rapporteur\nFrançois Clarac\, Directeur de Recherche CNRS\, Marseille  Rapporteur\nFatiha Nothias\, Directeur de Recherche  CNRS\, Paris 6  Rapporteur\nJean Champagnat\, Directeur de Recherche CNRS\, Gif-sur-Yvette Examinateur\nPierre Meyrand\, Directeur de Recherche CNRS\, Bordeaux Examinateur\n\n
URL:https://www.bordeaux-neurocampus.fr/event/hdr-pascal-branchereau/
END:VEVENT
END:VCALENDAR