BEGIN:VCALENDAR
VERSION:2.0
PRODID:-//Bordeaux Neurocampus - ECPv4.9.10//NONSGML v1.0//EN
CALSCALE:GREGORIAN
METHOD:PUBLISH
X-WR-CALNAME:Bordeaux Neurocampus
X-ORIGINAL-URL:https://www.bordeaux-neurocampus.fr
X-WR-CALDESC:Évènements pour Bordeaux Neurocampus
BEGIN:VTIMEZONE
TZID:Europe/Paris
BEGIN:DAYLIGHT
TZOFFSETFROM:+0100
TZOFFSETTO:+0200
TZNAME:CEST
DTSTART:20040328T010000
END:DAYLIGHT
BEGIN:STANDARD
TZOFFSETFROM:+0200
TZOFFSETTO:+0100
TZNAME:CET
DTSTART:20041031T010000
END:STANDARD
END:VTIMEZONE
BEGIN:VEVENT
DTSTART;VALUE=DATE:20040211
DTEND;VALUE=DATE:20040212
DTSTAMP:20260420T213503
CREATED:20040211T154054Z
LAST-MODIFIED:20201103T125154Z
UID:21893-1076457600-1076543999@www.bordeaux-neurocampus.fr
SUMMARY:HDR - Éric Boué-Grabot
DESCRIPTION:Les récepteurs du GABA et les récepteurs P2X de l’ATP. Aspects moléculaires de leur diversité fonctionnelle.\n\nLa transmission synaptique dépend d’une multitude de paramètres qui régulent non seulement la libération pré-synaptique des neurotransmetteurs mais aussi les propriétés des récepteurs post-synaptiques.\nMon activité de recherche a contribué à montrer l’importance de la composition moléculaire et des modifications post-traductionnelles telle que la phosphorylation sur les propriétés fonctionnelles des récepteurs ionotropiques du GABA et des récepteurs P2X activés par l’ATP. Il est maintenant admis que les récepteurs-canaux interagissent avec de nombreuses protéines associées. Ces complexes multiprotéiques régulent non seulement la localisation subcellulaire mais aussi la fonction des récepteurs et donc les propriétés synaptiques. Des données récentes indiquent que l’activité des récepteurs-canaux peut également être modulée directement par des interactions avec d’autres types de récepteurs (métabotropiques ou ionotropiques) qui sont co-localisés dans les mêmes neurones. La mise en évidence de synapse mixte co-libérant l’ATP (excitateur) et le GABA (inhibiteur)\, m’a amené à considérer la possibilité d’une régulation croisée entre leurs récepteurs respectifs. A la suite de l’obtention d’un poste de Chargé de recherche au CNRS\, j’ai rejoint en décembre 2000 l’UMR-CNRS 5543 dirigée par Bernard Bioulac pour « étudier les interactions fonctionnelles entre les récepteurs GABA et les récepteurs P2X » au sein du groupe «Contrôle GABAergique de l’excitabilité cellulaire». Je présenterais les résultats obtenus par des approches combinant la biologie moléculaire et l’électrophysiologie en ovocytes de xénopes qui mettent en evidence les interactions fonctionnelles et moléculaires entre les récepteurs-canaux du GABA et de l’ATP. Ces deux familles de récepteurs représentent un modèle de choix pour étudier et comprendre le rôle de ce mécanisme qui semble s’étendre à de nombreuses autres familles de récepteurs ionotropiques. \n\nJury\n\nChristophe Mulle\, directeur de Recherche CNRS\, Bordeaux\, Président\nPhilippe Séguéla\, professeur à l’université McGill\, Montréal\, Rapporteur\nRémy Schlichter\, professeur à l’université de Strasbourg\, Rapporteur\nFrançois Rassendren\, chargé de Recherche CNRS\, Montpellier\, Rapporteur\nThierry Amédée\, chargé de Recherche CNRS\, Bordeaux\, Examinateur\n\n
URL:https://www.bordeaux-neurocampus.fr/event/hdr-de-eric-boue-grabot/
CATEGORIES:HDR
END:VEVENT
END:VCALENDAR