BEGIN:VCALENDAR
VERSION:2.0
PRODID:-//Bordeaux Neurocampus - ECPv4.9.10//NONSGML v1.0//EN
CALSCALE:GREGORIAN
METHOD:PUBLISH
X-WR-CALNAME:Bordeaux Neurocampus
X-ORIGINAL-URL:https://www.bordeaux-neurocampus.fr
X-WR-CALDESC:Évènements pour Bordeaux Neurocampus
BEGIN:VTIMEZONE
TZID:Europe/Paris
BEGIN:DAYLIGHT
TZOFFSETFROM:+0100
TZOFFSETTO:+0200
TZNAME:CEST
DTSTART:20240331T010000
END:DAYLIGHT
BEGIN:STANDARD
TZOFFSETFROM:+0200
TZOFFSETTO:+0100
TZNAME:CET
DTSTART:20241027T010000
END:STANDARD
END:VTIMEZONE
BEGIN:VEVENT
DTSTART;TZID=Europe/Paris:20241128T190000
DTEND;TZID=Europe/Paris:20241128T190000
DTSTAMP:20260422T112439
CREATED:20241015T081821Z
LAST-MODIFIED:20241023T155456Z
UID:176598-1732820400-1732820400@www.bordeaux-neurocampus.fr
SUMMARY:Conférence : Peut-on vieillir en préservant sa mémoire ?
DESCRIPTION:Lieu : Domaine du Grand Darnal\n44\, rue Louis Fleuranceau\nBruges \nEntrée libre \n\nAnimée par Hélène AMIEVA\nProfesseure des universités en psychogérontologie à l’université de Bordeaux\nChercheuse au BPH (Bordeaux Population Health)\, responsable de l’équipe ACTIVE. \nA propos\nBien vieillir est une préoccupation. Si beaucoup d’efforts sont faits pour mieux comprendre ce qui est parfois appelé le vieillissement « réussi » c’est-à-dire\, avancer en âge tout en gardant son autonomie\, beaucoup de questions demeurent. La perte de mémoire est-elle inéluctable ? A quel âge doit-on commencer la prévention ? Quelles sont les pistes « sérieuses » attestées par des travaux scientifiques ? \n
URL:https://www.bordeaux-neurocampus.fr/event/conference-peut-on-vieillir-en-preservant-sa-memoire/
CATEGORIES:Evénements pour tous,pour tous homepage
END:VEVENT
END:VCALENDAR